PDS_VERSION_ID = PDS3
/* FILE DATA ELEMENTS */
RECORD_TYPE = UNDEFINED
/* POINTERS TO DATA OBJECTS */
^IMAGE = ("H8027_0000_BL4.TIF")
/* IDENTIFICATION DATA ELEMENTS */
DATA_SET_ID = "MEX-M-HRSC-4-REFDR-MAPPROJECT-EXT3-V4.0"
DATA_SET_NAME = "MARS EXPRESS HRSC MAP PROJECTED REFDR EXTENSION3 V4.0"
DETECTOR_ID = MEX_HRSC_BLUE
EVENT_TYPE = "MARS-REGIONAL-VARIABLE-Gl-At"
INSTRUMENT_HOST_ID = MEX
INSTRUMENT_HOST_NAME = "MARS EXPRESS"
INSTRUMENT_ID = HRSC
INSTRUMENT_NAME = "HIGH RESOLUTION STEREO CAMERA"
MISSION_NAME = "MARS EXPRESS"
MISSION_PHASE_NAME = ME_Phase_20
PROCESSING_LEVEL_ID = 4
PRODUCT_CREATION_TIME = 2023-02-03T04:36:48.000Z
PRODUCT_ID = "H8027_0000_BL4.TIF"
RELEASE_ID = 0004
REVISION_ID = 0000
/* QUALITY DATA ELEMENTS */
DATA_QUALITY_ID = 1
DATA_QUALITY_DESC = "Data calculated based on original SPICE kernels"
/* TIME DATA ELEMENTS */
SPACECRAFT_CLOCK_START_COUNT = "1/0218814180.08254"
SPACECRAFT_CLOCK_STOP_COUNT = "1/0218815282.24749"
START_TIME = 2010-04-08T13:44:13.293Z
STOP_TIME = 2010-04-08T13:53:26.186Z
/* ORBITAL DATA ELEMENTS */
ASCENDING_NODE_LONGITUDE = 64.08
MAXIMUM_RESOLUTION = 0.135
FOOTPRINT_POINT_LATITUDE = (77.2274,77.5652,77.7724,77.9038, 77.9073,77.945,78.8068,79.3768,79.9433, 80.5064,81.0658,81.6214,82.1731,82.7209 ,83.2645,83.8037,84.3382,84.868,85.3885 ,86.1584,86.6594,87.1472,87.6151, 88.0512,88.4323,88.7119,88.8203,88.7173 ,88.4466,88.0803,87.6649,87.2237, 86.7688,86.3065,85.8402,85.3718,84.9024 ,84.4345,83.9677,83.5021,82.576,81.6577 ,80.7481,79.8477,78.9561,78.0754, 77.2048,76.9887,76.7743,76.7443,76.6342 ,76.5012,76.3259,76.1863,75.9785, 75.6232,75.6029,75.5965,76.3983,77.2023 ,78.0065,78.8085,79.6051,80.3919, 81.1634,81.9089,82.6191,82.9567,83.279, 83.5809,83.8608,84.1144,84.3385,84.5263 ,84.6751,84.7793,84.8367,84.8433, 84.7993,84.7043,84.5604,84.3696,84.1373 ,83.8658,83.561,83.2253,82.8627,82.4763 ,82.069,81.6432,81.201,80.7441,80.274, 79.7921,79.2995,78.797,78.2855,77.7656, 77.5026,77.2274)
FOOTPRINT_POINT_LONGITUDE = (197.694,192.808,188.689,184.947,184.82 ,184.581,184.987,185.295,185.639, 186.022,186.452,186.94,187.496,188.133, 188.874,189.74,190.767,191.997,193.538, 196.574,199.355,203.082,208.283,215.874 ,227.405,244.913,268.34,291.744,309.18, 320.661,328.221,333.407,337.123,339.887 ,342.018,343.713,345.095,346.208, 347.137,347.926,349.196,350.167,350.931 ,351.546,352.057,352.47,352.814,352.891 ,352.965,349.835,345.395,342.136, 338.948,336.87,334.231,330.513,330.322, 330.258,329.078,327.715,326.131,324.278 ,322.092,319.492,316.372,312.592, 307.985,305.308,302.343,299.062,295.442 ,291.462,287.113,282.404,277.36,272.037 ,266.508,260.879,255.253,249.744, 244.448,239.453,234.781,230.487,226.538 ,222.952,219.703,216.765,214.112, 211.714,209.545,207.58,205.798,204.178, 202.702,201.354,200.119,198.986,198.452 ,197.694)
ORBIT_NUMBER = 8027
ORBITAL_ECCENTRICITY = 0.576
ORBITAL_INCLINATION = 86.84
ORBITAL_SEMIMAJOR_AXIS = 8826.25
PERIAPSIS_ALTITUDE = 355.01
PERIAPSIS_ARGUMENT_ANGLE = 31.17
PERIAPSIS_TIME = 2010-04-08T13:31:25.000Z
SPACECRAFT_ORIENTATION = (0.0,1.0,0.0)
^MEX_ORIENTATION_DESC = "MEX_ORIENTATION_DESC.TXT"
SPACECRAFT_POINTING_MODE = NADIR
^MEX_POINTING_DESC = "MEX_POINTING_DESC.TXT"
RIGHT_ASCENSION = -1e+32
DECLINATION = -1e+32
OFFSET_ANGLE = -1e+32
SPACECRAFT_SOLAR_DISTANCE = 2.49166e+08
TARGET_NAME = MARS
/* CAMERA DATA ELEMENTS */
DETECTOR_TEMPERATURE = 17.9627
FOCAL_PLANE_TEMPERATURE = 7.7677
INST_CMPRS_NAME = "DISCRETE COSINE TRANSFORMATION (DCT)"
INST_CMPRS_RATIO = 28.8852
INST_CMPRS_QUALITY = 0
INST_CMPRS_QUANTZ_TBL_ID = 0
INSTRUMENT_TEMPERATURE = 10.8262
LENS_TEMPERATURE = 8.1755
MACROPIXEL_SIZE = 4
MISSING_FRAMES = 0
PIXEL_SUBSAMPLING_FLAG = N
SIGNAL_CHAIN_ID = 2
/* RADIOMETRIC DATA ELEMENTS */
BANDWIDTH = 76.0
CENTER_FILTER_WAVELENGTH = 444.0
RADIANCE_OFFSET = 0.298667
RADIANCE_SCALING_FACTOR = 0.00755983
REFLECTANCE_SCALING_FACTOR = 0.000482218
MEX:REFLECTANCE_OFFSET = 0.019051
/* IMAGE OBJECT DEFINITIONS */
OBJECT = IMAGE
  INTERCHANGE_FORMAT = BINARY
  LINES = 15060
  LINE_SAMPLES = 3777
  SAMPLE_TYPE = UNSIGNED_INTEGER
  SAMPLE_BITS = 8
  BANDS = 1
  BAND_STORAGE_TYPE = BAND_SEQUENTIAL
  MAXIMUM = 255
  MEAN = 100.264
  MINIMUM = 1
  STANDARD_DEVIATION = 48.6855
END_OBJECT = IMAGE
/* MAP OBJECT DEFINITIONS */
OBJECT = IMAGE_MAP_PROJECTION
  ^DATA_SET_MAP_PROJECTION_CATALOG= "DSMAP.CAT"
  A_AXIS_RADIUS = 3396.0
  B_AXIS_RADIUS = 3396.0
  C_AXIS_RADIUS = 3396.0
  CENTER_LATITUDE = 90.0
  CENTER_LONGITUDE = 0.0
  COORDINATE_SYSTEM_NAME = PLANETOGRAPHIC
  COORDINATE_SYSTEM_TYPE = "BODY-FIXED ROTATING"
  EASTERNMOST_LONGITUDE = 352.965
  FIRST_STANDARD_PARALLEL = "N/A"
  LINE_FIRST_PIXEL = 1
  LINE_LAST_PIXEL = 15060
  LINE_PROJECTION_OFFSET = 7232.25
  MAP_PROJECTION_ROTATION = 0.0
  MAP_PROJECTION_TYPE = STEREOGRAPHIC
  MAP_RESOLUTION = 592.713803866667
  MAP_SCALE = 0.1
  MAXIMUM_LATITUDE = 88.8203
  MINIMUM_LATITUDE = 75.59650000000001
  POSITIVE_LONGITUDE_DIRECTION = EAST
  REFERENCE_LATITUDE = "N/A"
  REFERENCE_LONGITUDE = "N/A"
  SAMPLE_FIRST_PIXEL = 1
  SAMPLE_LAST_PIXEL = 3777
  SAMPLE_PROJECTION_OFFSET = 4322.25
  SECOND_STANDARD_PARALLEL = "N/A"
  WESTERNMOST_LONGITUDE = 184.581
END_OBJECT = IMAGE_MAP_PROJECTION
END
