PDS_VERSION_ID = PDS3
/* FILE DATA ELEMENTS */
RECORD_TYPE = UNDEFINED
/* POINTERS TO DATA OBJECTS */
^IMAGE = ("H7950_0006_BL4.TIF")
/* IDENTIFICATION DATA ELEMENTS */
DATA_SET_ID = "MEX-M-HRSC-4-REFDR-MAPPROJECT-EXT3-V4.0"
DATA_SET_NAME = "MARS EXPRESS HRSC MAP PROJECTED REFDR EXTENSION3 V4.0"
DETECTOR_ID = MEX_HRSC_BLUE
EVENT_TYPE = "MARS-CLOUD-VARIABLE-At"
INSTRUMENT_HOST_ID = MEX
INSTRUMENT_HOST_NAME = "MARS EXPRESS"
INSTRUMENT_ID = HRSC
INSTRUMENT_NAME = "HIGH RESOLUTION STEREO CAMERA"
MISSION_NAME = "MARS EXPRESS"
MISSION_PHASE_NAME = ME_Phase_20
PROCESSING_LEVEL_ID = 4
PRODUCT_CREATION_TIME = 2023-02-02T15:10:19.000Z
PRODUCT_ID = "H7950_0006_BL4.TIF"
RELEASE_ID = 0003
REVISION_ID = 0000
/* QUALITY DATA ELEMENTS */
DATA_QUALITY_ID = 1
DATA_QUALITY_DESC = "Data calculated based on original SPICE kernels"
/* TIME DATA ELEMENTS */
SPACECRAFT_CLOCK_START_COUNT = "1/0216881169.07298"
SPACECRAFT_CLOCK_STOP_COUNT = "1/0216882227.04985"
START_TIME = 2010-03-17T04:46:11.565Z
STOP_TIME = 2010-03-17T04:56:29.216Z
/* ORBITAL DATA ELEMENTS */
ASCENDING_NODE_LONGITUDE = 65.56
MAXIMUM_RESOLUTION = 0.2213
FOOTPRINT_POINT_LATITUDE = (12.0211,11.6841,11.4588,11.2329, 11.0065,10.779,10.5506,10.3214,10.0914, 9.86022,9.62788,9.39442,9.15987,8.92411 ,8.68712,8.44882,8.20907,7.96779, 7.72481,7.4802,7.23364,6.98507,6.73454, 6.48214,6.09967,6.03541,6.00489,5.2418, 4.4783,3.7137,2.94789,2.18098,1.41264, 0.257602,-1.095,-1.87043,-2.6472, -3.42733,-4.20857,-5.38507,-6.17194, -6.96198,-7.97714,-9.34962,-10.1542, -10.7621,-11.6239,-12.2629,-13.4643, -13.6998,-13.706,-13.3509,-13.0177, -12.6107,-12.2919,-11.9136,-11.5196, -11.2102,-10.8117,-10.5011,-10.2796, -9.99964,-9.63547,-9.27533,-9.06831, -8.78911,-8.57283,-8.21112,-7.86406, -7.59059,-7.34345,-7.06849,-6.79157, -6.50862,-6.3049,-6.24081,-6.20576, -5.46713,-4.75086,-3.80669,-3.0717, -2.33837,-1.60602,-0.327305,0.584455, 1.49486,2.76717,3.67483,5.12605,5.85113 ,6.75728,7.4821,8.20689,8.93176,9.65679 ,10.3821,11.1078,11.8341,12.0157, 12.0211)
FOOTPRINT_POINT_LONGITUDE = (276.183,277.379,278.166,278.945, 279.718,280.484,281.246,282.002,282.753 ,283.501,284.244,284.984,285.721, 286.455,287.187,287.916,288.644,289.371 ,290.097,290.823,291.549,292.277, 293.006,293.735,294.831,295.014,295.1, 295.073,295.047,295.022,294.999,294.977 ,294.957,294.93,294.903,294.89,294.879, 294.87,294.863,294.855,294.853,294.852, 294.871,294.866,294.877,294.889,294.934 ,294.963,294.98,295.003,295.003,294.089 ,293.19,292.079,291.198,290.111,289.027 ,288.167,287.097,286.247,285.612, 284.766,283.711,282.657,282.022,281.177 ,280.547,279.5,278.445,277.597,276.723, 275.872,275.023,274.18,273.536,273.316, 273.213,273.362,273.474,273.694,273.835 ,273.974,274.11,274.341,274.502,274.659 ,274.871,275.017,275.244,275.353, 275.487,275.591,275.693,275.792,275.888 ,275.982,276.073,276.161,276.183, 276.183)
ORBIT_NUMBER = 7950
ORBITAL_ECCENTRICITY = 0.573
ORBITAL_INCLINATION = 86.82
ORBITAL_SEMIMAJOR_AXIS = 8780.56
PERIAPSIS_ALTITUDE = 362.84
PERIAPSIS_ARGUMENT_ANGLE = 44.56
PERIAPSIS_TIME = 2010-03-17T03:38:11.000Z
SPACECRAFT_ORIENTATION = (0.0,1.0,0.0)
^MEX_ORIENTATION_DESC = "MEX_ORIENTATION_DESC.TXT"
SPACECRAFT_POINTING_MODE = INERT
^MEX_POINTING_DESC = "MEX_POINTING_DESC.TXT"
RIGHT_ASCENSION = 250.176
DECLINATION = -73.696
OFFSET_ANGLE = -1e+32
SPACECRAFT_SOLAR_DISTANCE = 2.49079e+08
TARGET_NAME = MARS
/* CAMERA DATA ELEMENTS */
DETECTOR_TEMPERATURE = 21.429
FOCAL_PLANE_TEMPERATURE = 8.7872
INST_CMPRS_NAME = "DISCRETE COSINE TRANSFORMATION (DCT)"
INST_CMPRS_RATIO = 4.33706
INST_CMPRS_QUALITY = 0
INST_CMPRS_QUANTZ_TBL_ID = 0
INSTRUMENT_TEMPERATURE = 15.9237
LENS_TEMPERATURE = 9.8067
MACROPIXEL_SIZE = 1
MISSING_FRAMES = 0
PIXEL_SUBSAMPLING_FLAG = N
SIGNAL_CHAIN_ID = 1
/* RADIOMETRIC DATA ELEMENTS */
BANDWIDTH = 76.0
CENTER_FILTER_WAVELENGTH = 444.0
RADIANCE_OFFSET = 0.355311
RADIANCE_SCALING_FACTOR = 0.00390826
REFLECTANCE_SCALING_FACTOR = 0.000249124
MEX:REFLECTANCE_OFFSET = 0.0226486
/* IMAGE OBJECT DEFINITIONS */
OBJECT = IMAGE
  INTERCHANGE_FORMAT = BINARY
  LINES = 7623
  LINE_SAMPLES = 6453
  SAMPLE_TYPE = UNSIGNED_INTEGER
  SAMPLE_BITS = 8
  BANDS = 1
  BAND_STORAGE_TYPE = BAND_SEQUENTIAL
  MAXIMUM = 255
  MEAN = 143.852
  MINIMUM = 1
  STANDARD_DEVIATION = 34.2134
END_OBJECT = IMAGE
/* MAP OBJECT DEFINITIONS */
OBJECT = IMAGE_MAP_PROJECTION
  ^DATA_SET_MAP_PROJECTION_CATALOG= "DSMAP.CAT"
  A_AXIS_RADIUS = 3396.0
  B_AXIS_RADIUS = 3396.0
  C_AXIS_RADIUS = 3396.0
  CENTER_LATITUDE = 0.0
  CENTER_LONGITUDE = 285.0
  COORDINATE_SYSTEM_NAME = PLANETOGRAPHIC
  COORDINATE_SYSTEM_TYPE = "BODY-FIXED ROTATING"
  EASTERNMOST_LONGITUDE = 295.1
  FIRST_STANDARD_PARALLEL = "N/A"
  LINE_FIRST_PIXEL = 1
  LINE_LAST_PIXEL = 7623
  LINE_PROJECTION_OFFSET = 3562.0
  MAP_PROJECTION_ROTATION = 0.0
  MAP_PROJECTION_TYPE = SINUSOIDAL
  MAP_RESOLUTION = 296.356901933333
  MAP_SCALE = 0.2
  MAXIMUM_LATITUDE = 12.0211
  MINIMUM_LATITUDE = -13.706
  POSITIVE_LONGITUDE_DIRECTION = EAST
  REFERENCE_LATITUDE = "N/A"
  REFERENCE_LONGITUDE = "N/A"
  SAMPLE_FIRST_PIXEL = 1
  SAMPLE_LAST_PIXEL = 6453
  SAMPLE_PROJECTION_OFFSET = 3475.0
  SECOND_STANDARD_PARALLEL = "N/A"
  WESTERNMOST_LONGITUDE = 273.213
END_OBJECT = IMAGE_MAP_PROJECTION
END
