PDS_VERSION_ID = PDS3
/* FILE DATA ELEMENTS */
RECORD_TYPE = UNDEFINED
/* POINTERS TO DATA OBJECTS */
^IMAGE = ("H7915_0000_S24.TIF")
/* IDENTIFICATION DATA ELEMENTS */
DATA_SET_ID = "MEX-M-HRSC-4-REFDR-MAPPROJECT-EXT3-V4.0"
DATA_SET_NAME = "MARS EXPRESS HRSC MAP PROJECTED REFDR EXTENSION3 V4.0"
DETECTOR_ID = MEX_HRSC_S2
EVENT_TYPE = "MARS-REGIONAL-VARIABLE-Gl-At"
INSTRUMENT_HOST_ID = MEX
INSTRUMENT_HOST_NAME = "MARS EXPRESS"
INSTRUMENT_ID = HRSC
INSTRUMENT_NAME = "HIGH RESOLUTION STEREO CAMERA"
MISSION_NAME = "MARS EXPRESS"
MISSION_PHASE_NAME = ME_Phase_20
PROCESSING_LEVEL_ID = 4
PRODUCT_CREATION_TIME = 2023-02-02T15:10:19.000Z
PRODUCT_ID = "H7915_0000_S24.TIF"
RELEASE_ID = 0003
REVISION_ID = 0000
/* QUALITY DATA ELEMENTS */
DATA_QUALITY_ID = 1
DATA_QUALITY_DESC = "Data calculated based on original SPICE kernels"
/* TIME DATA ELEMENTS */
SPACECRAFT_CLOCK_START_COUNT = "1/0216001274.09031"
SPACECRAFT_CLOCK_STOP_COUNT = "1/0216001799.16796"
START_TIME = 2010-03-07T00:21:16.640Z
STOP_TIME = 2010-03-07T00:26:58.396Z
/* ORBITAL DATA ELEMENTS */
ASCENDING_NODE_LONGITUDE = 66.25
MAXIMUM_RESOLUTION = 0.0445
FOOTPRINT_POINT_LATITUDE = (79.9838,80.1406,80.2732,80.3953,80.398 ,80.4875,81.1271,81.992,82.8731,83.7729 ,84.6919,85.6305,86.1064,86.5876, 87.0712,87.5633,88.0575,88.5521,89.0427 ,89.4838,89.6103,89.241,88.7577,88.2509 ,87.7335,87.2144,86.692,85.9008,85.372, 84.8389,84.3068,83.7702,83.2337,82.692, 82.1512,81.3282,80.7828,80.2341,79.6845 ,79.1315,78.5773,78.0193,77.4601,76.898 ,76.3334,75.7639,75.1928,74.6184,74.041 ,73.7512,73.6834,73.7857,73.8228, 73.8236,73.7941,73.7485,73.7448,73.7444 ,74.5846,75.1414,75.6934,76.2429,76.788 ,77.6012,78.1386,78.673,79.2038,79.7296 ,80.2523,81.0299,81.5406,82.0495, 82.8027,83.2943,83.7752,84.2455,84.9304 ,85.3692,85.7829,86.1693,86.5177, 86.8177,87.0556,87.2152,87.2847,87.2571 ,87.1353,86.9334,86.5141,86.1843, 85.6367,85.2482,84.4451,83.6195,82.7886 ,81.9567,81.1302,80.3091,80.1068, 79.9838)
FOOTPRINT_POINT_LONGITUDE = (99.3822,96.3544,93.1737,89.2005, 89.0931,88.4838,88.6548,88.9313,89.2786 ,89.7198,90.314,91.1711,91.7558,92.5318 ,93.5752,95.0183,97.2307,100.979, 108.707,130.869,199.026,238.317,249.82, 254.821,257.62,259.337,260.525,261.78, 262.374,262.868,263.255,263.596,263.877 ,264.134,264.348,264.654,264.812, 264.959,265.09,265.213,265.325,265.433, 265.532,265.625,265.714,265.802,265.884 ,265.964,266.04,266.077,266.086,262.905 ,260.649,257.206,255.282,253.51,253.393 ,253.35,252.837,252.464,252.065,251.634 ,251.17,250.397,249.827,249.202,248.519 ,247.769,246.938,245.511,244.424, 243.189,241.012,239.303,237.343,235.068 ,230.862,227.36,223.195,218.154,212.082 ,204.783,196.146,186.349,175.64,164.853 ,154.617,145.557,134.476,128.698, 121.848,118.231,112.675,108.63,105.589, 103.228,101.35,99.8225,99.4875,99.3822)
ORBIT_NUMBER = 7915
ORBITAL_ECCENTRICITY = 0.573
ORBITAL_INCLINATION = 86.83
ORBITAL_SEMIMAJOR_AXIS = 8771.97
PERIAPSIS_ALTITUDE = 364.97
PERIAPSIS_ARGUMENT_ANGLE = 50.61
PERIAPSIS_TIME = 2010-03-07T00:13:47.000Z
SPACECRAFT_ORIENTATION = (0.0,1.0,0.0)
^MEX_ORIENTATION_DESC = "MEX_ORIENTATION_DESC.TXT"
SPACECRAFT_POINTING_MODE = INERT
^MEX_POINTING_DESC = "MEX_POINTING_DESC.TXT"
RIGHT_ASCENSION = 230.525
DECLINATION = -77.489
OFFSET_ANGLE = -1e+32
SPACECRAFT_SOLAR_DISTANCE = 2.48795e+08
TARGET_NAME = MARS
/* CAMERA DATA ELEMENTS */
DETECTOR_TEMPERATURE = 18.3705
FOCAL_PLANE_TEMPERATURE = 8.1755
INST_CMPRS_NAME = "DISCRETE COSINE TRANSFORMATION (DCT)"
INST_CMPRS_RATIO = 13.397
INST_CMPRS_QUALITY = 0
INST_CMPRS_QUANTZ_TBL_ID = 0
INSTRUMENT_TEMPERATURE = 11.0301
LENS_TEMPERATURE = 8.5833
MACROPIXEL_SIZE = 2
MISSING_FRAMES = 0
PIXEL_SUBSAMPLING_FLAG = N
SIGNAL_CHAIN_ID = 1
/* RADIOMETRIC DATA ELEMENTS */
BANDWIDTH = 178.0
CENTER_FILTER_WAVELENGTH = 679.0
RADIANCE_OFFSET = 2.34383
RADIANCE_SCALING_FACTOR = 0.0370363
REFLECTANCE_SCALING_FACTOR = 0.00121406
MEX:REFLECTANCE_OFFSET = 0.0768315
/* IMAGE OBJECT DEFINITIONS */
OBJECT = IMAGE
  INTERCHANGE_FORMAT = BINARY
  LINES = 6375
  LINE_SAMPLES = 30854
  SAMPLE_TYPE = UNSIGNED_INTEGER
  SAMPLE_BITS = 8
  BANDS = 1
  BAND_STORAGE_TYPE = BAND_SEQUENTIAL
  MAXIMUM = 255
  MEAN = 147.335
  MINIMUM = 1
  STANDARD_DEVIATION = 51.5037
END_OBJECT = IMAGE
/* MAP OBJECT DEFINITIONS */
OBJECT = IMAGE_MAP_PROJECTION
  ^DATA_SET_MAP_PROJECTION_CATALOG= "DSMAP.CAT"
  A_AXIS_RADIUS = 3396.0
  B_AXIS_RADIUS = 3396.0
  C_AXIS_RADIUS = 3396.0
  CENTER_LATITUDE = 90.0
  CENTER_LONGITUDE = 0.0
  COORDINATE_SYSTEM_NAME = PLANETOGRAPHIC
  COORDINATE_SYSTEM_TYPE = "BODY-FIXED ROTATING"
  EASTERNMOST_LONGITUDE = 266.086
  FIRST_STANDARD_PARALLEL = "N/A"
  LINE_FIRST_PIXEL = 1
  LINE_LAST_PIXEL = 6375
  LINE_PROJECTION_OFFSET = 5791.25
  MAP_PROJECTION_ROTATION = 0.0
  MAP_PROJECTION_TYPE = STEREOGRAPHIC
  MAP_RESOLUTION = 1185.42760773333
  MAP_SCALE = 0.05
  MAXIMUM_LATITUDE = 89.6103
  MINIMUM_LATITUDE = 73.68340000000001
  POSITIVE_LONGITUDE_DIRECTION = EAST
  REFERENCE_LATITUDE = "N/A"
  REFERENCE_LONGITUDE = "N/A"
  SAMPLE_FIRST_PIXEL = 1
  SAMPLE_LAST_PIXEL = 30854
  SAMPLE_PROJECTION_OFFSET = 19232.25
  SECOND_STANDARD_PARALLEL = "N/A"
  WESTERNMOST_LONGITUDE = 88.4838
END_OBJECT = IMAGE_MAP_PROJECTION
END
