PDS_VERSION_ID = PDS3
/* FILE DATA ELEMENTS */
RECORD_TYPE = UNDEFINED
/* POINTERS TO DATA OBJECTS */
^IMAGE = ("H7915_0000_S14.TIF")
/* IDENTIFICATION DATA ELEMENTS */
DATA_SET_ID = "MEX-M-HRSC-4-REFDR-MAPPROJECT-EXT3-V4.0"
DATA_SET_NAME = "MARS EXPRESS HRSC MAP PROJECTED REFDR EXTENSION3 V4.0"
DETECTOR_ID = MEX_HRSC_S1
EVENT_TYPE = "MARS-REGIONAL-VARIABLE-Gl-At"
INSTRUMENT_HOST_ID = MEX
INSTRUMENT_HOST_NAME = "MARS EXPRESS"
INSTRUMENT_ID = HRSC
INSTRUMENT_NAME = "HIGH RESOLUTION STEREO CAMERA"
MISSION_NAME = "MARS EXPRESS"
MISSION_PHASE_NAME = ME_Phase_20
PROCESSING_LEVEL_ID = 4
PRODUCT_CREATION_TIME = 2023-02-02T15:10:19.000Z
PRODUCT_ID = "H7915_0000_S14.TIF"
RELEASE_ID = 0003
REVISION_ID = 0000
/* QUALITY DATA ELEMENTS */
DATA_QUALITY_ID = 1
DATA_QUALITY_DESC = "Data calculated based on original SPICE kernels"
/* TIME DATA ELEMENTS */
SPACECRAFT_CLOCK_START_COUNT = "1/0216001274.09031"
SPACECRAFT_CLOCK_STOP_COUNT = "1/0216001799.16796"
START_TIME = 2010-03-07T00:23:00.981Z
STOP_TIME = 2010-03-07T00:29:59.759Z
/* ORBITAL DATA ELEMENTS */
ASCENDING_NODE_LONGITUDE = 66.25
MAXIMUM_RESOLUTION = 0.0552
FOOTPRINT_POINT_LATITUDE = (80.3049,80.4363,80.5185,80.5453, 80.5449,80.3644,80.887,81.4177,82.2112, 82.7371,83.2642,83.7881,84.5738,85.0961 ,85.6166,86.1358,86.916,87.4365,87.9533 ,88.7276,89.2421,89.7509,89.719,89.2108 ,88.6995,88.1885,87.6784,86.9136, 86.4035,85.8883,85.3802,84.619,84.1108, 83.6045,83.0971,82.5916,82.0851,81.5794 ,81.0751,80.5696,80.0644,79.5593, 79.0546,78.5499,78.0457,77.2894,76.2817 ,75.2747,74.2679,74.0162,73.9669, 73.9476,73.9087,73.8501,73.7561,73.6575 ,73.5418,73.534,73.532,74.5236,75.5135, 76.7476,77.4864,78.4683,79.4457,79.9325 ,80.6589,81.1406,81.6204,82.0961, 82.5667,83.0348,83.4976,83.9508,84.3971 ,85.2555,85.8482,86.2101,86.5335, 86.8078,87.0199,87.1875,87.1855,87.091, 86.911,86.6615,86.3522,85.8125,85.4134, 84.9885,84.3236,83.6304,83.1553,82.4287 ,81.9366,81.4381,80.9375,80.4359, 80.1861,80.3049)
FOOTPRINT_POINT_LONGITUDE = (99.8125,95.8171,91.6317,86.455,86.3162 ,85.5362,85.5616,85.5974,85.6553, 85.6901,85.7436,85.7903,85.8875,85.9659 ,86.0518,86.1527,86.414,86.7067,87.0718 ,88.2008,90.2179,100.466,251.883, 260.567,262.445,263.275,263.755,264.173 ,264.338,264.479,264.594,264.729, 264.783,264.851,264.889,264.946,264.977 ,265.011,265.059,265.084,265.106, 265.124,265.143,265.159,265.177,265.198 ,265.226,265.253,265.279,265.285, 265.286,262.739,260.63,258.562,256.158, 254.181,252.249,252.13,252.086,251.494, 250.815,249.814,249.114,248.033,246.743 ,246.0,244.737,243.776,242.702,241.495, 240.132,238.578,236.797,234.748,232.357 ,226.205,219.989,214.785,208.55,201.127 ,192.444,177.568,167.092,156.976, 147.688,139.683,132.819,124.671,120.349 ,116.704,112.323,108.874,106.963, 104.549,103.184,101.972,100.901,99.948, 99.5121,99.8125)
ORBIT_NUMBER = 7915
ORBITAL_ECCENTRICITY = 0.573
ORBITAL_INCLINATION = 86.83
ORBITAL_SEMIMAJOR_AXIS = 8771.97
PERIAPSIS_ALTITUDE = 364.97
PERIAPSIS_ARGUMENT_ANGLE = 50.61
PERIAPSIS_TIME = 2010-03-07T00:13:47.000Z
SPACECRAFT_ORIENTATION = (0.0,1.0,0.0)
^MEX_ORIENTATION_DESC = "MEX_ORIENTATION_DESC.TXT"
SPACECRAFT_POINTING_MODE = INERT
^MEX_POINTING_DESC = "MEX_POINTING_DESC.TXT"
RIGHT_ASCENSION = 230.525
DECLINATION = -77.489
OFFSET_ANGLE = -1e+32
SPACECRAFT_SOLAR_DISTANCE = 2.48795e+08
TARGET_NAME = MARS
/* CAMERA DATA ELEMENTS */
DETECTOR_TEMPERATURE = 17.5549
FOCAL_PLANE_TEMPERATURE = 8.1755
INST_CMPRS_NAME = "DISCRETE COSINE TRANSFORMATION (DCT)"
INST_CMPRS_RATIO = 9.70291
INST_CMPRS_QUALITY = 0
INST_CMPRS_QUANTZ_TBL_ID = 0
INSTRUMENT_TEMPERATURE = 11.0301
LENS_TEMPERATURE = 8.5833
MACROPIXEL_SIZE = 2
MISSING_FRAMES = 1
PIXEL_SUBSAMPLING_FLAG = N
SIGNAL_CHAIN_ID = 1
/* RADIOMETRIC DATA ELEMENTS */
BANDWIDTH = 180.0
CENTER_FILTER_WAVELENGTH = 677.0
RADIANCE_OFFSET = 2.6093
RADIANCE_SCALING_FACTOR = 0.0343709
REFLECTANCE_SCALING_FACTOR = 0.00110998
MEX:REFLECTANCE_OFFSET = 0.0842654
/* IMAGE OBJECT DEFINITIONS */
OBJECT = IMAGE
  INTERCHANGE_FORMAT = BINARY
  LINES = 6375
  LINE_SAMPLES = 30854
  SAMPLE_TYPE = UNSIGNED_INTEGER
  SAMPLE_BITS = 8
  BANDS = 1
  BAND_STORAGE_TYPE = BAND_SEQUENTIAL
  MAXIMUM = 255
  MEAN = 143.462
  MINIMUM = 1
  STANDARD_DEVIATION = 48.4958
END_OBJECT = IMAGE
/* MAP OBJECT DEFINITIONS */
OBJECT = IMAGE_MAP_PROJECTION
  ^DATA_SET_MAP_PROJECTION_CATALOG= "DSMAP.CAT"
  A_AXIS_RADIUS = 3396.0
  B_AXIS_RADIUS = 3396.0
  C_AXIS_RADIUS = 3396.0
  CENTER_LATITUDE = 90.0
  CENTER_LONGITUDE = 0.0
  COORDINATE_SYSTEM_NAME = PLANETOGRAPHIC
  COORDINATE_SYSTEM_TYPE = "BODY-FIXED ROTATING"
  EASTERNMOST_LONGITUDE = 265.286
  FIRST_STANDARD_PARALLEL = "N/A"
  LINE_FIRST_PIXEL = 1
  LINE_LAST_PIXEL = 6375
  LINE_PROJECTION_OFFSET = 5791.25
  MAP_PROJECTION_ROTATION = 0.0
  MAP_PROJECTION_TYPE = STEREOGRAPHIC
  MAP_RESOLUTION = 1185.42760773333
  MAP_SCALE = 0.05
  MAXIMUM_LATITUDE = 89.7509
  MINIMUM_LATITUDE = 73.532
  POSITIVE_LONGITUDE_DIRECTION = EAST
  REFERENCE_LATITUDE = "N/A"
  REFERENCE_LONGITUDE = "N/A"
  SAMPLE_FIRST_PIXEL = 1
  SAMPLE_LAST_PIXEL = 30854
  SAMPLE_PROJECTION_OFFSET = 19232.25
  SECOND_STANDARD_PARALLEL = "N/A"
  WESTERNMOST_LONGITUDE = 85.53619999999999
END_OBJECT = IMAGE_MAP_PROJECTION
END
