PDS_VERSION_ID = PDS3
/* FILE DATA ELEMENTS */
RECORD_TYPE = UNDEFINED
/* POINTERS TO DATA OBJECTS */
^IMAGE = ("H7814_0000_S24.TIF")
/* IDENTIFICATION DATA ELEMENTS */
DATA_SET_ID = "MEX-M-HRSC-4-REFDR-MAPPROJECT-EXT3-V4.0"
DATA_SET_NAME = "MARS EXPRESS HRSC MAP PROJECTED REFDR EXTENSION3 V4.0"
DETECTOR_ID = MEX_HRSC_S2
EVENT_TYPE = "MARS-REGIONAL-MAPPING-Gl-Pf-At"
INSTRUMENT_HOST_ID = MEX
INSTRUMENT_HOST_NAME = "MARS EXPRESS"
INSTRUMENT_ID = HRSC
INSTRUMENT_NAME = "HIGH RESOLUTION STEREO CAMERA"
MISSION_NAME = "MARS EXPRESS"
MISSION_PHASE_NAME = ME_Phase_20
PROCESSING_LEVEL_ID = 4
PRODUCT_CREATION_TIME = 2023-02-02T15:10:19.000Z
PRODUCT_ID = "H7814_0000_S24.TIF"
RELEASE_ID = 0003
REVISION_ID = 0000
/* QUALITY DATA ELEMENTS */
DATA_QUALITY_ID = 1
DATA_QUALITY_DESC = "Data calculated based on original SPICE kernels"
/* TIME DATA ELEMENTS */
SPACECRAFT_CLOCK_START_COUNT = "1/0213481918.09061"
SPACECRAFT_CLOCK_STOP_COUNT = "1/0213482264.09040"
START_TIME = 2010-02-05T20:32:00.624Z
STOP_TIME = 2010-02-05T20:35:31.025Z
/* ORBITAL DATA ELEMENTS */
ASCENDING_NODE_LONGITUDE = 68.19
MAXIMUM_RESOLUTION = 0.0432
FOOTPRINT_POINT_LATITUDE = (82.428,82.7178,83.0533,83.1646,83.1701 ,83.092,82.3234,81.7995,81.2634,80.8539 ,80.4386,79.8816,79.4549,78.8815, 78.5891,78.2953,78.001,77.7011,77.3998, 77.0979,76.7905,76.482,76.1708,75.8553, 75.5392,75.2193,74.8963,74.5711,74.2414 ,73.9107,73.5793,73.2474,72.9146, 72.5811,72.247,71.9114,71.5766,71.24, 70.7345,70.3961,70.057,69.7173,69.3765, 69.0352,68.6926,68.3495,67.8337,67.661, 67.659,67.6221,67.576,67.5299,67.4678, 67.4047,67.3199,67.3148,67.314,67.8272, 68.1677,68.5074,68.8464,69.1842,69.6897 ,70.0251,70.3596,70.6931,71.0259,71.358 ,71.6889,72.0191,72.3483,72.6768,73.004 ,73.3304,73.6559,73.9804,74.3027,74.62, 74.936,75.2463,75.5553,75.8621,76.1638, 76.4644,76.7609,77.054,77.3462,77.6342, 77.9189,78.2024,78.7576,79.4381,79.969, 80.3604,80.8699,81.248,81.7345,82.2067, 82.3219,82.428)
FOOTPRINT_POINT_LONGITUDE = (24.4867,28.3758,34.1972,36.6554,36.787 ,37.4157,39.5439,40.7534,41.8327, 42.5757,43.2581,44.0747,44.6416,45.331, 45.655,45.9639,46.2575,46.5417,46.8137, 47.073,47.3241,47.5646,47.7966,48.0206, 48.2351,48.4425,48.643,48.8363,49.0236, 49.2039,49.3772,49.5436,49.7041,49.8586 ,50.0073,50.1518,50.2894,50.4237, 50.6157,50.7391,50.8584,50.9738,51.086, 51.1944,51.3001,51.4025,51.5501,51.5983 ,51.5988,50.3334,49.1404,48.1517, 47.0361,46.0574,44.8897,44.8251,44.8015 ,44.5981,44.4567,44.3104,44.1591, 44.0024,43.757,43.5859,43.4086,43.2247, 43.0339,42.836,42.6304,42.4169,42.1949, 41.9641,41.7239,41.4739,41.2134,40.942, 40.6601,40.3697,40.0667,39.7554,39.4307 ,39.0927,38.7443,38.38,38.0028,37.6109, 37.2005,36.775,36.3323,35.8678,34.8831, 33.5195,32.3105,31.328,29.898,28.7268, 27.0193,25.1199,24.6138,24.4867)
ORBIT_NUMBER = 7814
ORBITAL_ECCENTRICITY = 0.568
ORBITAL_INCLINATION = 86.83
ORBITAL_SEMIMAJOR_AXIS = 8692.16
PERIAPSIS_ALTITUDE = 372.86
PERIAPSIS_ARGUMENT_ANGLE = 68.19
PERIAPSIS_TIME = 2010-02-05T20:25:05.000Z
SPACECRAFT_ORIENTATION = (0.0,1.0,0.0)
^MEX_ORIENTATION_DESC = "MEX_ORIENTATION_DESC.TXT"
SPACECRAFT_POINTING_MODE = INERT
^MEX_POINTING_DESC = "MEX_POINTING_DESC.TXT"
RIGHT_ASCENSION = 155.911
DECLINATION = -73.394
OFFSET_ANGLE = -1e+32
SPACECRAFT_SOLAR_DISTANCE = 2.47145e+08
TARGET_NAME = MARS
/* CAMERA DATA ELEMENTS */
DETECTOR_TEMPERATURE = 18.5744
FOCAL_PLANE_TEMPERATURE = 7.7677
INST_CMPRS_NAME = "DISCRETE COSINE TRANSFORMATION (DCT)"
INST_CMPRS_RATIO = 12.9704
INST_CMPRS_QUALITY = 0
INST_CMPRS_QUANTZ_TBL_ID = 0
INSTRUMENT_TEMPERATURE = 11.0301
LENS_TEMPERATURE = 8.1755
MACROPIXEL_SIZE = 2
MISSING_FRAMES = 0
PIXEL_SUBSAMPLING_FLAG = N
SIGNAL_CHAIN_ID = 1
/* RADIOMETRIC DATA ELEMENTS */
BANDWIDTH = 178.0
CENTER_FILTER_WAVELENGTH = 679.0
RADIANCE_OFFSET = 5.7953
RADIANCE_SCALING_FACTOR = 0.0230107
REFLECTANCE_SCALING_FACTOR = 0.00074433
MEX:REFLECTANCE_OFFSET = 0.187461
/* IMAGE OBJECT DEFINITIONS */
OBJECT = IMAGE
  INTERCHANGE_FORMAT = BINARY
  LINES = 18741
  LINE_SAMPLES = 6576
  SAMPLE_TYPE = UNSIGNED_INTEGER
  SAMPLE_BITS = 8
  BANDS = 1
  BAND_STORAGE_TYPE = BAND_SEQUENTIAL
  MAXIMUM = 255
  MEAN = 117.675
  MINIMUM = 1
  STANDARD_DEVIATION = 47.683
END_OBJECT = IMAGE
/* MAP OBJECT DEFINITIONS */
OBJECT = IMAGE_MAP_PROJECTION
  ^DATA_SET_MAP_PROJECTION_CATALOG= "DSMAP.CAT"
  A_AXIS_RADIUS = 3396.0
  B_AXIS_RADIUS = 3396.0
  C_AXIS_RADIUS = 3396.0
  CENTER_LATITUDE = 0.0
  CENTER_LONGITUDE = 44.0
  COORDINATE_SYSTEM_NAME = PLANETOGRAPHIC
  COORDINATE_SYSTEM_TYPE = "BODY-FIXED ROTATING"
  EASTERNMOST_LONGITUDE = 51.5988
  FIRST_STANDARD_PARALLEL = "N/A"
  LINE_FIRST_PIXEL = 1
  LINE_LAST_PIXEL = 18741
  LINE_PROJECTION_OFFSET = 98526.25
  MAP_PROJECTION_ROTATION = 0.0
  MAP_PROJECTION_TYPE = SINUSOIDAL
  MAP_RESOLUTION = 1185.42760773333
  MAP_SCALE = 0.05
  MAXIMUM_LATITUDE = 83.17010000000001
  MINIMUM_LATITUDE = 67.31399999999999
  POSITIVE_LONGITUDE_DIRECTION = EAST
  REFERENCE_LATITUDE = "N/A"
  REFERENCE_LONGITUDE = "N/A"
  SAMPLE_FIRST_PIXEL = 1
  SAMPLE_LAST_PIXEL = 6576
  SAMPLE_PROJECTION_OFFSET = 3137.75
  SECOND_STANDARD_PARALLEL = "N/A"
  WESTERNMOST_LONGITUDE = 24.4867
END_OBJECT = IMAGE_MAP_PROJECTION
END
