PDS_VERSION_ID = PDS3
/* FILE DATA ELEMENTS */
RECORD_TYPE = UNDEFINED
/* POINTERS TO DATA OBJECTS */
^IMAGE = ("H7814_0000_RE4.TIF")
/* IDENTIFICATION DATA ELEMENTS */
DATA_SET_ID = "MEX-M-HRSC-4-REFDR-MAPPROJECT-EXT3-V4.0"
DATA_SET_NAME = "MARS EXPRESS HRSC MAP PROJECTED REFDR EXTENSION3 V4.0"
DETECTOR_ID = MEX_HRSC_RED
EVENT_TYPE = "MARS-REGIONAL-MAPPING-Gl-Pf-At"
INSTRUMENT_HOST_ID = MEX
INSTRUMENT_HOST_NAME = "MARS EXPRESS"
INSTRUMENT_ID = HRSC
INSTRUMENT_NAME = "HIGH RESOLUTION STEREO CAMERA"
MISSION_NAME = "MARS EXPRESS"
MISSION_PHASE_NAME = ME_Phase_20
PROCESSING_LEVEL_ID = 4
PRODUCT_CREATION_TIME = 2023-02-02T15:10:19.000Z
PRODUCT_ID = "H7814_0000_RE4.TIF"
RELEASE_ID = 0003
REVISION_ID = 0000
/* QUALITY DATA ELEMENTS */
DATA_QUALITY_ID = 1
DATA_QUALITY_DESC = "Data calculated based on original SPICE kernels"
/* TIME DATA ELEMENTS */
SPACECRAFT_CLOCK_START_COUNT = "1/0213481918.09061"
SPACECRAFT_CLOCK_STOP_COUNT = "1/0213482264.09040"
START_TIME = 2010-02-05T20:32:07.587Z
STOP_TIME = 2010-02-05T20:35:41.478Z
/* ORBITAL DATA ELEMENTS */
ASCENDING_NODE_LONGITUDE = 68.19
MAXIMUM_RESOLUTION = 0.0862
FOOTPRINT_POINT_LATITUDE = (82.4084,82.6601,82.9823,83.1513, 83.1566,83.0957,82.4535,82.0608,81.5278 ,81.1204,80.5728,80.1545,79.7301, 79.1582,78.8682,78.5776,78.2817,77.9846 ,77.6869,77.3835,77.0792,76.7726, 76.4616,76.1499,75.8345,75.5163,75.1961 ,74.8712,74.5457,74.2197,73.893,73.5657 ,73.238,72.9094,72.5803,72.2507,71.9198 ,71.5895,71.0915,70.7596,70.4263, 70.0925,69.7581,69.2549,68.7503,68.4129 ,67.9061,67.7365,67.6718,67.6463, 67.6101,67.566,67.4925,67.4256,67.3313, 67.3265,67.3267,67.8309,68.1658,68.4998 ,68.8331,69.1656,69.4975,69.8283, 70.1585,70.4876,70.8158,71.1435,71.4704 ,71.7964,72.1218,72.4465,72.7701, 73.0929,73.4149,73.7364,74.0567,74.5357 ,74.8536,75.1655,75.4765,75.783,76.0869 ,76.39,76.6866,76.9824,77.275,77.5635, 77.8511,78.1351,78.6942,79.1055,79.646, 80.1714,80.6906,81.1944,81.6842,82.1587 ,82.2758,82.4084)
FOOTPRINT_POINT_LONGITUDE = (24.5087,27.842,33.1954,36.8177,36.946, 37.5116,39.3091,40.2614,41.4,42.1833, 43.1057,43.7454,44.3376,45.0576,45.3938 ,45.7125,46.0204,46.3136,46.5929, 46.8639,47.1222,47.3701,47.61,47.8395, 48.0609,48.2745,48.4797,48.6789,48.87, 49.053,49.2291,49.3984,49.5609,49.7178, 49.8687,50.0141,50.1553,50.29,50.4851, 50.6089,50.7294,50.846,50.9588,51.122, 51.2777,51.3778,51.5221,51.569,51.5867, 50.6872,49.6592,48.6371,47.2387,46.1651 ,44.8464,44.7838,44.7622,44.5621,44.423 ,44.2792,44.1304,43.9764,43.817,43.6518 ,43.4808,43.3034,43.1195,42.9288, 42.7308,42.5253,42.3118,42.09,41.8592, 41.6192,41.3693,41.109,40.8377,40.4088, 40.1074,39.7977,39.4742,39.1402,38.7929 ,38.4296,38.056,37.6649,37.2581,36.8363 ,36.3941,35.9336,34.9527,34.1598,33.011 ,31.7565,30.3682,28.8408,27.1433, 25.2575,24.7498,24.5087)
ORBIT_NUMBER = 7814
ORBITAL_ECCENTRICITY = 0.568
ORBITAL_INCLINATION = 86.83
ORBITAL_SEMIMAJOR_AXIS = 8692.16
PERIAPSIS_ALTITUDE = 372.86
PERIAPSIS_ARGUMENT_ANGLE = 68.19
PERIAPSIS_TIME = 2010-02-05T20:25:05.000Z
SPACECRAFT_ORIENTATION = (0.0,1.0,0.0)
^MEX_ORIENTATION_DESC = "MEX_ORIENTATION_DESC.TXT"
SPACECRAFT_POINTING_MODE = INERT
^MEX_POINTING_DESC = "MEX_POINTING_DESC.TXT"
RIGHT_ASCENSION = 155.911
DECLINATION = -73.394
OFFSET_ANGLE = -1e+32
SPACECRAFT_SOLAR_DISTANCE = 2.47145e+08
TARGET_NAME = MARS
/* CAMERA DATA ELEMENTS */
DETECTOR_TEMPERATURE = 18.5744
FOCAL_PLANE_TEMPERATURE = 7.7677
INST_CMPRS_NAME = "DISCRETE COSINE TRANSFORMATION (DCT)"
INST_CMPRS_RATIO = 17.6026
INST_CMPRS_QUALITY = 0
INST_CMPRS_QUANTZ_TBL_ID = 0
INSTRUMENT_TEMPERATURE = 11.0301
LENS_TEMPERATURE = 8.1755
MACROPIXEL_SIZE = 4
MISSING_FRAMES = 0
PIXEL_SUBSAMPLING_FLAG = N
SIGNAL_CHAIN_ID = 2
/* RADIOMETRIC DATA ELEMENTS */
BANDWIDTH = 48.0
CENTER_FILTER_WAVELENGTH = 748.0
RADIANCE_OFFSET = 1.53248
RADIANCE_SCALING_FACTOR = 0.00583966
REFLECTANCE_SCALING_FACTOR = 0.000813987
MEX:REFLECTANCE_OFFSET = 0.213612
/* IMAGE OBJECT DEFINITIONS */
OBJECT = IMAGE
  INTERCHANGE_FORMAT = BINARY
  LINES = 9371
  LINE_SAMPLES = 3288
  SAMPLE_TYPE = UNSIGNED_INTEGER
  SAMPLE_BITS = 8
  BANDS = 1
  BAND_STORAGE_TYPE = BAND_SEQUENTIAL
  MAXIMUM = 255
  MEAN = 118.477
  MINIMUM = 1
  STANDARD_DEVIATION = 46.4326
END_OBJECT = IMAGE
/* MAP OBJECT DEFINITIONS */
OBJECT = IMAGE_MAP_PROJECTION
  ^DATA_SET_MAP_PROJECTION_CATALOG= "DSMAP.CAT"
  A_AXIS_RADIUS = 3396.0
  B_AXIS_RADIUS = 3396.0
  C_AXIS_RADIUS = 3396.0
  CENTER_LATITUDE = 0.0
  CENTER_LONGITUDE = 44.0
  COORDINATE_SYSTEM_NAME = PLANETOGRAPHIC
  COORDINATE_SYSTEM_TYPE = "BODY-FIXED ROTATING"
  EASTERNMOST_LONGITUDE = 51.5867
  FIRST_STANDARD_PARALLEL = "N/A"
  LINE_FIRST_PIXEL = 1
  LINE_LAST_PIXEL = 9371
  LINE_PROJECTION_OFFSET = 49262.875
  MAP_PROJECTION_ROTATION = 0.0
  MAP_PROJECTION_TYPE = SINUSOIDAL
  MAP_RESOLUTION = 592.713803866667
  MAP_SCALE = 0.1
  MAXIMUM_LATITUDE = 83.1566
  MINIMUM_LATITUDE = 67.3265
  POSITIVE_LONGITUDE_DIRECTION = EAST
  REFERENCE_LATITUDE = "N/A"
  REFERENCE_LONGITUDE = "N/A"
  SAMPLE_FIRST_PIXEL = 1
  SAMPLE_LAST_PIXEL = 3288
  SAMPLE_PROJECTION_OFFSET = 1568.625
  SECOND_STANDARD_PARALLEL = "N/A"
  WESTERNMOST_LONGITUDE = 24.5087
END_OBJECT = IMAGE_MAP_PROJECTION
END
