PDS_VERSION_ID = PDS3
/* FILE DATA ELEMENTS */
RECORD_TYPE = UNDEFINED
/* POINTERS TO DATA OBJECTS */
^IMAGE = ("H7814_0000_GR4.TIF")
/* IDENTIFICATION DATA ELEMENTS */
DATA_SET_ID = "MEX-M-HRSC-4-REFDR-MAPPROJECT-EXT3-V4.0"
DATA_SET_NAME = "MARS EXPRESS HRSC MAP PROJECTED REFDR EXTENSION3 V4.0"
DETECTOR_ID = MEX_HRSC_GREEN
EVENT_TYPE = "MARS-REGIONAL-MAPPING-Gl-Pf-At"
INSTRUMENT_HOST_ID = MEX
INSTRUMENT_HOST_NAME = "MARS EXPRESS"
INSTRUMENT_ID = HRSC
INSTRUMENT_NAME = "HIGH RESOLUTION STEREO CAMERA"
MISSION_NAME = "MARS EXPRESS"
MISSION_PHASE_NAME = ME_Phase_20
PROCESSING_LEVEL_ID = 4
PRODUCT_CREATION_TIME = 2023-02-02T15:10:19.000Z
PRODUCT_ID = "H7814_0000_GR4.TIF"
RELEASE_ID = 0003
REVISION_ID = 0000
/* QUALITY DATA ELEMENTS */
DATA_QUALITY_ID = 1
DATA_QUALITY_DESC = "Data calculated based on original SPICE kernels"
/* TIME DATA ELEMENTS */
SPACECRAFT_CLOCK_START_COUNT = "1/0213481918.09061"
SPACECRAFT_CLOCK_STOP_COUNT = "1/0213482264.09040"
START_TIME = 2010-02-05T20:32:53.025Z
STOP_TIME = 2010-02-05T20:36:47.331Z
/* ORBITAL DATA ELEMENTS */
ASCENDING_NODE_LONGITUDE = 68.19
MAXIMUM_RESOLUTION = 0.09
FOOTPRINT_POINT_LATITUDE = (82.2728,82.524,82.6894,82.9059,83.0552 ,83.0607,83.1109,82.7057,82.1528, 81.5901,81.0203,80.4356,79.8406,79.5415 ,79.2366,78.9314,78.4661,78.1547, 77.8431,77.5312,77.2191,76.9066,76.594, 76.1247,75.8115,75.4982,75.1847,74.871, 74.5571,74.243,73.9288,73.6144,73.2999, 72.9852,72.6703,72.3553,72.04,71.567, 71.2513,70.7777,70.4617,70.1455,69.8291 ,69.5126,69.1958,68.879,68.4032,67.9272 ,67.7684,67.6501,67.6075,67.5216, 67.4437,67.3702,67.3065,67.3018,67.3018 ,67.6167,67.9311,68.2453,68.5591, 69.0293,69.3425,69.6553,69.9678,70.28, 70.5919,70.9034,71.2147,71.5257,71.8363 ,72.1465,72.6113,73.0751,73.5381, 73.8463,74.154,74.4613,74.9213,75.2274, 75.533,75.838,76.2944,76.5979,76.9007, 77.2027,77.504,77.8045,78.104,78.4009, 78.6934,78.9842,79.2696,79.8335,80.3843 ,81.052,81.5685,82.0707,82.1935, 82.2728)
FOOTPRINT_POINT_LONGITUDE = (24.6387,27.9882,30.5489,34.5261,37.907 ,38.0452,38.309,39.4236,40.7443,41.8996 ,42.9305,43.8401,44.6523,45.0264, 45.3839,45.7219,46.201,46.4996,46.7829, 47.0517,47.3073,47.5499,47.7817,48.1092 ,48.315,48.5119,48.7003,48.8803,49.0532 ,49.219,49.3781,49.5311,49.6782,49.8196 ,49.9557,50.0869,50.2138,50.3948, 50.5108,50.6769,50.783,50.8861,50.9856, 51.082,51.1756,51.266,51.3971,51.522, 51.5624,51.5922,50.1996,48.1542,46.7126 ,45.5412,44.6341,44.5695,44.5472, 44.4231,44.2946,44.1618,44.0244,43.8097 ,43.6604,43.5058,43.3457,43.1797, 43.0078,42.8297,42.645,42.4534,42.2544, 42.0477,41.7228,41.3781,41.0122,40.7555 ,40.4883,40.2094,39.7682,39.4577, 39.1332,38.7937,38.2545,37.8734,37.4736 ,37.0538,36.6127,36.1488,35.6603, 35.1486,34.6152,34.0536,33.4701,32.2078 ,30.817,28.8648,27.1167,25.1476,24.6198 ,24.6387)
ORBIT_NUMBER = 7814
ORBITAL_ECCENTRICITY = 0.568
ORBITAL_INCLINATION = 86.83
ORBITAL_SEMIMAJOR_AXIS = 8692.16
PERIAPSIS_ALTITUDE = 372.86
PERIAPSIS_ARGUMENT_ANGLE = 68.19
PERIAPSIS_TIME = 2010-02-05T20:25:05.000Z
SPACECRAFT_ORIENTATION = (0.0,1.0,0.0)
^MEX_ORIENTATION_DESC = "MEX_ORIENTATION_DESC.TXT"
SPACECRAFT_POINTING_MODE = INERT
^MEX_POINTING_DESC = "MEX_POINTING_DESC.TXT"
RIGHT_ASCENSION = 155.911
DECLINATION = -73.394
OFFSET_ANGLE = -1e+32
SPACECRAFT_SOLAR_DISTANCE = 2.47145e+08
TARGET_NAME = MARS
/* CAMERA DATA ELEMENTS */
DETECTOR_TEMPERATURE = 18.1666
FOCAL_PLANE_TEMPERATURE = 7.7677
INST_CMPRS_NAME = "DISCRETE COSINE TRANSFORMATION (DCT)"
INST_CMPRS_RATIO = 19.2601
INST_CMPRS_QUALITY = 0
INST_CMPRS_QUANTZ_TBL_ID = 0
INSTRUMENT_TEMPERATURE = 11.0301
LENS_TEMPERATURE = 8.1755
MACROPIXEL_SIZE = 4
MISSING_FRAMES = 0
PIXEL_SUBSAMPLING_FLAG = N
SIGNAL_CHAIN_ID = 2
/* RADIOMETRIC DATA ELEMENTS */
BANDWIDTH = 88.0
CENTER_FILTER_WAVELENGTH = 538.0
RADIANCE_OFFSET = 1.70737
RADIANCE_SCALING_FACTOR = 0.011846
REFLECTANCE_SCALING_FACTOR = 0.000622967
MEX:REFLECTANCE_OFFSET = 0.0897885
/* IMAGE OBJECT DEFINITIONS */
OBJECT = IMAGE
  INTERCHANGE_FORMAT = BINARY
  LINES = 9371
  LINE_SAMPLES = 3288
  SAMPLE_TYPE = UNSIGNED_INTEGER
  SAMPLE_BITS = 8
  BANDS = 1
  BAND_STORAGE_TYPE = BAND_SEQUENTIAL
  MAXIMUM = 255
  MEAN = 113.003
  MINIMUM = 1
  STANDARD_DEVIATION = 42.9727
END_OBJECT = IMAGE
/* MAP OBJECT DEFINITIONS */
OBJECT = IMAGE_MAP_PROJECTION
  ^DATA_SET_MAP_PROJECTION_CATALOG= "DSMAP.CAT"
  A_AXIS_RADIUS = 3396.0
  B_AXIS_RADIUS = 3396.0
  C_AXIS_RADIUS = 3396.0
  CENTER_LATITUDE = 0.0
  CENTER_LONGITUDE = 44.0
  COORDINATE_SYSTEM_NAME = PLANETOGRAPHIC
  COORDINATE_SYSTEM_TYPE = "BODY-FIXED ROTATING"
  EASTERNMOST_LONGITUDE = 51.5922
  FIRST_STANDARD_PARALLEL = "N/A"
  LINE_FIRST_PIXEL = 1
  LINE_LAST_PIXEL = 9371
  LINE_PROJECTION_OFFSET = 49262.875
  MAP_PROJECTION_ROTATION = 0.0
  MAP_PROJECTION_TYPE = SINUSOIDAL
  MAP_RESOLUTION = 592.713803866667
  MAP_SCALE = 0.1
  MAXIMUM_LATITUDE = 83.1109
  MINIMUM_LATITUDE = 67.3018
  POSITIVE_LONGITUDE_DIRECTION = EAST
  REFERENCE_LATITUDE = "N/A"
  REFERENCE_LONGITUDE = "N/A"
  SAMPLE_FIRST_PIXEL = 1
  SAMPLE_LAST_PIXEL = 3288
  SAMPLE_PROJECTION_OFFSET = 1568.625
  SECOND_STANDARD_PARALLEL = "N/A"
  WESTERNMOST_LONGITUDE = 24.6198
END_OBJECT = IMAGE_MAP_PROJECTION
END
