PDS_VERSION_ID = PDS3
/* FILE DATA ELEMENTS */
RECORD_TYPE = UNDEFINED
/* POINTERS TO DATA OBJECTS */
^IMAGE = ("H7808_0000_S14.TIF")
/* IDENTIFICATION DATA ELEMENTS */
DATA_SET_ID = "MEX-M-HRSC-4-REFDR-MAPPROJECT-EXT3-V4.0"
DATA_SET_NAME = "MARS EXPRESS HRSC MAP PROJECTED REFDR EXTENSION3 V4.0"
DETECTOR_ID = MEX_HRSC_S1
EVENT_TYPE = "MARS-REGIONAL-MAPPING-Gl-Pf-At"
INSTRUMENT_HOST_ID = MEX
INSTRUMENT_HOST_NAME = "MARS EXPRESS"
INSTRUMENT_ID = HRSC
INSTRUMENT_NAME = "HIGH RESOLUTION STEREO CAMERA"
MISSION_NAME = "MARS EXPRESS"
MISSION_PHASE_NAME = ME_Phase_20
PROCESSING_LEVEL_ID = 4
PRODUCT_CREATION_TIME = 2023-02-02T15:10:19.000Z
PRODUCT_ID = "H7808_0000_S14.TIF"
RELEASE_ID = 0003
REVISION_ID = 0000
/* QUALITY DATA ELEMENTS */
DATA_QUALITY_ID = 1
DATA_QUALITY_DESC = "Data calculated based on original SPICE kernels"
/* TIME DATA ELEMENTS */
SPACECRAFT_CLOCK_START_COUNT = "1/0213332934.09074"
SPACECRAFT_CLOCK_STOP_COUNT = "1/0213333267.42369"
START_TIME = 2010-02-04T03:10:28.980Z
STOP_TIME = 2010-02-04T03:14:28.062Z
/* ORBITAL DATA ELEMENTS */
ASCENDING_NODE_LONGITUDE = 68.31
MAXIMUM_RESOLUTION = 0.0494
FOOTPRINT_POINT_LATITUDE = (83.116,83.3821,83.5499,83.6974,83.9214 ,84.0452,84.052,84.2201,83.8041,83.2396 ,82.9529,82.662,82.2239,81.9254,81.6296 ,81.3323,80.885,80.4382,80.1405,79.6932 ,79.3941,79.0949,78.7955,78.4962,78.197 ,77.7476,77.4484,77.1487,76.8491, 76.5496,76.2503,75.9508,75.6514,75.2022 ,74.9031,74.604,74.3051,74.0062,73.558, 73.2593,72.8115,72.5132,72.2149,71.9167 ,71.6185,71.3206,70.7248,70.1295, 69.5345,69.3858,69.3397,69.2873,69.2147 ,69.1649,69.0578,68.9824,68.9775, 68.9764,69.5641,70.1515,70.7388,71.3259 ,72.0594,72.4993,72.7923,73.0854, 73.3782,73.6709,73.9633,74.2555,74.6934 ,75.1311,75.4225,75.7135,76.0042, 76.2946,76.7296,77.0188,77.3076,77.5959 ,77.8836,78.1704,78.4567,78.8848, 79.1689,79.5934,79.8746,80.1547,80.4328 ,80.7095,80.9857,81.2579,81.53,81.7948, 82.0595,82.317,82.5712,83.0625,83.1821, 83.116)
FOOTPRINT_POINT_LONGITUDE = (264.618,267.97,270.394,272.783,277.051 ,279.893,280.063,279.93,281.515,283.337 ,284.142,284.891,285.913,286.531, 287.104,287.637,288.369,289.031,289.438 ,290.004,290.353,290.682,290.993, 291.288,291.567,291.959,292.204,292.437 ,292.659,292.87,293.072,293.265,293.449 ,293.711,293.876,294.035,294.188, 294.334,294.543,294.676,294.865,294.986 ,295.103,295.215,295.324,295.429, 295.628,295.814,295.989,296.031,296.044 ,294.455,292.732,291.732,289.886, 288.759,288.688,288.663,288.374,288.066 ,287.736,287.381,286.901,286.591, 286.374,286.149,285.915,285.672,285.419 ,285.156,284.74,284.297,283.986,283.661 ,283.321,282.965,282.401,282.002, 281.584,281.144,280.683,280.198,279.687 ,278.867,278.283,277.344,276.673, 275.961,275.208,274.408,273.548,272.646 ,271.669,270.662,269.562,268.404, 267.165,264.439,263.7,264.618)
ORBIT_NUMBER = 7808
ORBITAL_ECCENTRICITY = 0.568
ORBITAL_INCLINATION = 86.83
ORBITAL_SEMIMAJOR_AXIS = 8692.69
PERIAPSIS_ALTITUDE = 373.68
PERIAPSIS_ARGUMENT_ANGLE = 69.24
PERIAPSIS_TIME = 2010-02-04T03:02:31.000Z
SPACECRAFT_ORIENTATION = (0.0,1.0,0.0)
^MEX_ORIENTATION_DESC = "MEX_ORIENTATION_DESC.TXT"
SPACECRAFT_POINTING_MODE = INERT
^MEX_POINTING_DESC = "MEX_POINTING_DESC.TXT"
RIGHT_ASCENSION = 153.502
DECLINATION = -72.556
OFFSET_ANGLE = -1e+32
SPACECRAFT_SOLAR_DISTANCE = 2.4701e+08
TARGET_NAME = MARS
/* CAMERA DATA ELEMENTS */
DETECTOR_TEMPERATURE = 16.9432
FOCAL_PLANE_TEMPERATURE = 7.156
INST_CMPRS_NAME = "DISCRETE COSINE TRANSFORMATION (DCT)"
INST_CMPRS_RATIO = 12.0899
INST_CMPRS_QUALITY = 0
INST_CMPRS_QUANTZ_TBL_ID = 0
INSTRUMENT_TEMPERATURE = 10.6223
LENS_TEMPERATURE = 7.7677
MACROPIXEL_SIZE = 2
MISSING_FRAMES = 0
PIXEL_SUBSAMPLING_FLAG = N
SIGNAL_CHAIN_ID = 1
/* RADIOMETRIC DATA ELEMENTS */
BANDWIDTH = 180.0
CENTER_FILTER_WAVELENGTH = 677.0
RADIANCE_OFFSET = 5.70362
RADIANCE_SCALING_FACTOR = 0.0180099
REFLECTANCE_SCALING_FACTOR = 0.000573301
MEX:REFLECTANCE_OFFSET = 0.181561
/* IMAGE OBJECT DEFINITIONS */
OBJECT = IMAGE
  INTERCHANGE_FORMAT = BINARY
  LINES = 18031
  LINE_SAMPLES = 6985
  SAMPLE_TYPE = UNSIGNED_INTEGER
  SAMPLE_BITS = 8
  BANDS = 1
  BAND_STORAGE_TYPE = BAND_SEQUENTIAL
  MAXIMUM = 255
  MEAN = 126.142
  MINIMUM = 1
  STANDARD_DEVIATION = 53.559
END_OBJECT = IMAGE
/* MAP OBJECT DEFINITIONS */
OBJECT = IMAGE_MAP_PROJECTION
  ^DATA_SET_MAP_PROJECTION_CATALOG= "DSMAP.CAT"
  A_AXIS_RADIUS = 3396.0
  B_AXIS_RADIUS = 3396.0
  C_AXIS_RADIUS = 3396.0
  CENTER_LATITUDE = 0.0
  CENTER_LONGITUDE = 287.0
  COORDINATE_SYSTEM_NAME = PLANETOGRAPHIC
  COORDINATE_SYSTEM_TYPE = "BODY-FIXED ROTATING"
  EASTERNMOST_LONGITUDE = 296.044
  FIRST_STANDARD_PARALLEL = "N/A"
  LINE_FIRST_PIXEL = 1
  LINE_LAST_PIXEL = 18031
  LINE_PROJECTION_OFFSET = 99784.75
  MAP_PROJECTION_ROTATION = 0.0
  MAP_PROJECTION_TYPE = SINUSOIDAL
  MAP_RESOLUTION = 1185.42760773333
  MAP_SCALE = 0.05
  MAXIMUM_LATITUDE = 84.2201
  MINIMUM_LATITUDE = 68.9764
  POSITIVE_LONGITUDE_DIRECTION = EAST
  REFERENCE_LATITUDE = "N/A"
  REFERENCE_LONGITUDE = "N/A"
  SAMPLE_FIRST_PIXEL = 1
  SAMPLE_LAST_PIXEL = 6985
  SAMPLE_PROJECTION_OFFSET = 3222.75
  SECOND_STANDARD_PARALLEL = "N/A"
  WESTERNMOST_LONGITUDE = 263.7
END_OBJECT = IMAGE_MAP_PROJECTION
END
