PDS_VERSION_ID = PDS3
/* FILE DATA ELEMENTS */
RECORD_TYPE = UNDEFINED
/* POINTERS TO DATA OBJECTS */
^IMAGE = ("H7805_0000_P14.TIF")
/* IDENTIFICATION DATA ELEMENTS */
DATA_SET_ID = "MEX-M-HRSC-4-REFDR-MAPPROJECT-EXT3-V4.0"
DATA_SET_NAME = "MARS EXPRESS HRSC MAP PROJECTED REFDR EXTENSION3 V4.0"
DETECTOR_ID = MEX_HRSC_P1
EVENT_TYPE = "MARS-REGIONAL-MAPPING-Te-Pf"
INSTRUMENT_HOST_ID = MEX
INSTRUMENT_HOST_NAME = "MARS EXPRESS"
INSTRUMENT_ID = HRSC
INSTRUMENT_NAME = "HIGH RESOLUTION STEREO CAMERA"
MISSION_NAME = "MARS EXPRESS"
MISSION_PHASE_NAME = ME_Phase_20
PROCESSING_LEVEL_ID = 4
PRODUCT_CREATION_TIME = 2023-02-02T15:10:19.000Z
PRODUCT_ID = "H7805_0000_P14.TIF"
RELEASE_ID = 0003
REVISION_ID = 0000
/* QUALITY DATA ELEMENTS */
DATA_QUALITY_ID = 1
DATA_QUALITY_DESC = "Data calculated based on original SPICE kernels"
/* TIME DATA ELEMENTS */
SPACECRAFT_CLOCK_START_COUNT = "1/0213258589.07283"
SPACECRAFT_CLOCK_STOP_COUNT = "1/0213259165.17550"
START_TIME = 2010-02-03T06:31:43.459Z
STOP_TIME = 2010-02-03T06:38:18.369Z
/* ORBITAL DATA ELEMENTS */
ASCENDING_NODE_LONGITUDE = 68.37
MAXIMUM_RESOLUTION = 0.058
FOOTPRINT_POINT_LATITUDE = (73.5724,73.7273,73.8165,73.8723, 73.9772,73.9796,74.0814,73.6829,73.2861 ,72.8912,72.4981,72.1065,71.7163, 71.3282,70.9413,70.5567,70.1738,69.792, 69.4128,69.0357,68.4722,68.0988,67.7273 ,67.358,66.99,66.624,66.2597,65.8973, 65.5366,65.1777,64.8205,64.4653,64.1117 ,63.7601,63.4102,63.0621,62.7157, 62.3711,62.0282,61.6873,61.0106,60.3411 ,59.6783,59.0223,58.3735,57.7318, 57.0968,56.4686,56.3126,56.2999,56.2999 ,56.2839,56.2626,56.2264,56.1947, 56.1575,56.1545,56.1539,56.7701,57.3932 ,58.0232,58.6604,59.3044,59.9554, 60.6134,61.2785,61.9508,62.2897,62.6302 ,62.9723,63.3164,63.6625,64.0102, 64.3594,64.7106,65.0635,65.4182,65.7746 ,66.1326,66.4927,66.8542,67.2176, 67.5825,67.9494,68.3178,68.6873,69.2461 ,69.62,69.9956,70.3728,70.7517,71.1321, 71.5142,71.8976,72.2826,72.6686,73.056, 73.4448,73.6404,73.5724)
FOOTPRINT_POINT_LONGITUDE = (228.702,231.197,232.909,234.141, 237.049,237.132,237.289,237.486,237.673 ,237.849,238.017,238.177,238.328, 238.472,238.609,238.741,238.866,238.985 ,239.1,239.21,239.366,239.464,239.559, 239.65,239.737,239.821,239.902,239.98, 240.055,240.128,240.198,240.265,240.33, 240.393,240.454,240.513,240.57,240.625, 240.678,240.73,240.829,240.922,241.009, 241.092,241.17,241.244,241.315,241.381, 241.397,241.399,240.187,238.479,237.343 ,235.994,235.071,234.148,234.077, 234.051,233.997,233.936,233.869,233.794 ,233.712,233.621,233.52,233.41,233.289, 233.224,233.156,233.085,233.01,232.932, 232.85,232.764,232.674,232.58,232.482, 232.378,232.27,232.157,232.038,231.913, 231.782,231.645,231.501,231.351,231.108 ,230.937,230.758,230.568,230.369, 230.159,229.937,229.703,229.455,229.195 ,228.92,228.628,228.474,228.702)
ORBIT_NUMBER = 7805
ORBITAL_ECCENTRICITY = 0.568
ORBITAL_INCLINATION = 86.84
ORBITAL_SEMIMAJOR_AXIS = 8693.09
PERIAPSIS_ALTITUDE = 372.93
PERIAPSIS_ARGUMENT_ANGLE = 69.74
PERIAPSIS_TIME = 2010-02-03T06:21:09.000Z
SPACECRAFT_ORIENTATION = (0.0,1.0,0.0)
^MEX_ORIENTATION_DESC = "MEX_ORIENTATION_DESC.TXT"
SPACECRAFT_POINTING_MODE = NADIR
^MEX_POINTING_DESC = "MEX_POINTING_DESC.TXT"
RIGHT_ASCENSION = -1e+32
DECLINATION = -1e+32
OFFSET_ANGLE = -1e+32
SPACECRAFT_SOLAR_DISTANCE = 2.4694e+08
TARGET_NAME = MARS
/* CAMERA DATA ELEMENTS */
DETECTOR_TEMPERATURE = 16.7393
FOCAL_PLANE_TEMPERATURE = 7.156
INST_CMPRS_NAME = "DISCRETE COSINE TRANSFORMATION (DCT)"
INST_CMPRS_RATIO = 13.7272
INST_CMPRS_QUALITY = 0
INST_CMPRS_QUANTZ_TBL_ID = 0
INSTRUMENT_TEMPERATURE = 10.6223
LENS_TEMPERATURE = 7.5638
MACROPIXEL_SIZE = 2
MISSING_FRAMES = 0
PIXEL_SUBSAMPLING_FLAG = N
SIGNAL_CHAIN_ID = 3
/* RADIOMETRIC DATA ELEMENTS */
BANDWIDTH = 174.0
CENTER_FILTER_WAVELENGTH = 675.0
RADIANCE_OFFSET = 3.6714
RADIANCE_SCALING_FACTOR = 0.025874
REFLECTANCE_SCALING_FACTOR = 0.000848661
MEX:REFLECTANCE_OFFSET = 0.120421
/* IMAGE OBJECT DEFINITIONS */
OBJECT = IMAGE
  INTERCHANGE_FORMAT = BINARY
  LINES = 21269
  LINE_SAMPLES = 5658
  SAMPLE_TYPE = UNSIGNED_INTEGER
  SAMPLE_BITS = 8
  BANDS = 1
  BAND_STORAGE_TYPE = BAND_SEQUENTIAL
  MAXIMUM = 255
  MEAN = 112.876
  MINIMUM = 1
  STANDARD_DEVIATION = 29.8706
END_OBJECT = IMAGE
/* MAP OBJECT DEFINITIONS */
OBJECT = IMAGE_MAP_PROJECTION
  ^DATA_SET_MAP_PROJECTION_CATALOG= "DSMAP.CAT"
  A_AXIS_RADIUS = 3396.0
  B_AXIS_RADIUS = 3396.0
  C_AXIS_RADIUS = 3396.0
  CENTER_LATITUDE = 0.0
  CENTER_LONGITUDE = 236.0
  COORDINATE_SYSTEM_NAME = PLANETOGRAPHIC
  COORDINATE_SYSTEM_TYPE = "BODY-FIXED ROTATING"
  EASTERNMOST_LONGITUDE = 241.399
  FIRST_STANDARD_PARALLEL = "N/A"
  LINE_FIRST_PIXEL = 1
  LINE_LAST_PIXEL = 21269
  LINE_PROJECTION_OFFSET = 87797.75
  MAP_PROJECTION_ROTATION = 0.0
  MAP_PROJECTION_TYPE = SINUSOIDAL
  MAP_RESOLUTION = 1185.42760773333
  MAP_SCALE = 0.05
  MAXIMUM_LATITUDE = 74.0814
  MINIMUM_LATITUDE = 56.1539
  POSITIVE_LONGITUDE_DIRECTION = EAST
  REFERENCE_LATITUDE = "N/A"
  REFERENCE_LONGITUDE = "N/A"
  SAMPLE_FIRST_PIXEL = 1
  SAMPLE_LAST_PIXEL = 5658
  SAMPLE_PROJECTION_OFFSET = 2417.75
  SECOND_STANDARD_PARALLEL = "N/A"
  WESTERNMOST_LONGITUDE = 228.474
END_OBJECT = IMAGE_MAP_PROJECTION
END
