PDS_VERSION_ID = PDS3
/* FILE DATA ELEMENTS */
RECORD_TYPE = UNDEFINED
/* POINTERS TO DATA OBJECTS */
^IMAGE = ("H7805_0000_IR4.TIF")
/* IDENTIFICATION DATA ELEMENTS */
DATA_SET_ID = "MEX-M-HRSC-4-REFDR-MAPPROJECT-EXT3-V4.0"
DATA_SET_NAME = "MARS EXPRESS HRSC MAP PROJECTED REFDR EXTENSION3 V4.0"
DETECTOR_ID = MEX_HRSC_IR
EVENT_TYPE = "MARS-REGIONAL-MAPPING-Te-Pf"
INSTRUMENT_HOST_ID = MEX
INSTRUMENT_HOST_NAME = "MARS EXPRESS"
INSTRUMENT_ID = HRSC
INSTRUMENT_NAME = "HIGH RESOLUTION STEREO CAMERA"
MISSION_NAME = "MARS EXPRESS"
MISSION_PHASE_NAME = ME_Phase_20
PROCESSING_LEVEL_ID = 4
PRODUCT_CREATION_TIME = 2023-02-02T15:10:19.000Z
PRODUCT_ID = "H7805_0000_IR4.TIF"
RELEASE_ID = 0003
REVISION_ID = 0000
/* QUALITY DATA ELEMENTS */
DATA_QUALITY_ID = 1
DATA_QUALITY_DESC = "Data calculated based on original SPICE kernels"
/* TIME DATA ELEMENTS */
SPACECRAFT_CLOCK_START_COUNT = "1/0213258589.07283"
SPACECRAFT_CLOCK_STOP_COUNT = "1/0213259165.17550"
START_TIME = 2010-02-03T06:31:57.842Z
STOP_TIME = 2010-02-03T06:38:50.262Z
/* ORBITAL DATA ELEMENTS */
ASCENDING_NODE_LONGITUDE = 68.37
MAXIMUM_RESOLUTION = 0.1206
FOOTPRINT_POINT_LATITUDE = (73.5487,73.6814,73.7827,73.8518, 73.9023,73.9554,73.9578,74.0858,73.4804 ,73.0792,72.6799,72.2825,71.8868, 71.4934,71.1016,70.7117,70.3248,69.9388 ,69.5552,69.1745,68.7939,68.4174, 68.0416,67.6681,67.297,66.9275,66.5601, 66.1945,65.8316,65.4703,65.1111,64.7537 ,64.3986,64.0452,63.6942,63.345,62.9977 ,62.6526,62.3093,61.6288,60.9563, 60.2916,59.6345,58.9849,58.3436,57.7097 ,57.0834,56.4647,56.3113,56.2961, 56.2991,56.2986,56.2921,56.2805,56.2598 ,56.2369,56.1994,56.1703,56.1674, 56.1675,56.7728,57.3858,58.0068,58.6354 ,59.2718,59.9158,60.5677,61.2276, 61.8955,62.5715,63.2549,63.6001,63.9468 ,64.2955,64.6464,64.9992,65.3541, 65.7109,66.0695,66.4302,66.7928,67.1576 ,67.5238,67.8926,68.2633,68.6356, 69.0091,69.3857,69.7635,70.1433,70.5246 ,70.9082,71.2931,71.68,72.0687,72.4591, 72.8503,73.4409,73.6394,73.5487)
FOOTPRINT_POINT_LONGITUDE = (228.646,230.777,232.696,234.229, 235.529,237.167,237.249,237.393,237.69, 237.874,238.049,238.215,238.372,238.522 ,238.664,238.8,238.93,239.053,239.172, 239.286,239.393,239.498,239.598,239.693 ,239.786,239.874,239.959,240.041,240.12 ,240.196,240.27,240.341,240.409,240.475 ,240.54,240.602,240.661,240.72,240.776, 240.883,240.985,241.081,241.171,241.256 ,241.338,241.415,241.488,241.559, 241.576,241.577,240.868,240.224,239.084 ,238.088,236.949,236.025,234.816, 234.033,233.962,233.938,233.887,233.83, 233.765,233.694,233.614,233.526,233.43, 233.323,233.205,233.075,232.932,232.855 ,232.775,232.691,232.603,232.51,232.413 ,232.311,232.204,232.092,231.974,231.85 ,231.721,231.584,231.44,231.289,231.132 ,230.964,230.789,230.604,230.409, 230.204,229.987,229.758,229.516,229.259 ,228.99,228.553,228.396,228.646)
ORBIT_NUMBER = 7805
ORBITAL_ECCENTRICITY = 0.568
ORBITAL_INCLINATION = 86.84
ORBITAL_SEMIMAJOR_AXIS = 8693.09
PERIAPSIS_ALTITUDE = 372.93
PERIAPSIS_ARGUMENT_ANGLE = 69.74
PERIAPSIS_TIME = 2010-02-03T06:21:09.000Z
SPACECRAFT_ORIENTATION = (0.0,1.0,0.0)
^MEX_ORIENTATION_DESC = "MEX_ORIENTATION_DESC.TXT"
SPACECRAFT_POINTING_MODE = NADIR
^MEX_POINTING_DESC = "MEX_POINTING_DESC.TXT"
RIGHT_ASCENSION = -1e+32
DECLINATION = -1e+32
OFFSET_ANGLE = -1e+32
SPACECRAFT_SOLAR_DISTANCE = 2.4694e+08
TARGET_NAME = MARS
/* CAMERA DATA ELEMENTS */
DETECTOR_TEMPERATURE = 16.7393
FOCAL_PLANE_TEMPERATURE = 7.156
INST_CMPRS_NAME = "DISCRETE COSINE TRANSFORMATION (DCT)"
INST_CMPRS_RATIO = 25.0313
INST_CMPRS_QUALITY = 0
INST_CMPRS_QUANTZ_TBL_ID = 0
INSTRUMENT_TEMPERATURE = 10.6223
LENS_TEMPERATURE = 7.5638
MACROPIXEL_SIZE = 4
MISSING_FRAMES = 0
PIXEL_SUBSAMPLING_FLAG = N
SIGNAL_CHAIN_ID = 2
/* RADIOMETRIC DATA ELEMENTS */
BANDWIDTH = 81.0
CENTER_FILTER_WAVELENGTH = 955.5
RADIANCE_OFFSET = 0.841424
RADIANCE_SCALING_FACTOR = 0.00678272
REFLECTANCE_SCALING_FACTOR = 0.000892315
MEX:REFLECTANCE_OFFSET = 0.110695
/* IMAGE OBJECT DEFINITIONS */
OBJECT = IMAGE
  INTERCHANGE_FORMAT = BINARY
  LINES = 10635
  LINE_SAMPLES = 2829
  SAMPLE_TYPE = UNSIGNED_INTEGER
  SAMPLE_BITS = 8
  BANDS = 1
  BAND_STORAGE_TYPE = BAND_SEQUENTIAL
  MAXIMUM = 255
  MEAN = 133.638
  MINIMUM = 1
  STANDARD_DEVIATION = 26.7842
END_OBJECT = IMAGE
/* MAP OBJECT DEFINITIONS */
OBJECT = IMAGE_MAP_PROJECTION
  ^DATA_SET_MAP_PROJECTION_CATALOG= "DSMAP.CAT"
  A_AXIS_RADIUS = 3396.0
  B_AXIS_RADIUS = 3396.0
  C_AXIS_RADIUS = 3396.0
  CENTER_LATITUDE = 0.0
  CENTER_LONGITUDE = 236.0
  COORDINATE_SYSTEM_NAME = PLANETOGRAPHIC
  COORDINATE_SYSTEM_TYPE = "BODY-FIXED ROTATING"
  EASTERNMOST_LONGITUDE = 241.577
  FIRST_STANDARD_PARALLEL = "N/A"
  LINE_FIRST_PIXEL = 1
  LINE_LAST_PIXEL = 10635
  LINE_PROJECTION_OFFSET = 43898.625
  MAP_PROJECTION_ROTATION = 0.0
  MAP_PROJECTION_TYPE = SINUSOIDAL
  MAP_RESOLUTION = 592.713803866667
  MAP_SCALE = 0.1
  MAXIMUM_LATITUDE = 74.08580000000001
  MINIMUM_LATITUDE = 56.1674
  POSITIVE_LONGITUDE_DIRECTION = EAST
  REFERENCE_LATITUDE = "N/A"
  REFERENCE_LONGITUDE = "N/A"
  SAMPLE_FIRST_PIXEL = 1
  SAMPLE_LAST_PIXEL = 2829
  SAMPLE_PROJECTION_OFFSET = 1208.625
  SECOND_STANDARD_PARALLEL = "N/A"
  WESTERNMOST_LONGITUDE = 228.396
END_OBJECT = IMAGE_MAP_PROJECTION
END
