PDS_VERSION_ID = PDS3
/* FILE DATA ELEMENTS */
RECORD_TYPE = UNDEFINED
/* POINTERS TO DATA OBJECTS */
^IMAGE = ("H7752_0000_S14.TIF")
/* IDENTIFICATION DATA ELEMENTS */
DATA_SET_ID = "MEX-M-HRSC-4-REFDR-MAPPROJECT-EXT3-V4.0"
DATA_SET_NAME = "MARS EXPRESS HRSC MAP PROJECTED REFDR EXTENSION3 V4.0"
DETECTOR_ID = MEX_HRSC_S1
EVENT_TYPE = "MARS-REGIONAL-MAPPING-Im-Pf-At"
INSTRUMENT_HOST_ID = MEX
INSTRUMENT_HOST_NAME = "MARS EXPRESS"
INSTRUMENT_ID = HRSC
INSTRUMENT_NAME = "HIGH RESOLUTION STEREO CAMERA"
MISSION_NAME = "MARS EXPRESS"
MISSION_PHASE_NAME = ME_Phase_19
PROCESSING_LEVEL_ID = 4
PRODUCT_CREATION_TIME = 2023-02-02T15:10:19.000Z
PRODUCT_ID = "H7752_0000_S14.TIF"
RELEASE_ID = 0003
REVISION_ID = 0000
/* QUALITY DATA ELEMENTS */
DATA_QUALITY_ID = 1
DATA_QUALITY_DESC = "Data calculated based on original SPICE kernels"
/* TIME DATA ELEMENTS */
SPACECRAFT_CLOCK_START_COUNT = "1/0211942589.07278"
SPACECRAFT_CLOCK_STOP_COUNT = "1/0211942960.05602"
START_TIME = 2010-01-19T00:58:06.245Z
STOP_TIME = 2010-01-19T01:02:40.612Z
/* ORBITAL DATA ELEMENTS */
ASCENDING_NODE_LONGITUDE = 69.39
MAXIMUM_RESOLUTION = 0.051
FOOTPRINT_POINT_LATITUDE = (80.1622,80.4261,80.5995,80.7311, 80.7349,81.0295,80.2069,79.7059,79.3706 ,79.0353,78.693,78.3508,78.0085,77.6598 ,77.3118,76.9617,76.6077,76.0766, 75.7241,75.3707,75.0181,74.6662,74.3149 ,73.9639,73.6132,73.2636,72.9139, 72.5648,72.2159,71.8679,71.5203,71.1728 ,70.6517,70.3052,69.9594,69.6139,69.269 ,68.9243,68.5802,68.2363,67.8929, 67.5499,67.2072,66.8649,66.5231,66.1817 ,65.4998,64.8195,63.9711,63.8016, 63.7467,63.723,63.6666,63.6032,63.5525, 63.5497,63.5494,64.2219,64.7309,65.3979 ,65.7387,66.2461,66.7537,67.0925, 67.4313,67.7706,68.11,68.45,68.7902, 69.3009,69.6412,69.9821,70.3232,70.8352 ,71.3481,71.6902,72.0325,72.3746, 72.7169,73.0592,73.5733,73.9157,74.2588 ,74.7733,75.116,75.6303,75.9726,76.3146 ,76.8238,77.1589,77.6585,77.9861, 78.3127,78.6361,78.9545,79.272,79.7424, 80.2031,80.3561,80.1622)
FOOTPRINT_POINT_LONGITUDE = (163.373,167.776,171.413,174.906, 175.024,174.872,176.129,176.791,177.199 ,177.58,177.944,178.286,178.608,178.916 ,179.206,179.482,179.745,180.113, 180.343,180.56,180.766,180.962,181.149, 181.327,181.496,181.658,181.813,181.961 ,182.102,182.238,182.368,182.492,182.67 ,182.782,182.89,182.994,183.095,183.191 ,183.284,183.374,183.46,183.544,183.625 ,183.702,183.778,183.851,183.989, 184.119,184.27,184.299,184.308,183.108, 181.162,179.557,178.467,178.409,178.388 ,178.193,178.031,177.821,177.7,177.516, 177.323,177.189,177.049,176.904,176.754 ,176.597,176.435,176.178,176.0,175.813, 175.619,175.312,174.985,174.755,174.514 ,174.264,174.002,173.728,173.291, 172.984,172.659,172.142,171.776,171.188 ,170.771,170.331,169.628,169.131, 168.335,167.771,167.175,166.546,165.886 ,165.184,164.052,162.824,162.386, 163.373)
ORBIT_NUMBER = 7752
ORBITAL_ECCENTRICITY = 0.568
ORBITAL_INCLINATION = 86.83
ORBITAL_SEMIMAJOR_AXIS = 8684.26
PERIAPSIS_ALTITUDE = 375.65
PERIAPSIS_ARGUMENT_ANGLE = 78.96
PERIAPSIS_TIME = 2010-01-19T00:51:21.000Z
SPACECRAFT_ORIENTATION = (0.0,1.0,0.0)
^MEX_ORIENTATION_DESC = "MEX_ORIENTATION_DESC.TXT"
SPACECRAFT_POINTING_MODE = INERT
^MEX_POINTING_DESC = "MEX_POINTING_DESC.TXT"
RIGHT_ASCENSION = 139.71
DECLINATION = -64.151
OFFSET_ANGLE = -1e+32
SPACECRAFT_SOLAR_DISTANCE = 2.45551e+08
TARGET_NAME = MARS
/* CAMERA DATA ELEMENTS */
DETECTOR_TEMPERATURE = 16.9432
FOCAL_PLANE_TEMPERATURE = 7.3599
INST_CMPRS_NAME = "DISCRETE COSINE TRANSFORMATION (DCT)"
INST_CMPRS_RATIO = 11.2083
INST_CMPRS_QUALITY = 0
INST_CMPRS_QUANTZ_TBL_ID = 0
INSTRUMENT_TEMPERATURE = 10.4184
LENS_TEMPERATURE = 7.7677
MACROPIXEL_SIZE = 2
MISSING_FRAMES = 0
PIXEL_SUBSAMPLING_FLAG = N
SIGNAL_CHAIN_ID = 1
/* RADIOMETRIC DATA ELEMENTS */
BANDWIDTH = 180.0
CENTER_FILTER_WAVELENGTH = 677.0
RADIANCE_OFFSET = 5.06987
RADIANCE_SCALING_FACTOR = 0.0349438
REFLECTANCE_SCALING_FACTOR = 0.00109925
MEX:REFLECTANCE_OFFSET = 0.159486
/* IMAGE OBJECT DEFINITIONS */
OBJECT = IMAGE
  INTERCHANGE_FORMAT = BINARY
  LINES = 20714
  LINE_SAMPLES = 6122
  SAMPLE_TYPE = UNSIGNED_INTEGER
  SAMPLE_BITS = 8
  BANDS = 1
  BAND_STORAGE_TYPE = BAND_SEQUENTIAL
  MAXIMUM = 255
  MEAN = 98.5324
  MINIMUM = 1
  STANDARD_DEVIATION = 32.7161
END_OBJECT = IMAGE
/* MAP OBJECT DEFINITIONS */
OBJECT = IMAGE_MAP_PROJECTION
  ^DATA_SET_MAP_PROJECTION_CATALOG= "DSMAP.CAT"
  A_AXIS_RADIUS = 3396.0
  B_AXIS_RADIUS = 3396.0
  C_AXIS_RADIUS = 3396.0
  CENTER_LATITUDE = 0.0
  CENTER_LONGITUDE = 178.0
  COORDINATE_SYSTEM_NAME = PLANETOGRAPHIC
  COORDINATE_SYSTEM_TYPE = "BODY-FIXED ROTATING"
  EASTERNMOST_LONGITUDE = 184.308
  FIRST_STANDARD_PARALLEL = "N/A"
  LINE_FIRST_PIXEL = 1
  LINE_LAST_PIXEL = 20714
  LINE_PROJECTION_OFFSET = 95999.25
  MAP_PROJECTION_ROTATION = 0.0
  MAP_PROJECTION_TYPE = SINUSOIDAL
  MAP_RESOLUTION = 1185.42760773333
  MAP_SCALE = 0.05
  MAXIMUM_LATITUDE = 81.0295
  MINIMUM_LATITUDE = 63.5494
  POSITIVE_LONGITUDE_DIRECTION = EAST
  REFERENCE_LATITUDE = "N/A"
  REFERENCE_LONGITUDE = "N/A"
  SAMPLE_FIRST_PIXEL = 1
  SAMPLE_LAST_PIXEL = 6122
  SAMPLE_PROJECTION_OFFSET = 2991.75
  SECOND_STANDARD_PARALLEL = "N/A"
  WESTERNMOST_LONGITUDE = 162.386
END_OBJECT = IMAGE_MAP_PROJECTION
END
