PDS_VERSION_ID = PDS3
/* FILE DATA ELEMENTS */
RECORD_TYPE = UNDEFINED
/* POINTERS TO DATA OBJECTS */
^IMAGE = ("H7752_0000_ND4.TIF")
/* IDENTIFICATION DATA ELEMENTS */
DATA_SET_ID = "MEX-M-HRSC-4-REFDR-MAPPROJECT-EXT3-V4.0"
DATA_SET_NAME = "MARS EXPRESS HRSC MAP PROJECTED REFDR EXTENSION3 V4.0"
DETECTOR_ID = MEX_HRSC_NADIR
EVENT_TYPE = "MARS-REGIONAL-MAPPING-Im-Pf-At"
INSTRUMENT_HOST_ID = MEX
INSTRUMENT_HOST_NAME = "MARS EXPRESS"
INSTRUMENT_ID = HRSC
INSTRUMENT_NAME = "HIGH RESOLUTION STEREO CAMERA"
MISSION_NAME = "MARS EXPRESS"
MISSION_PHASE_NAME = ME_Phase_19
PROCESSING_LEVEL_ID = 4
PRODUCT_CREATION_TIME = 2023-02-02T15:10:19.000Z
PRODUCT_ID = "H7752_0000_ND4.TIF"
RELEASE_ID = 0003
REVISION_ID = 0000
/* QUALITY DATA ELEMENTS */
DATA_QUALITY_ID = 1
DATA_QUALITY_DESC = "Data calculated based on original SPICE kernels"
/* TIME DATA ELEMENTS */
SPACECRAFT_CLOCK_START_COUNT = "1/0211942589.07278"
SPACECRAFT_CLOCK_STOP_COUNT = "1/0211942960.05602"
START_TIME = 2010-01-19T00:57:11.459Z
STOP_TIME = 2010-01-19T01:01:34.450Z
/* ORBITAL DATA ELEMENTS */
ASCENDING_NODE_LONGITUDE = 69.39
MAXIMUM_RESOLUTION = 0.0204
FOOTPRINT_POINT_LATITUDE = (80.3059,80.4823,80.6944,80.8425, 80.8465,80.9829,80.2124,79.4251,78.7912 ,78.4672,77.9808,77.6561,77.1602, 76.8288,76.497,76.1597,75.8213,75.4827, 74.9674,74.6223,74.276,73.9243,73.397, 73.0395,72.6813,72.3232,71.9652,71.6072 ,71.2492,70.8912,70.5333,70.1756, 69.8179,69.4603,69.1027,68.5665,68.0304 ,67.6731,67.3158,66.9586,66.6015, 66.2444,65.8873,65.5303,65.1733,64.8163 ,64.4594,63.924,63.7456,63.7328,63.6896 ,63.6437,63.6031,63.5568,63.5144, 63.5112,63.51,63.8646,64.219,64.7509, 65.1059,65.6362,65.9904,66.5215,66.8757 ,67.2297,67.5836,67.9374,68.2912, 68.6449,68.9986,69.3522,69.7056,70.0589 ,70.4121,70.7652,71.1182,71.471,71.8238 ,72.1763,72.5286,72.8806,73.2287, 73.5737,74.0888,74.4266,74.7642,75.0992 ,75.5945,75.924,76.2487,76.5707,76.8922 ,77.5253,78.3059,78.9132,79.6637, 80.2464,80.391,80.3059)
FOOTPRINT_POINT_LONGITUDE = (163.55,166.185,169.974,173.279,173.38, 173.394,174.719,175.864,176.663,177.035 ,177.555,177.878,178.338,178.625, 178.898,179.161,179.412,179.651,179.992 ,180.208,180.413,180.613,180.896, 181.077,181.251,181.417,181.576,181.728 ,181.874,182.014,182.149,182.278, 182.403,182.523,182.638,182.803,182.96, 183.059,183.156,183.249,183.339,183.426 ,183.51,183.591,183.67,183.747,183.821, 183.927,183.962,183.964,182.424,181.202 ,180.298,179.395,178.65,178.597,178.571 ,178.472,178.37,178.208,178.09,177.924, 177.802,177.611,177.476,177.337,177.193 ,177.043,176.888,176.726,176.557, 176.382,176.199,176.01,175.812,175.605, 175.39,175.165,174.93,174.685,174.429, 174.161,173.883,173.595,173.138,172.82, 172.485,172.137,171.588,171.2,170.797, 170.376,169.931,168.983,167.654,166.475 ,164.799,163.297,162.892,163.55)
ORBIT_NUMBER = 7752
ORBITAL_ECCENTRICITY = 0.568
ORBITAL_INCLINATION = 86.83
ORBITAL_SEMIMAJOR_AXIS = 8684.26
PERIAPSIS_ALTITUDE = 375.65
PERIAPSIS_ARGUMENT_ANGLE = 78.96
PERIAPSIS_TIME = 2010-01-19T00:51:21.000Z
SPACECRAFT_ORIENTATION = (0.0,1.0,0.0)
^MEX_ORIENTATION_DESC = "MEX_ORIENTATION_DESC.TXT"
SPACECRAFT_POINTING_MODE = INERT
^MEX_POINTING_DESC = "MEX_POINTING_DESC.TXT"
RIGHT_ASCENSION = 139.71
DECLINATION = -64.151
OFFSET_ANGLE = -1e+32
SPACECRAFT_SOLAR_DISTANCE = 2.45551e+08
TARGET_NAME = MARS
/* CAMERA DATA ELEMENTS */
DETECTOR_TEMPERATURE = 17.7588
FOCAL_PLANE_TEMPERATURE = 7.3599
INST_CMPRS_NAME = "DISCRETE COSINE TRANSFORMATION (DCT)"
INST_CMPRS_RATIO = 7.37632
INST_CMPRS_QUALITY = 0
INST_CMPRS_QUANTZ_TBL_ID = 0
INSTRUMENT_TEMPERATURE = 10.4184
LENS_TEMPERATURE = 7.7677
MACROPIXEL_SIZE = 1
MISSING_FRAMES = 0
PIXEL_SUBSAMPLING_FLAG = N
SIGNAL_CHAIN_ID = 0
/* RADIOMETRIC DATA ELEMENTS */
BANDWIDTH = 177.0
CENTER_FILTER_WAVELENGTH = 677.5
RADIANCE_OFFSET = 4.20683
RADIANCE_SCALING_FACTOR = 0.0336546
REFLECTANCE_SCALING_FACTOR = 0.00107799
MEX:REFLECTANCE_OFFSET = 0.134749
/* IMAGE OBJECT DEFINITIONS */
OBJECT = IMAGE
  INTERCHANGE_FORMAT = BINARY
  LINES = 41427
  LINE_SAMPLES = 12243
  SAMPLE_TYPE = UNSIGNED_INTEGER
  SAMPLE_BITS = 8
  BANDS = 1
  BAND_STORAGE_TYPE = BAND_SEQUENTIAL
  MAXIMUM = 255
  MEAN = 87.3229
  MINIMUM = 1
  STANDARD_DEVIATION = 33.5729
END_OBJECT = IMAGE
/* MAP OBJECT DEFINITIONS */
OBJECT = IMAGE_MAP_PROJECTION
  ^DATA_SET_MAP_PROJECTION_CATALOG= "DSMAP.CAT"
  A_AXIS_RADIUS = 3396.0
  B_AXIS_RADIUS = 3396.0
  C_AXIS_RADIUS = 3396.0
  CENTER_LATITUDE = 0.0
  CENTER_LONGITUDE = 178.0
  COORDINATE_SYSTEM_NAME = PLANETOGRAPHIC
  COORDINATE_SYSTEM_TYPE = "BODY-FIXED ROTATING"
  EASTERNMOST_LONGITUDE = 183.964
  FIRST_STANDARD_PARALLEL = "N/A"
  LINE_FIRST_PIXEL = 1
  LINE_LAST_PIXEL = 41427
  LINE_PROJECTION_OFFSET = 191999.0
  MAP_PROJECTION_ROTATION = 0.0
  MAP_PROJECTION_TYPE = SINUSOIDAL
  MAP_RESOLUTION = 2370.85521546667
  MAP_SCALE = 0.025
  MAXIMUM_LATITUDE = 80.9829
  MINIMUM_LATITUDE = 63.51
  POSITIVE_LONGITUDE_DIRECTION = EAST
  REFERENCE_LATITUDE = "N/A"
  REFERENCE_LONGITUDE = "N/A"
  SAMPLE_FIRST_PIXEL = 1
  SAMPLE_LAST_PIXEL = 12243
  SAMPLE_PROJECTION_OFFSET = 5984.0
  SECOND_STANDARD_PARALLEL = "N/A"
  WESTERNMOST_LONGITUDE = 162.892
END_OBJECT = IMAGE_MAP_PROJECTION
END
