PDS_VERSION_ID = PDS3
/* FILE DATA ELEMENTS */
RECORD_TYPE = UNDEFINED
/* POINTERS TO DATA OBJECTS */
^IMAGE = ("H7752_0000_IR4.TIF")
/* IDENTIFICATION DATA ELEMENTS */
DATA_SET_ID = "MEX-M-HRSC-4-REFDR-MAPPROJECT-EXT3-V4.0"
DATA_SET_NAME = "MARS EXPRESS HRSC MAP PROJECTED REFDR EXTENSION3 V4.0"
DETECTOR_ID = MEX_HRSC_IR
EVENT_TYPE = "MARS-REGIONAL-MAPPING-Im-Pf-At"
INSTRUMENT_HOST_ID = MEX
INSTRUMENT_HOST_NAME = "MARS EXPRESS"
INSTRUMENT_ID = HRSC
INSTRUMENT_NAME = "HIGH RESOLUTION STEREO CAMERA"
MISSION_NAME = "MARS EXPRESS"
MISSION_PHASE_NAME = ME_Phase_19
PROCESSING_LEVEL_ID = 4
PRODUCT_CREATION_TIME = 2023-02-02T15:10:19.000Z
PRODUCT_ID = "H7752_0000_IR4.TIF"
RELEASE_ID = 0003
REVISION_ID = 0000
/* QUALITY DATA ELEMENTS */
DATA_QUALITY_ID = 1
DATA_QUALITY_DESC = "Data calculated based on original SPICE kernels"
/* TIME DATA ELEMENTS */
SPACECRAFT_CLOCK_START_COUNT = "1/0211942589.07278"
SPACECRAFT_CLOCK_STOP_COUNT = "1/0211942960.05602"
START_TIME = 2010-01-19T00:57:55.890Z
STOP_TIME = 2010-01-19T01:02:28.672Z
/* ORBITAL DATA ELEMENTS */
ASCENDING_NODE_LONGITUDE = 69.39
MAXIMUM_RESOLUTION = 0.1952
FOOTPRINT_POINT_LATITUDE = (80.179,80.4412,80.6068,80.7386,80.7423 ,81.0052,80.1933,79.5352,78.8666, 78.0206,77.6784,77.1616,76.8134,76.4649 ,75.9344,75.5805,75.0493,74.6961, 74.3433,73.9909,73.6385,73.2873,72.936, 72.5852,72.2346,71.8846,71.535,71.1855, 70.836,70.4872,70.1388,69.7908,69.4433, 69.0962,68.7493,68.4028,68.0564,67.7108 ,67.3653,67.0201,66.6754,66.3308, 65.9868,65.643,65.1274,64.7847,63.9284, 63.7574,63.7402,63.7228,63.6949,63.6515 ,63.5907,63.5435,63.5407,63.5416, 64.2207,64.7337,65.0777,65.7517,66.0924 ,66.4331,66.7755,67.117,67.4585,67.8005 ,68.1427,68.4852,68.8279,69.1709, 69.5137,69.8567,70.2001,70.5434,70.8872 ,71.2311,71.5754,71.9196,72.2637, 72.6079,72.9522,73.2966,73.6409,73.9851 ,74.3297,74.8466,75.1906,75.5347, 75.8787,76.2176,76.554,76.8908,77.3854, 77.7137,78.1997,78.9966,79.6195,80.2296 ,80.3795,80.179)
FOOTPRINT_POINT_LONGITUDE = (163.43,167.742,171.134,174.499,174.609 ,174.494,175.77,176.653,177.438,178.3, 178.613,179.053,179.329,179.591,179.962 ,180.195,180.521,180.725,180.919, 181.104,181.28,181.448,181.609,181.763, 181.91,182.051,182.186,182.315,182.439, 182.559,182.673,182.784,182.89,182.992, 183.09,183.185,183.277,183.365,183.45, 183.532,183.612,183.689,183.763,183.835 ,183.938,184.005,184.162,184.192, 184.195,183.336,182.253,180.952,179.488 ,178.51,178.456,178.419,178.222,178.061 ,177.946,177.727,177.606,177.48,177.348 ,177.213,177.073,176.927,176.775, 176.618,176.454,176.284,176.107,175.923 ,175.731,175.532,175.323,175.106, 174.878,174.641,174.394,174.136,173.865 ,173.582,173.285,172.974,172.647, 172.124,171.754,171.364,170.953,170.525 ,170.078,169.602,168.854,168.32,167.467 ,165.887,164.457,162.857,162.428, 163.43)
ORBIT_NUMBER = 7752
ORBITAL_ECCENTRICITY = 0.568
ORBITAL_INCLINATION = 86.83
ORBITAL_SEMIMAJOR_AXIS = 8684.26
PERIAPSIS_ALTITUDE = 375.65
PERIAPSIS_ARGUMENT_ANGLE = 78.96
PERIAPSIS_TIME = 2010-01-19T00:51:21.000Z
SPACECRAFT_ORIENTATION = (0.0,1.0,0.0)
^MEX_ORIENTATION_DESC = "MEX_ORIENTATION_DESC.TXT"
SPACECRAFT_POINTING_MODE = INERT
^MEX_POINTING_DESC = "MEX_POINTING_DESC.TXT"
RIGHT_ASCENSION = 139.71
DECLINATION = -64.151
OFFSET_ANGLE = -1e+32
SPACECRAFT_SOLAR_DISTANCE = 2.45551e+08
TARGET_NAME = MARS
/* CAMERA DATA ELEMENTS */
DETECTOR_TEMPERATURE = 16.9432
FOCAL_PLANE_TEMPERATURE = 7.3599
INST_CMPRS_NAME = "DISCRETE COSINE TRANSFORMATION (DCT)"
INST_CMPRS_RATIO = 15.0886
INST_CMPRS_QUALITY = 0
INST_CMPRS_QUANTZ_TBL_ID = 0
INSTRUMENT_TEMPERATURE = 10.4184
LENS_TEMPERATURE = 7.7677
MACROPIXEL_SIZE = 8
MISSING_FRAMES = 0
PIXEL_SUBSAMPLING_FLAG = N
SIGNAL_CHAIN_ID = 2
/* RADIOMETRIC DATA ELEMENTS */
BANDWIDTH = 81.0
CENTER_FILTER_WAVELENGTH = 955.5
RADIANCE_OFFSET = 0.878875
RADIANCE_SCALING_FACTOR = 0.0095191
REFLECTANCE_SCALING_FACTOR = 0.00123825
MEX:REFLECTANCE_OFFSET = 0.114324
/* IMAGE OBJECT DEFINITIONS */
OBJECT = IMAGE
  INTERCHANGE_FORMAT = BINARY
  LINES = 5179
  LINE_SAMPLES = 1531
  SAMPLE_TYPE = UNSIGNED_INTEGER
  SAMPLE_BITS = 8
  BANDS = 1
  BAND_STORAGE_TYPE = BAND_SEQUENTIAL
  MAXIMUM = 255
  MEAN = 113.296
  MINIMUM = 1
  STANDARD_DEVIATION = 30.9005
END_OBJECT = IMAGE
/* MAP OBJECT DEFINITIONS */
OBJECT = IMAGE_MAP_PROJECTION
  ^DATA_SET_MAP_PROJECTION_CATALOG= "DSMAP.CAT"
  A_AXIS_RADIUS = 3396.0
  B_AXIS_RADIUS = 3396.0
  C_AXIS_RADIUS = 3396.0
  CENTER_LATITUDE = 0.0
  CENTER_LONGITUDE = 178.0
  COORDINATE_SYSTEM_NAME = PLANETOGRAPHIC
  COORDINATE_SYSTEM_TYPE = "BODY-FIXED ROTATING"
  EASTERNMOST_LONGITUDE = 184.195
  FIRST_STANDARD_PARALLEL = "N/A"
  LINE_FIRST_PIXEL = 1
  LINE_LAST_PIXEL = 5179
  LINE_PROJECTION_OFFSET = 23999.4375
  MAP_PROJECTION_ROTATION = 0.0
  MAP_PROJECTION_TYPE = SINUSOIDAL
  MAP_RESOLUTION = 296.356901933333
  MAP_SCALE = 0.2
  MAXIMUM_LATITUDE = 81.0052
  MINIMUM_LATITUDE = 63.5407
  POSITIVE_LONGITUDE_DIRECTION = EAST
  REFERENCE_LATITUDE = "N/A"
  REFERENCE_LONGITUDE = "N/A"
  SAMPLE_FIRST_PIXEL = 1
  SAMPLE_LAST_PIXEL = 1531
  SAMPLE_PROJECTION_OFFSET = 747.5625
  SECOND_STANDARD_PARALLEL = "N/A"
  WESTERNMOST_LONGITUDE = 162.428
END_OBJECT = IMAGE_MAP_PROJECTION
END
