PDS_VERSION_ID = PDS3
/* FILE DATA ELEMENTS */
RECORD_TYPE = UNDEFINED
/* POINTERS TO DATA OBJECTS */
^IMAGE = ("H7728_0000_IR4.TIF")
/* IDENTIFICATION DATA ELEMENTS */
DATA_SET_ID = "MEX-M-HRSC-4-REFDR-MAPPROJECT-EXT3-V4.0"
DATA_SET_NAME = "MARS EXPRESS HRSC MAP PROJECTED REFDR EXTENSION3 V4.0"
DETECTOR_ID = MEX_HRSC_IR
EVENT_TYPE = "MARS-REGIONAL-MAPPING-Gl-Pf-At"
INSTRUMENT_HOST_ID = MEX
INSTRUMENT_HOST_NAME = "MARS EXPRESS"
INSTRUMENT_ID = HRSC
INSTRUMENT_NAME = "HIGH RESOLUTION STEREO CAMERA"
MISSION_NAME = "MARS EXPRESS"
MISSION_PHASE_NAME = ME_Phase_19
PROCESSING_LEVEL_ID = 4
PRODUCT_CREATION_TIME = 2023-02-02T15:10:19.000Z
PRODUCT_ID = "H7728_0000_IR4.TIF"
RELEASE_ID = 0003
REVISION_ID = 0000
/* QUALITY DATA ELEMENTS */
DATA_QUALITY_ID = 1
DATA_QUALITY_DESC = "Data calculated based on original SPICE kernels"
/* TIME DATA ELEMENTS */
SPACECRAFT_CLOCK_START_COUNT = "1/0211346730.09052"
SPACECRAFT_CLOCK_STOP_COUNT = "1/0211346968.12813"
START_TIME = 2010-01-12T03:26:42.415Z
STOP_TIME = 2010-01-12T03:29:20.636Z
/* ORBITAL DATA ELEMENTS */
ASCENDING_NODE_LONGITUDE = 69.85
MAXIMUM_RESOLUTION = 0.1617
FOOTPRINT_POINT_LATITUDE = (76.7542,76.8301,76.9355,76.9882, 77.0371,77.1057,77.1082,77.2396,76.764, 76.4734,76.0841,75.6951,75.2996,75.1011 ,74.704,74.4025,74.1997,73.997,73.7942, 73.488,73.281,73.074,72.8672,72.6606, 72.4498,72.2388,71.9225,71.7115,71.5008 ,71.2899,71.0794,70.7635,70.5529, 70.3424,70.1319,69.9215,69.606,69.3956, 69.1854,68.9753,68.7649,68.4501,68.24, 68.0301,67.8203,67.6103,67.4004,67.0859 ,66.8762,66.7715,66.7439,66.7101, 66.6806,66.6453,66.6111,66.5716,66.5173 ,66.5145,66.5153,66.8274,67.0358,67.244 ,67.5563,67.7644,67.9728,68.1811, 68.4935,68.7018,68.9101,69.1184,69.3266 ,69.535,69.7432,69.9514,70.1596,70.3681 ,70.6805,70.9929,71.3053,71.5136, 71.8258,72.0341,72.2422,72.4484,72.6523 ,72.8561,73.06,73.364,73.5633,73.7627, 73.9621,74.2608,74.6504,75.0403,75.331, 75.8066,76.3759,76.7469,76.8396, 76.7542)
FOOTPRINT_POINT_LONGITUDE = (72.4693,73.6787,75.5464,76.587,77.6341 ,79.2856,79.352,79.461,79.8484,80.0715, 80.3545,80.6213,80.878,81.0015,81.2384, 81.4096,81.521,81.6295,81.735,81.8892, 81.99,82.0882,82.184,82.2775,82.3703, 82.4608,82.5925,82.6774,82.7605,82.8414 ,82.9206,83.0358,83.1102,83.183,83.2541 ,83.3237,83.4251,83.4907,83.5551,83.618 ,83.6794,83.7696,83.828,83.8851,83.9413 ,83.9959,84.0497,84.1285,84.1796, 84.2049,84.2115,83.2344,82.4871,81.6948 ,80.9968,80.254,79.3282,79.2819,79.2502 ,79.1397,79.0634,78.9857,78.8662, 78.7846,78.7003,78.6143,78.4819,78.3912 ,78.2981,78.203,78.1057,78.0059,77.9038 ,77.7995,77.6926,77.5824,77.4126, 77.2366,77.0535,76.9275,76.7329,76.5984 ,76.4609,76.3209,76.1784,76.0326, 75.8822,75.6508,75.4939,75.3327,75.1667 ,74.9095,74.5576,74.1839,73.8914,73.384 ,72.7251,72.2612,72.141,72.4693)
ORBIT_NUMBER = 7728
ORBITAL_ECCENTRICITY = 0.568
ORBITAL_INCLINATION = 86.84
ORBITAL_SEMIMAJOR_AXIS = 8679.82
PERIAPSIS_ALTITUDE = 374.82
PERIAPSIS_ARGUMENT_ANGLE = 83.12
PERIAPSIS_TIME = 2010-01-12T03:20:57.000Z
SPACECRAFT_ORIENTATION = (0.0,1.0,0.0)
^MEX_ORIENTATION_DESC = "MEX_ORIENTATION_DESC.TXT"
SPACECRAFT_POINTING_MODE = INERT
^MEX_POINTING_DESC = "MEX_POINTING_DESC.TXT"
RIGHT_ASCENSION = 136.395
DECLINATION = -60.28
OFFSET_ANGLE = -1e+32
SPACECRAFT_SOLAR_DISTANCE = 2.44821e+08
TARGET_NAME = MARS
/* CAMERA DATA ELEMENTS */
DETECTOR_TEMPERATURE = 17.1471
FOCAL_PLANE_TEMPERATURE = 7.3599
INST_CMPRS_NAME = "DISCRETE COSINE TRANSFORMATION (DCT)"
INST_CMPRS_RATIO = 12.253
INST_CMPRS_QUALITY = 0
INST_CMPRS_QUANTZ_TBL_ID = 0
INSTRUMENT_TEMPERATURE = 11.8457
LENS_TEMPERATURE = 7.7677
MACROPIXEL_SIZE = 8
MISSING_FRAMES = 0
PIXEL_SUBSAMPLING_FLAG = N
SIGNAL_CHAIN_ID = 2
/* RADIOMETRIC DATA ELEMENTS */
BANDWIDTH = 81.0
CENTER_FILTER_WAVELENGTH = 955.5
RADIANCE_OFFSET = 1.10346
RADIANCE_SCALING_FACTOR = 0.00620098
REFLECTANCE_SCALING_FACTOR = 0.000801834
MEX:REFLECTANCE_OFFSET = 0.142686
/* IMAGE OBJECT DEFINITIONS */
OBJECT = IMAGE
  INTERCHANGE_FORMAT = BINARY
  LINES = 6351
  LINE_SAMPLES = 2036
  SAMPLE_TYPE = UNSIGNED_INTEGER
  SAMPLE_BITS = 8
  BANDS = 1
  BAND_STORAGE_TYPE = BAND_SEQUENTIAL
  MAXIMUM = 255
  MEAN = 180.768
  MINIMUM = 1
  STANDARD_DEVIATION = 36.2344
END_OBJECT = IMAGE
/* MAP OBJECT DEFINITIONS */
OBJECT = IMAGE_MAP_PROJECTION
  ^DATA_SET_MAP_PROJECTION_CATALOG= "DSMAP.CAT"
  A_AXIS_RADIUS = 3396.0
  B_AXIS_RADIUS = 3396.0
  C_AXIS_RADIUS = 3396.0
  CENTER_LATITUDE = 0.0
  CENTER_LONGITUDE = 80.0
  COORDINATE_SYSTEM_NAME = PLANETOGRAPHIC
  COORDINATE_SYSTEM_TYPE = "BODY-FIXED ROTATING"
  EASTERNMOST_LONGITUDE = 84.2115
  FIRST_STANDARD_PARALLEL = "N/A"
  LINE_FIRST_PIXEL = 1
  LINE_LAST_PIXEL = 6351
  LINE_PROJECTION_OFFSET = 45774.4375
  MAP_PROJECTION_ROTATION = 0.0
  MAP_PROJECTION_TYPE = SINUSOIDAL
  MAP_RESOLUTION = 592.713803866667
  MAP_SCALE = 0.1
  MAXIMUM_LATITUDE = 77.2396
  MINIMUM_LATITUDE = 66.5145
  POSITIVE_LONGITUDE_DIRECTION = EAST
  REFERENCE_LATITUDE = "N/A"
  REFERENCE_LONGITUDE = "N/A"
  SAMPLE_FIRST_PIXEL = 1
  SAMPLE_LAST_PIXEL = 2036
  SAMPLE_PROJECTION_OFFSET = 1045.8125
  SECOND_STANDARD_PARALLEL = "N/A"
  WESTERNMOST_LONGITUDE = 72.14100000000001
END_OBJECT = IMAGE_MAP_PROJECTION
END
