PDS_VERSION_ID = PDS3
/* FILE DATA ELEMENTS */
RECORD_TYPE = UNDEFINED
/* POINTERS TO DATA OBJECTS */
^IMAGE = ("H7723_0000_GR4.TIF")
/* IDENTIFICATION DATA ELEMENTS */
DATA_SET_ID = "MEX-M-HRSC-4-REFDR-MAPPROJECT-EXT3-V4.0"
DATA_SET_NAME = "MARS EXPRESS HRSC MAP PROJECTED REFDR EXTENSION3 V4.0"
DETECTOR_ID = MEX_HRSC_GREEN
EVENT_TYPE = "MARS-REGIONAL-VARIABLE-Gl-Pf-At"
INSTRUMENT_HOST_ID = MEX
INSTRUMENT_HOST_NAME = "MARS EXPRESS"
INSTRUMENT_ID = HRSC
INSTRUMENT_NAME = "HIGH RESOLUTION STEREO CAMERA"
MISSION_NAME = "MARS EXPRESS"
MISSION_PHASE_NAME = ME_Phase_19
PROCESSING_LEVEL_ID = 4
PRODUCT_CREATION_TIME = 2023-02-02T15:10:19.000Z
PRODUCT_ID = "H7723_0000_GR4.TIF"
RELEASE_ID = 0003
REVISION_ID = 0000
/* QUALITY DATA ELEMENTS */
DATA_QUALITY_ID = 1
DATA_QUALITY_DESC = "Data calculated based on original SPICE kernels"
/* TIME DATA ELEMENTS */
SPACECRAFT_CLOCK_START_COUNT = "1/0211222524.08251"
SPACECRAFT_CLOCK_STOP_COUNT = "1/0211222831.21451"
START_TIME = 2010-01-10T16:56:06.153Z
STOP_TIME = 2010-01-10T16:59:51.811Z
/* ORBITAL DATA ELEMENTS */
ASCENDING_NODE_LONGITUDE = 69.95
MAXIMUM_RESOLUTION = 0.0699
FOOTPRINT_POINT_LATITUDE = (80.8221,81.0108,81.1553,81.3,81.3036, 81.3906,80.6958,80.1347,79.5722,79.2855 ,78.9965,78.7072,78.4169,78.1269, 77.8335,77.5354,77.2383,76.7923,76.4929 ,76.1869,75.8819,75.5762,75.2706, 74.9584,74.6453,74.3324,73.8584,73.538, 73.2177,72.7369,72.4164,72.0957,71.775, 71.4543,71.1335,70.8126,70.4917,70.0102 ,69.6891,69.368,68.8862,68.565,68.2436, 67.9222,67.44,67.1184,66.7968,66.3141, 66.1532,65.9949,65.9565,65.8973,65.8593 ,65.7749,65.7721,65.7725,66.0925, 66.4123,66.8916,67.211,67.5303,68.0089, 68.4872,68.8058,69.1243,69.4426,69.7608 ,70.0788,70.3966,70.7142,71.0317, 71.3489,71.666,71.9828,72.2995,72.6159, 73.0901,73.4058,73.8757,74.1838,74.4917 ,74.9521,75.252,75.5514,75.8506,76.1495 ,76.4421,76.7328,77.1667,77.4573, 77.7426,78.1649,78.5854,78.8647,79.141, 79.6814,80.2177,80.6168,80.7487, 80.8221)
FOOTPRINT_POINT_LONGITUDE = (209.589,212.501,215.11,218.225,218.31, 218.467,219.715,220.589,221.367,221.732 ,222.08,222.409,222.72,223.016,223.3, 223.573,223.836,224.208,224.441,224.667 ,224.885,225.092,225.291,225.486, 225.672,225.851,226.107,226.272,226.431 ,226.657,226.801,226.939,227.072, 227.201,227.325,227.444,227.56,227.726, 227.832,227.935,228.083,228.178,228.27, 228.359,228.488,228.57,228.65,228.767, 228.805,228.841,227.727,226.35,225.596, 224.142,224.098,224.083,223.979,223.873 ,223.705,223.59,223.47,223.282,223.085, 222.948,222.806,222.659,222.506,222.348 ,222.184,222.015,221.839,221.656, 221.465,221.267,221.062,220.848,220.51, 220.274,219.903,219.646,219.377,218.953 ,218.662,218.358,218.039,217.705, 217.363,217.007,216.451,216.043,215.625 ,214.967,214.26,213.758,213.234,212.119 ,210.875,209.844,209.482,209.589)
ORBIT_NUMBER = 7723
ORBITAL_ECCENTRICITY = 0.568
ORBITAL_INCLINATION = 86.84
ORBITAL_SEMIMAJOR_AXIS = 8680.65
PERIAPSIS_ALTITUDE = 374.93
PERIAPSIS_ARGUMENT_ANGLE = 83.99
PERIAPSIS_TIME = 2010-01-10T16:52:02.000Z
SPACECRAFT_ORIENTATION = (0.0,1.0,0.0)
^MEX_ORIENTATION_DESC = "MEX_ORIENTATION_DESC.TXT"
SPACECRAFT_POINTING_MODE = INERT
^MEX_POINTING_DESC = "MEX_POINTING_DESC.TXT"
RIGHT_ASCENSION = 135.816
DECLINATION = -59.464
OFFSET_ANGLE = -1e+32
SPACECRAFT_SOLAR_DISTANCE = 2.44661e+08
TARGET_NAME = MARS
/* CAMERA DATA ELEMENTS */
DETECTOR_TEMPERATURE = 17.5549
FOCAL_PLANE_TEMPERATURE = 7.3599
INST_CMPRS_NAME = "DISCRETE COSINE TRANSFORMATION (DCT)"
INST_CMPRS_RATIO = 15.5405
INST_CMPRS_QUALITY = 0
INST_CMPRS_QUANTZ_TBL_ID = 0
INSTRUMENT_TEMPERATURE = 10.6223
LENS_TEMPERATURE = 7.7677
MACROPIXEL_SIZE = 4
MISSING_FRAMES = 0
PIXEL_SUBSAMPLING_FLAG = N
SIGNAL_CHAIN_ID = 2
/* RADIOMETRIC DATA ELEMENTS */
BANDWIDTH = 88.0
CENTER_FILTER_WAVELENGTH = 538.0
RADIANCE_OFFSET = 1.59031
RADIANCE_SCALING_FACTOR = 0.012473
REFLECTANCE_SCALING_FACTOR = 0.000642824
MEX:REFLECTANCE_OFFSET = 0.0819601
/* IMAGE OBJECT DEFINITIONS */
OBJECT = IMAGE
  INTERCHANGE_FORMAT = BINARY
  LINES = 18524
  LINE_SAMPLES = 5429
  SAMPLE_TYPE = UNSIGNED_INTEGER
  SAMPLE_BITS = 8
  BANDS = 1
  BAND_STORAGE_TYPE = BAND_SEQUENTIAL
  MAXIMUM = 255
  MEAN = 80.6473
  MINIMUM = 1
  STANDARD_DEVIATION = 21.6493
END_OBJECT = IMAGE
/* MAP OBJECT DEFINITIONS */
OBJECT = IMAGE_MAP_PROJECTION
  ^DATA_SET_MAP_PROJECTION_CATALOG= "DSMAP.CAT"
  A_AXIS_RADIUS = 3396.0
  B_AXIS_RADIUS = 3396.0
  C_AXIS_RADIUS = 3396.0
  CENTER_LATITUDE = 0.0
  CENTER_LONGITUDE = 223.0
  COORDINATE_SYSTEM_NAME = PLANETOGRAPHIC
  COORDINATE_SYSTEM_TYPE = "BODY-FIXED ROTATING"
  EASTERNMOST_LONGITUDE = 228.841
  FIRST_STANDARD_PARALLEL = "N/A"
  LINE_FIRST_PIXEL = 1
  LINE_LAST_PIXEL = 18524
  LINE_PROJECTION_OFFSET = 96476.125
  MAP_PROJECTION_ROTATION = 0.0
  MAP_PROJECTION_TYPE = SINUSOIDAL
  MAP_RESOLUTION = 1185.42760773333
  MAP_SCALE = 0.05
  MAXIMUM_LATITUDE = 81.39060000000001
  MINIMUM_LATITUDE = 65.77209999999999
  POSITIVE_LONGITUDE_DIRECTION = EAST
  REFERENCE_LATITUDE = "N/A"
  REFERENCE_LONGITUDE = "N/A"
  SAMPLE_FIRST_PIXEL = 1
  SAMPLE_LAST_PIXEL = 5429
  SAMPLE_PROJECTION_OFFSET = 2599.875
  SECOND_STANDARD_PARALLEL = "N/A"
  WESTERNMOST_LONGITUDE = 209.482
END_OBJECT = IMAGE_MAP_PROJECTION
END
