PDS_VERSION_ID = PDS3
/* FILE DATA ELEMENTS */
RECORD_TYPE = UNDEFINED
/* POINTERS TO DATA OBJECTS */
^IMAGE = ("H7576_0001_GR4.TIF")
/* IDENTIFICATION DATA ELEMENTS */
DATA_SET_ID = "MEX-M-HRSC-4-REFDR-MAPPROJECT-EXT3-V4.0"
DATA_SET_NAME = "MARS EXPRESS HRSC MAP PROJECTED REFDR EXTENSION3 V4.0"
DETECTOR_ID = MEX_HRSC_GREEN
EVENT_TYPE = "MARS-REGIONAL-MAPPING-Vo-Te"
INSTRUMENT_HOST_ID = MEX
INSTRUMENT_HOST_NAME = "MARS EXPRESS"
INSTRUMENT_ID = HRSC
INSTRUMENT_NAME = "HIGH RESOLUTION STEREO CAMERA"
MISSION_NAME = "MARS EXPRESS"
MISSION_PHASE_NAME = ME_Phase_19
PROCESSING_LEVEL_ID = 4
PRODUCT_CREATION_TIME = 2023-02-02T15:10:19.000Z
PRODUCT_ID = "H7576_0001_GR4.TIF"
RELEASE_ID = 0003
REVISION_ID = 0000
/* QUALITY DATA ELEMENTS */
DATA_QUALITY_ID = 1
DATA_QUALITY_DESC = "Data calculated based on original SPICE kernels"
/* TIME DATA ELEMENTS */
SPACECRAFT_CLOCK_START_COUNT = "1/0207573377.07302"
SPACECRAFT_CLOCK_STOP_COUNT = "1/0207573677.61733"
START_TIME = 2009-11-29T11:17:01.541Z
STOP_TIME = 2009-11-29T11:19:40.605Z
/* ORBITAL DATA ELEMENTS */
ASCENDING_NODE_LONGITUDE = 72.79
MAXIMUM_RESOLUTION = 0.0871
FOOTPRINT_POINT_LATITUDE = (40.7645,40.7623,40.7597,40.7547, 40.7493,40.741,40.7349,40.7274,40.7268, 40.7168,40.4576,40.1061,39.7554,39.4887 ,39.1325,38.6828,38.3218,38.0472, 37.6811,37.4032,37.2175,37.0321,36.7508 ,36.5627,36.3747,36.1871,35.9997, 35.8125,35.6256,35.4389,35.2524,35.0663 ,34.8804,34.6947,34.5092,34.324,34.1391 ,33.9544,33.77,33.5859,33.4021,33.2184, 33.035,32.669,32.3042,31.9405,31.6683, 31.5776,31.5749,31.5785,31.582,31.5834, 31.5844,31.5844,31.5832,31.5813,31.5789 ,31.5787,31.58,31.8531,32.2183,32.5845, 32.768,32.9518,33.1357,33.3199,33.5044, 33.6892,33.8742,34.0595,34.245,34.4308, 34.6168,34.803,34.9896,35.1763,35.3633, 35.5506,35.7382,35.926,36.114,36.3022, 36.4907,36.6794,36.8682,37.0562,37.2423 ,37.4287,37.7075,37.8911,38.0749, 38.3505,38.7127,39.0747,39.4318,39.7889 ,40.1407,40.6666,40.7533,40.7645)
FOOTPRINT_POINT_LONGITUDE = (295.862,295.495,295.197,294.785, 294.442,294.007,293.732,293.434,293.411 ,293.385,293.389,293.394,293.399, 293.402,293.406,293.409,293.412,293.414 ,293.416,293.417,293.417,293.418, 293.418,293.418,293.418,293.418,293.418 ,293.417,293.417,293.416,293.415, 293.414,293.413,293.412,293.411,293.409 ,293.407,293.406,293.404,293.402,293.4, 293.398,293.396,293.391,293.386,293.381 ,293.376,293.375,293.375,293.708, 294.096,294.38,294.715,295.076,295.541, 295.851,296.109,296.135,296.144,296.138 ,296.13,296.122,296.118,296.114,296.11, 296.106,296.101,296.097,296.092,296.088 ,296.083,296.079,296.074,296.07,296.065 ,296.06,296.055,296.05,296.045,296.04, 296.034,296.029,296.024,296.018,296.014 ,296.008,296.002,295.996,295.988, 295.982,295.976,295.968,295.956,295.944 ,295.932,295.919,295.907,295.888, 295.885,295.862)
ORBIT_NUMBER = 7576
ORBITAL_ECCENTRICITY = 0.568
ORBITAL_INCLINATION = 86.83
ORBITAL_SEMIMAJOR_AXIS = 8689.35
PERIAPSIS_ALTITUDE = 371.25
PERIAPSIS_ARGUMENT_ANGLE = 109.55
PERIAPSIS_TIME = 2009-11-29T11:09:16.000Z
SPACECRAFT_ORIENTATION = (0.0,-1.0,0.0)
^MEX_ORIENTATION_DESC = "MEX_ORIENTATION_DESC.TXT"
SPACECRAFT_POINTING_MODE = NADIR
^MEX_POINTING_DESC = "MEX_POINTING_DESC.TXT"
RIGHT_ASCENSION = -1e+32
DECLINATION = -1e+32
OFFSET_ANGLE = -1e+32
SPACECRAFT_SOLAR_DISTANCE = 2.38881e+08
TARGET_NAME = MARS
/* CAMERA DATA ELEMENTS */
DETECTOR_TEMPERATURE = 18.9822
FOCAL_PLANE_TEMPERATURE = 7.5638
INST_CMPRS_NAME = "DISCRETE COSINE TRANSFORMATION (DCT)"
INST_CMPRS_RATIO = 13.0553
INST_CMPRS_QUALITY = 0
INST_CMPRS_QUANTZ_TBL_ID = 0
INSTRUMENT_TEMPERATURE = 12.2535
LENS_TEMPERATURE = 7.9716
MACROPIXEL_SIZE = 4
MISSING_FRAMES = 0
PIXEL_SUBSAMPLING_FLAG = N
SIGNAL_CHAIN_ID = 2
/* RADIOMETRIC DATA ELEMENTS */
BANDWIDTH = 88.0
CENTER_FILTER_WAVELENGTH = 538.0
RADIANCE_OFFSET = 1.79659
RADIANCE_SCALING_FACTOR = 0.00588609
REFLECTANCE_SCALING_FACTOR = 0.000289189
MEX:REFLECTANCE_OFFSET = 0.0882683
/* IMAGE OBJECT DEFINITIONS */
OBJECT = IMAGE
  INTERCHANGE_FORMAT = BINARY
  LINES = 5438
  LINE_SAMPLES = 1431
  SAMPLE_TYPE = UNSIGNED_INTEGER
  SAMPLE_BITS = 8
  BANDS = 1
  BAND_STORAGE_TYPE = BAND_SEQUENTIAL
  MAXIMUM = 255
  MEAN = 124.449
  MINIMUM = 1
  STANDARD_DEVIATION = 25.53
END_OBJECT = IMAGE
/* MAP OBJECT DEFINITIONS */
OBJECT = IMAGE_MAP_PROJECTION
  ^DATA_SET_MAP_PROJECTION_CATALOG= "DSMAP.CAT"
  A_AXIS_RADIUS = 3396.0
  B_AXIS_RADIUS = 3396.0
  C_AXIS_RADIUS = 3396.0
  CENTER_LATITUDE = 0.0
  CENTER_LONGITUDE = 295.0
  COORDINATE_SYSTEM_NAME = PLANETOGRAPHIC
  COORDINATE_SYSTEM_TYPE = "BODY-FIXED ROTATING"
  EASTERNMOST_LONGITUDE = 296.144
  FIRST_STANDARD_PARALLEL = "N/A"
  LINE_FIRST_PIXEL = 1
  LINE_LAST_PIXEL = 5438
  LINE_PROJECTION_OFFSET = 24161.625
  MAP_PROJECTION_ROTATION = 0.0
  MAP_PROJECTION_TYPE = SINUSOIDAL
  MAP_RESOLUTION = 592.713803866667
  MAP_SCALE = 0.1
  MAXIMUM_LATITUDE = 40.7645
  MINIMUM_LATITUDE = 31.5749
  POSITIVE_LONGITUDE_DIRECTION = EAST
  REFERENCE_LATITUDE = "N/A"
  REFERENCE_LONGITUDE = "N/A"
  SAMPLE_FIRST_PIXEL = 1
  SAMPLE_LAST_PIXEL = 1431
  SAMPLE_PROJECTION_OFFSET = 839.875
  SECOND_STANDARD_PARALLEL = "N/A"
  WESTERNMOST_LONGITUDE = 293.375
END_OBJECT = IMAGE_MAP_PROJECTION
END
