PDS_VERSION_ID = PDS3
/* FILE DATA ELEMENTS */
RECORD_TYPE = UNDEFINED
/* POINTERS TO DATA OBJECTS */
^IMAGE = ("H7572_0000_BL4.TIF")
/* IDENTIFICATION DATA ELEMENTS */
DATA_SET_ID = "MEX-M-HRSC-4-REFDR-MAPPROJECT-EXT3-V4.0"
DATA_SET_NAME = "MARS EXPRESS HRSC MAP PROJECTED REFDR EXTENSION3 V4.0"
DETECTOR_ID = MEX_HRSC_BLUE
EVENT_TYPE = "MARS-REGIONAL-MAPPING-Im-Pf"
INSTRUMENT_HOST_ID = MEX
INSTRUMENT_HOST_NAME = "MARS EXPRESS"
INSTRUMENT_ID = HRSC
INSTRUMENT_NAME = "HIGH RESOLUTION STEREO CAMERA"
MISSION_NAME = "MARS EXPRESS"
MISSION_PHASE_NAME = ME_Phase_19
PROCESSING_LEVEL_ID = 4
PRODUCT_CREATION_TIME = 2023-02-02T15:10:19.000Z
PRODUCT_ID = "H7572_0000_BL4.TIF"
RELEASE_ID = 0003
REVISION_ID = 0000
/* QUALITY DATA ELEMENTS */
DATA_QUALITY_ID = 1
DATA_QUALITY_DESC = "Data calculated based on original SPICE kernels"
/* TIME DATA ELEMENTS */
SPACECRAFT_CLOCK_START_COUNT = "1/0207473674.09064"
SPACECRAFT_CLOCK_STOP_COUNT = "1/0207473926.50743"
START_TIME = 2009-11-28T07:35:16.300Z
STOP_TIME = 2009-11-28T07:38:13.316Z
/* ORBITAL DATA ELEMENTS */
ASCENDING_NODE_LONGITUDE = 72.87
MAXIMUM_RESOLUTION = 0.1209
FOOTPRINT_POINT_LATITUDE = (65.8422,65.8039,65.7523,65.7121, 65.7106,65.7273,65.5063,65.2855,65.0646 ,64.8438,64.623,64.4022,64.1815,63.9608 ,63.7401,63.5196,63.299,63.0785,62.858, 62.6377,62.4174,62.1972,61.977,61.7569, 61.5369,61.317,61.0972,60.8774,60.6578, 60.4381,60.2186,59.9993,59.78,59.5608, 59.3418,58.9041,58.4668,58.03,57.4847, 57.0491,56.6141,56.1797,55.7458,55.413, 55.1907,54.9686,54.7466,54.6357,54.5652 ,54.6003,54.6208,54.6364,54.647,54.6476 ,54.6499,54.8726,55.0954,55.3183, 55.5414,55.8744,56.3101,56.7463,57.1832 ,57.6207,58.0588,58.4975,58.717,58.9366 ,59.1565,59.3764,59.5964,59.8166, 60.0369,60.2573,60.4779,60.6985,60.9193 ,61.1401,61.3611,61.5822,61.8034, 62.0247,62.2461,62.4675,62.6891,62.9108 ,63.1325,63.3544,63.5763,63.7983, 64.0203,64.2425,64.4647,64.687,64.9093, 65.1317,65.3542,65.688,65.7993,65.8422)
FOOTPRINT_POINT_LONGITUDE = (336.9,335.887,334.738,333.955,333.927, 333.814,333.885,333.953,334.02,334.086, 334.15,334.213,334.275,334.335,334.394, 334.452,334.508,334.563,334.617,334.67, 334.722,334.773,334.822,334.871,334.919 ,334.965,335.011,335.056,335.099, 335.142,335.184,335.226,335.266,335.305 ,335.344,335.419,335.49,335.559,335.642 ,335.705,335.765,335.823,335.878, 335.919,335.946,335.972,335.998,336.01, 336.018,336.911,337.526,338.07,338.496, 338.52,338.536,338.516,338.496,338.475, 338.454,338.423,338.381,338.337,338.292 ,338.245,338.197,338.147,338.121, 338.095,338.069,338.042,338.014,337.987 ,337.958,337.929,337.9,337.87,337.84, 337.809,337.777,337.745,337.712,337.679 ,337.645,337.611,337.575,337.539, 337.503,337.466,337.428,337.389,337.35, 337.31,337.269,337.227,337.184,337.141, 337.096,337.028,337.005,336.9)
ORBIT_NUMBER = 7572
ORBITAL_ECCENTRICITY = 0.568
ORBITAL_INCLINATION = 86.84
ORBITAL_SEMIMAJOR_AXIS = 8689.29
PERIAPSIS_ALTITUDE = 370.94
PERIAPSIS_ARGUMENT_ANGLE = 110.22
PERIAPSIS_TIME = 2009-11-28T07:34:11.000Z
SPACECRAFT_ORIENTATION = (0.0,-1.0,0.0)
^MEX_ORIENTATION_DESC = "MEX_ORIENTATION_DESC.TXT"
SPACECRAFT_POINTING_MODE = NADIR
^MEX_POINTING_DESC = "MEX_POINTING_DESC.TXT"
RIGHT_ASCENSION = -1e+32
DECLINATION = -1e+32
OFFSET_ANGLE = -1e+32
SPACECRAFT_SOLAR_DISTANCE = 2.38697e+08
TARGET_NAME = MARS
/* CAMERA DATA ELEMENTS */
DETECTOR_TEMPERATURE = 17.9627
FOCAL_PLANE_TEMPERATURE = 7.3599
INST_CMPRS_NAME = "DISCRETE COSINE TRANSFORMATION (DCT)"
INST_CMPRS_RATIO = 27.6323
INST_CMPRS_QUALITY = 0
INST_CMPRS_QUANTZ_TBL_ID = 0
INSTRUMENT_TEMPERATURE = 9.8067
LENS_TEMPERATURE = 8.1755
MACROPIXEL_SIZE = 8
MISSING_FRAMES = 0
PIXEL_SUBSAMPLING_FLAG = N
SIGNAL_CHAIN_ID = 2
/* RADIOMETRIC DATA ELEMENTS */
BANDWIDTH = 76.0
CENTER_FILTER_WAVELENGTH = 444.0
RADIANCE_OFFSET = 0.738794
RADIANCE_SCALING_FACTOR = 0.00500154
REFLECTANCE_SCALING_FACTOR = 0.000292789
MEX:REFLECTANCE_OFFSET = 0.0432488
/* IMAGE OBJECT DEFINITIONS */
OBJECT = IMAGE
  INTERCHANGE_FORMAT = BINARY
  LINES = 6695
  LINE_SAMPLES = 1309
  SAMPLE_TYPE = UNSIGNED_INTEGER
  SAMPLE_BITS = 8
  BANDS = 1
  BAND_STORAGE_TYPE = BAND_SEQUENTIAL
  MAXIMUM = 255
  MEAN = 170.57
  MINIMUM = 1
  STANDARD_DEVIATION = 83.8933
END_OBJECT = IMAGE
/* MAP OBJECT DEFINITIONS */
OBJECT = IMAGE_MAP_PROJECTION
  ^DATA_SET_MAP_PROJECTION_CATALOG= "DSMAP.CAT"
  A_AXIS_RADIUS = 3396.0
  B_AXIS_RADIUS = 3396.0
  C_AXIS_RADIUS = 3396.0
  CENTER_LATITUDE = 0.0
  CENTER_LONGITUDE = 337.0
  COORDINATE_SYSTEM_NAME = PLANETOGRAPHIC
  COORDINATE_SYSTEM_TYPE = "BODY-FIXED ROTATING"
  EASTERNMOST_LONGITUDE = 338.536
  FIRST_STANDARD_PARALLEL = "N/A"
  LINE_FIRST_PIXEL = 1
  LINE_LAST_PIXEL = 6695
  LINE_PROJECTION_OFFSET = 39041.1875
  MAP_PROJECTION_ROTATION = 0.0
  MAP_PROJECTION_TYPE = SINUSOIDAL
  MAP_RESOLUTION = 592.713803866667
  MAP_SCALE = 0.1
  MAXIMUM_LATITUDE = 65.84220000000001
  MINIMUM_LATITUDE = 54.5652
  POSITIVE_LONGITUDE_DIRECTION = EAST
  REFERENCE_LATITUDE = "N/A"
  REFERENCE_LONGITUDE = "N/A"
  SAMPLE_FIRST_PIXEL = 1
  SAMPLE_LAST_PIXEL = 1309
  SAMPLE_PROJECTION_OFFSET = 785.1875
  SECOND_STANDARD_PARALLEL = "N/A"
  WESTERNMOST_LONGITUDE = 333.814
END_OBJECT = IMAGE_MAP_PROJECTION
END
