PDS_VERSION_ID = PDS3
/* FILE DATA ELEMENTS */
RECORD_TYPE = UNDEFINED
/* POINTERS TO DATA OBJECTS */
^IMAGE = ("H7570_0000_S24.TIF")
/* IDENTIFICATION DATA ELEMENTS */
DATA_SET_ID = "MEX-M-HRSC-4-REFDR-MAPPROJECT-EXT3-V4.0"
DATA_SET_NAME = "MARS EXPRESS HRSC MAP PROJECTED REFDR EXTENSION3 V4.0"
DETECTOR_ID = MEX_HRSC_S2
EVENT_TYPE = "MARS-REGIONAL-VARIABLE-Gl-At"
INSTRUMENT_HOST_ID = MEX
INSTRUMENT_HOST_NAME = "MARS EXPRESS"
INSTRUMENT_ID = HRSC
INSTRUMENT_NAME = "HIGH RESOLUTION STEREO CAMERA"
MISSION_NAME = "MARS EXPRESS"
MISSION_PHASE_NAME = ME_Phase_19
PROCESSING_LEVEL_ID = 4
PRODUCT_CREATION_TIME = 2023-02-02T15:10:19.000Z
PRODUCT_ID = "H7570_0000_S24.TIF"
RELEASE_ID = 0003
REVISION_ID = 0000
/* QUALITY DATA ELEMENTS */
DATA_QUALITY_ID = 1
DATA_QUALITY_DESC = "Data calculated based on original SPICE kernels"
/* TIME DATA ELEMENTS */
SPACECRAFT_CLOCK_START_COUNT = "1/0207423729.07283"
SPACECRAFT_CLOCK_STOP_COUNT = "1/0207424005.07164"
START_TIME = 2009-11-27T17:43:30.600Z
STOP_TIME = 2009-11-27T17:46:45.618Z
/* ORBITAL DATA ELEMENTS */
ASCENDING_NODE_LONGITUDE = 72.9
MAXIMUM_RESOLUTION = 0.032
FOOTPRINT_POINT_LATITUDE = (83.5849,83.419,83.3015,82.9683,82.9613 ,83.0595,82.848,82.5256,82.1978,81.9766 ,81.7534,81.5286,81.3021,80.8446,80.498 ,80.1492,79.9153,79.68,79.3256,79.088, 78.8501,78.6114,78.3719,78.1319,77.8914 ,77.6503,77.4089,77.1672,76.9242, 76.5594,76.3163,75.9511,75.707,75.4626, 75.218,74.8505,74.6053,74.3601,73.9917, 73.6232,73.3774,73.0083,72.5163,72.1474 ,71.6549,71.2856,71.1625,71.1264, 71.1784,71.2486,71.3196,71.3211,71.3221 ,71.6964,71.946,72.196,72.5704,72.8205, 73.0704,73.3205,73.5708,73.821,74.0714, 74.4467,74.8223,75.0725,75.3231,75.573, 75.8236,76.0741,76.3239,76.5743,76.8242 ,77.0743,77.4491,77.6988,77.9479, 78.1965,78.4463,78.6949,79.0678,79.3162 ,79.5643,79.9355,80.1825,80.4293, 80.6758,80.9215,81.1669,81.4118,81.6563 ,81.9003,82.1436,82.3863,82.6281, 82.8692,83.2287,83.5858,83.7042, 83.5849)
FOOTPRINT_POINT_LONGITUDE = (162.622,159.329,157.292,152.415, 152.324,151.332,152.478,154.073,155.533 ,156.437,157.292,158.101,158.866,160.28 ,161.248,162.145,162.707,163.245, 164.005,164.484,164.94,165.377,165.796, 166.197,166.58,166.949,167.302,167.641, 167.969,168.436,168.731,169.154,169.424 ,169.684,169.934,170.294,170.524, 170.745,171.064,171.367,171.561,171.84, 172.192,172.441,172.757,172.981,173.053 ,173.074,174.015,175.434,177.102, 177.142,177.156,177.015,176.917,176.816 ,176.658,176.549,176.437,176.321, 176.202,176.078,175.95,175.751,175.541, 175.394,175.243,175.086,174.923,174.755 ,174.579,174.397,174.208,174.011,173.7, 173.483,173.255,173.018,172.77,172.511, 172.1,171.81,171.505,171.02,170.675, 170.312,169.93,169.527,169.101,168.65, 168.172,167.666,167.127,166.554,165.942 ,165.289,164.222,163.034,162.608, 162.622)
ORBIT_NUMBER = 7570
ORBITAL_ECCENTRICITY = 0.568
ORBITAL_INCLINATION = 86.83
ORBITAL_SEMIMAJOR_AXIS = 8689.61
PERIAPSIS_ALTITUDE = 371.14
PERIAPSIS_ARGUMENT_ANGLE = 110.58
PERIAPSIS_TIME = 2009-11-27T17:46:43.000Z
SPACECRAFT_ORIENTATION = (0.0,-1.0,0.0)
^MEX_ORIENTATION_DESC = "MEX_ORIENTATION_DESC.TXT"
SPACECRAFT_POINTING_MODE = NADIR
^MEX_POINTING_DESC = "MEX_POINTING_DESC.TXT"
RIGHT_ASCENSION = -1e+32
DECLINATION = -1e+32
OFFSET_ANGLE = -1e+32
SPACECRAFT_SOLAR_DISTANCE = 2.38605e+08
TARGET_NAME = MARS
/* CAMERA DATA ELEMENTS */
DETECTOR_TEMPERATURE = 17.7588
FOCAL_PLANE_TEMPERATURE = 8.1755
INST_CMPRS_NAME = "DISCRETE COSINE TRANSFORMATION (DCT)"
INST_CMPRS_RATIO = 12.8897
INST_CMPRS_QUALITY = 0
INST_CMPRS_QUANTZ_TBL_ID = 0
INSTRUMENT_TEMPERATURE = 11.234
LENS_TEMPERATURE = 8.5833
MACROPIXEL_SIZE = 2
MISSING_FRAMES = 0
PIXEL_SUBSAMPLING_FLAG = N
SIGNAL_CHAIN_ID = 1
/* RADIOMETRIC DATA ELEMENTS */
BANDWIDTH = 178.0
CENTER_FILTER_WAVELENGTH = 679.0
RADIANCE_OFFSET = 2.54328
RADIANCE_SCALING_FACTOR = 0.0247993
REFLECTANCE_SCALING_FACTOR = 0.000747697
MEX:REFLECTANCE_OFFSET = 0.0766795
/* IMAGE OBJECT DEFINITIONS */
OBJECT = IMAGE
  INTERCHANGE_FORMAT = BINARY
  LINES = 29955
  LINE_SAMPLES = 10821
  SAMPLE_TYPE = UNSIGNED_INTEGER
  SAMPLE_BITS = 8
  BANDS = 1
  BAND_STORAGE_TYPE = BAND_SEQUENTIAL
  MAXIMUM = 254
  MEAN = 116.661
  MINIMUM = 1
  STANDARD_DEVIATION = 67.0374
END_OBJECT = IMAGE
/* MAP OBJECT DEFINITIONS */
OBJECT = IMAGE_MAP_PROJECTION
  ^DATA_SET_MAP_PROJECTION_CATALOG= "DSMAP.CAT"
  A_AXIS_RADIUS = 3396.0
  B_AXIS_RADIUS = 3396.0
  C_AXIS_RADIUS = 3396.0
  CENTER_LATITUDE = 0.0
  CENTER_LONGITUDE = 170.0
  COORDINATE_SYSTEM_NAME = PLANETOGRAPHIC
  COORDINATE_SYSTEM_TYPE = "BODY-FIXED ROTATING"
  EASTERNMOST_LONGITUDE = 177.156
  FIRST_STANDARD_PARALLEL = "N/A"
  LINE_FIRST_PIXEL = 1
  LINE_LAST_PIXEL = 29955
  LINE_PROJECTION_OFFSET = 198549.75
  MAP_PROJECTION_ROTATION = 0.0
  MAP_PROJECTION_TYPE = SINUSOIDAL
  MAP_RESOLUTION = 2370.85521546667
  MAP_SCALE = 0.025
  MAXIMUM_LATITUDE = 83.7042
  MINIMUM_LATITUDE = 71.1264
  POSITIVE_LONGITUDE_DIRECTION = EAST
  REFERENCE_LATITUDE = "N/A"
  REFERENCE_LONGITUDE = "N/A"
  SAMPLE_FIRST_PIXEL = 1
  SAMPLE_LAST_PIXEL = 10821
  SAMPLE_PROJECTION_OFFSET = 5400.75
  SECOND_STANDARD_PARALLEL = "N/A"
  WESTERNMOST_LONGITUDE = 151.332
END_OBJECT = IMAGE_MAP_PROJECTION
END
