PDS_VERSION_ID = PDS3
/* FILE DATA ELEMENTS */
RECORD_TYPE = UNDEFINED
/* POINTERS TO DATA OBJECTS */
^IMAGE = ("H7543_0000_IR4.TIF")
/* IDENTIFICATION DATA ELEMENTS */
DATA_SET_ID = "MEX-M-HRSC-4-REFDR-MAPPROJECT-EXT3-V4.0"
DATA_SET_NAME = "MARS EXPRESS HRSC MAP PROJECTED REFDR EXTENSION3 V4.0"
DETECTOR_ID = MEX_HRSC_IR
EVENT_TYPE = "MARS-REGIONAL-MAPPING-Im-Pf-At"
INSTRUMENT_HOST_ID = MEX
INSTRUMENT_HOST_NAME = "MARS EXPRESS"
INSTRUMENT_ID = HRSC
INSTRUMENT_NAME = "HIGH RESOLUTION STEREO CAMERA"
MISSION_NAME = "MARS EXPRESS"
MISSION_PHASE_NAME = ME_Phase_18
PROCESSING_LEVEL_ID = 4
PRODUCT_CREATION_TIME = 2023-02-02T15:10:19.000Z
PRODUCT_ID = "H7543_0000_IR4.TIF"
RELEASE_ID = 0003
REVISION_ID = 0000
/* QUALITY DATA ELEMENTS */
DATA_QUALITY_ID = 1
DATA_QUALITY_DESC = "Data calculated based on original SPICE kernels"
/* TIME DATA ELEMENTS */
SPACECRAFT_CLOCK_START_COUNT = "1/0206753665.07279"
SPACECRAFT_CLOCK_STOP_COUNT = "1/0206753895.23947"
START_TIME = 2009-11-19T23:34:33.473Z
STOP_TIME = 2009-11-19T23:37:10.638Z
/* ORBITAL DATA ELEMENTS */
ASCENDING_NODE_LONGITUDE = 73.43
MAXIMUM_RESOLUTION = 0.0621
FOOTPRINT_POINT_LATITUDE = (65.7989,65.7562,65.7296,65.7076, 65.6623,65.6607,65.5538,65.2387,65.0285 ,64.8181,64.5025,64.2917,63.9752, 63.7643,63.5784,63.0469,62.692,62.3369, 61.9813,61.6255,61.4474,61.2692,61.0912 ,60.9128,60.7345,60.467,60.2608,60.0476 ,59.7279,59.5142,59.3009,59.0872, 58.7666,58.5533,58.3393,58.0185,57.8047 ,57.5906,57.2694,57.0551,56.7337, 56.4122,56.1979,55.9834,55.6617,55.5544 ,55.4706,55.4861,55.5129,55.5283, 55.5452,55.5571,55.5577,55.5589,55.7742 ,55.9898,56.2049,56.5276,56.7428,56.958 ,57.1733,57.3882,57.6034,57.8185, 58.0335,58.2486,58.4634,58.6783,59.0004 ,59.2152,59.4301,59.7515,59.9658, 60.1803,60.3946,60.6879,60.8673,61.1363 ,61.3158,61.4954,61.6743,61.8533, 62.1218,62.39,62.5688,62.837,63.0157, 63.1942,63.3729,63.7295,63.9207,64.1333 ,64.3461,64.5583,64.7706,65.0888,65.301 ,65.5129,65.6187,65.7989)
FOOTPRINT_POINT_LONGITUDE = (21.5782,20.4856,19.8989,19.4532, 18.6186,18.5908,18.528,18.6306,18.6974, 18.7628,18.8587,18.921,19.0122,19.0716, 19.1229,19.2645,19.3553,19.4431,19.5281 ,19.6105,19.6508,19.6903,19.7293, 19.7676,19.8054,19.861,19.9029,19.9453, 20.0076,20.048,20.0878,20.1267,20.1838, 20.2212,20.2577,20.3112,20.3461,20.3803 ,20.4304,20.463,20.5108,20.5574,20.5877 ,20.6173,20.6609,20.6751,20.6861,21.013 ,21.6484,22.0651,22.592,23.0093,23.0313 ,23.0385,23.0195,22.9999,22.9804, 22.9504,22.9299,22.9092,22.888,22.8667, 22.8449,22.8227,22.8002,22.7773,22.7542 ,22.7306,22.6946,22.67,22.6449,22.6072, 22.5814,22.555,22.5282,22.4907,22.4675, 22.4319,22.4076,22.3828,22.3583,22.3332 ,22.2949,22.2558,22.2292,22.1885, 22.1609,22.1329,22.1043,22.0464,22.0146 ,21.9785,21.9416,21.9045,21.8665, 21.8082,21.7681,21.7276,21.7071, 21.5782)
ORBIT_NUMBER = 7543
ORBITAL_ECCENTRICITY = 0.569
ORBITAL_INCLINATION = 86.82
ORBITAL_SEMIMAJOR_AXIS = 8697.91
PERIAPSIS_ALTITUDE = 369.12
PERIAPSIS_ARGUMENT_ANGLE = 115.27
PERIAPSIS_TIME = 2009-11-19T23:35:18.000Z
SPACECRAFT_ORIENTATION = (0.0,-1.0,0.0)
^MEX_ORIENTATION_DESC = "MEX_ORIENTATION_DESC.TXT"
SPACECRAFT_POINTING_MODE = NADIR
^MEX_POINTING_DESC = "MEX_POINTING_DESC.TXT"
RIGHT_ASCENSION = -1e+32
DECLINATION = -1e+32
OFFSET_ANGLE = -1e+32
SPACECRAFT_SOLAR_DISTANCE = 2.3733e+08
TARGET_NAME = MARS
/* CAMERA DATA ELEMENTS */
DETECTOR_TEMPERATURE = 17.1471
FOCAL_PLANE_TEMPERATURE = 8.3794
INST_CMPRS_NAME = "DISCRETE COSINE TRANSFORMATION (DCT)"
INST_CMPRS_RATIO = 11.4144
INST_CMPRS_QUALITY = 0
INST_CMPRS_QUANTZ_TBL_ID = 0
INSTRUMENT_TEMPERATURE = 11.234
LENS_TEMPERATURE = 8.5833
MACROPIXEL_SIZE = 4
MISSING_FRAMES = 0
PIXEL_SUBSAMPLING_FLAG = N
SIGNAL_CHAIN_ID = 2
/* RADIOMETRIC DATA ELEMENTS */
BANDWIDTH = 81.0
CENTER_FILTER_WAVELENGTH = 955.5
RADIANCE_OFFSET = 1.01049
RADIANCE_SCALING_FACTOR = 0.00606059
REFLECTANCE_SCALING_FACTOR = 0.000736459
MEX:REFLECTANCE_OFFSET = 0.12279
/* IMAGE OBJECT DEFINITIONS */
OBJECT = IMAGE
  INTERCHANGE_FORMAT = BINARY
  LINES = 12137
  LINE_SAMPLES = 2593
  SAMPLE_TYPE = UNSIGNED_INTEGER
  SAMPLE_BITS = 8
  BANDS = 1
  BAND_STORAGE_TYPE = BAND_SEQUENTIAL
  MAXIMUM = 255
  MEAN = 135.462
  MINIMUM = 1
  STANDARD_DEVIATION = 75.7288
END_OBJECT = IMAGE
/* MAP OBJECT DEFINITIONS */
OBJECT = IMAGE_MAP_PROJECTION
  ^DATA_SET_MAP_PROJECTION_CATALOG= "DSMAP.CAT"
  A_AXIS_RADIUS = 3396.0
  B_AXIS_RADIUS = 3396.0
  C_AXIS_RADIUS = 3396.0
  CENTER_LATITUDE = 0.0
  CENTER_LONGITUDE = 21.0
  COORDINATE_SYSTEM_NAME = PLANETOGRAPHIC
  COORDINATE_SYSTEM_TYPE = "BODY-FIXED ROTATING"
  EASTERNMOST_LONGITUDE = 23.0385
  FIRST_STANDARD_PARALLEL = "N/A"
  LINE_FIRST_PIXEL = 1
  LINE_LAST_PIXEL = 12137
  LINE_PROJECTION_OFFSET = 77891.625
  MAP_PROJECTION_ROTATION = 0.0
  MAP_PROJECTION_TYPE = SINUSOIDAL
  MAP_RESOLUTION = 1185.42760773333
  MAP_SCALE = 0.05
  MAXIMUM_LATITUDE = 65.7989
  MINIMUM_LATITUDE = 55.4706
  POSITIVE_LONGITUDE_DIRECTION = EAST
  REFERENCE_LATITUDE = "N/A"
  REFERENCE_LONGITUDE = "N/A"
  SAMPLE_FIRST_PIXEL = 1
  SAMPLE_LAST_PIXEL = 2593
  SAMPLE_PROJECTION_OFFSET = 1217.625
  SECOND_STANDARD_PARALLEL = "N/A"
  WESTERNMOST_LONGITUDE = 18.528
END_OBJECT = IMAGE_MAP_PROJECTION
END
