PDS_VERSION_ID = PDS3
/* FILE DATA ELEMENTS */
RECORD_TYPE = UNDEFINED
/* POINTERS TO DATA OBJECTS */
^IMAGE = ("H7539_0000_P24.TIF")
/* IDENTIFICATION DATA ELEMENTS */
DATA_SET_ID = "MEX-M-HRSC-4-REFDR-MAPPROJECT-EXT3-V4.0"
DATA_SET_NAME = "MARS EXPRESS HRSC MAP PROJECTED REFDR EXTENSION3 V4.0"
DETECTOR_ID = MEX_HRSC_P2
EVENT_TYPE = "MARS-REGIONAL-MAPPING-Pf-At"
INSTRUMENT_HOST_ID = MEX
INSTRUMENT_HOST_NAME = "MARS EXPRESS"
INSTRUMENT_ID = HRSC
INSTRUMENT_NAME = "HIGH RESOLUTION STEREO CAMERA"
MISSION_NAME = "MARS EXPRESS"
MISSION_PHASE_NAME = ME_Phase_18
PROCESSING_LEVEL_ID = 4
PRODUCT_CREATION_TIME = 2023-02-02T15:10:19.000Z
PRODUCT_ID = "H7539_0000_P24.TIF"
RELEASE_ID = 0003
REVISION_ID = 0000
/* QUALITY DATA ELEMENTS */
DATA_QUALITY_ID = 1
DATA_QUALITY_DESC = "Data calculated based on original SPICE kernels"
/* TIME DATA ELEMENTS */
SPACECRAFT_CLOCK_START_COUNT = "1/0206654261.07274"
SPACECRAFT_CLOCK_STOP_COUNT = "1/0206654514.28948"
START_TIME = 2009-11-18T19:58:42.392Z
STOP_TIME = 2009-11-18T20:01:42.960Z
/* ORBITAL DATA ELEMENTS */
ASCENDING_NODE_LONGITUDE = 73.5
MAXIMUM_RESOLUTION = 0.0306
FOOTPRINT_POINT_LATITUDE = (71.5953,71.5474,71.4678,71.4069, 71.4047,71.4831,71.231,70.9785,70.7258, 70.3466,70.0936,69.7143,69.4611,69.2078 ,68.9546,68.5747,68.3213,67.9411, 67.6879,67.4488,67.2364,66.9178,66.7053 ,66.4929,66.2806,66.0681,65.8556,65.537 ,65.3246,65.1123,64.8998,64.5812,64.369 ,64.1568,63.838,63.52,63.2021,62.9901, 62.7782,62.3545,61.9312,61.7193,61.4799 ,61.2277,60.9755,60.7236,60.3458,60.094 ,59.9682,59.9551,59.9803,60.0075, 60.0548,60.0556,60.0564,60.3093,60.5623 ,60.8156,61.0692,61.3228,61.5766, 61.8197,62.1391,62.4585,62.6716,62.8846 ,63.2048,63.4184,63.6318,63.8454, 64.0591,64.2729,64.5937,64.8075,65.0216 ,65.3426,65.5566,65.7708,66.092,66.3064 ,66.5207,66.7349,66.9493,67.2709, 67.5928,67.9603,68.3444,68.7286,69.1127 ,69.3688,69.6251,70.0092,70.2658,70.522 ,70.7782,71.0343,71.2904,71.5464, 71.6744,71.5953)
FOOTPRINT_POINT_LONGITUDE = (63.3739,62.223,60.585,59.4867,59.449, 59.2644,59.4187,59.5688,59.7148,59.9257 ,60.0615,60.2573,60.3835,60.5063, 60.6254,60.7981,60.9095,61.0708,61.1744 ,61.2699,61.3529,61.4738,61.5523,61.629 ,61.7039,61.7776,61.8496,61.9546, 62.0229,62.0897,62.1553,62.251,62.3131, 62.3738,62.4633,62.5494,62.6326,62.6871 ,62.7403,62.8436,62.9428,62.9913, 63.0444,63.0992,63.1528,63.205,63.2813, 63.3308,63.355,63.3576,63.9174,64.5799, 65.9597,65.9854,65.9945,65.9625,65.9297 ,65.8964,65.8625,65.8278,65.7923, 65.7578,65.7113,65.6635,65.6308,65.5975 ,65.5469,65.5123,65.4768,65.4409, 65.4042,65.3669,65.3095,65.2703,65.2305 ,65.169,65.1271,65.0843,65.0185,64.9737 ,64.9278,64.8809,64.8332,64.7596, 64.6839,64.5945,64.4973,64.3963,64.2912 ,64.2187,64.1444,64.029,63.9498,63.8679 ,63.7839,63.6972,63.6082,63.5163, 63.4694,63.3739)
ORBIT_NUMBER = 7539
ORBITAL_ECCENTRICITY = 0.569
ORBITAL_INCLINATION = 86.84
ORBITAL_SEMIMAJOR_AXIS = 8700.09
PERIAPSIS_ALTITUDE = 367.85
PERIAPSIS_ARGUMENT_ANGLE = 115.96
PERIAPSIS_TIME = 2009-11-18T20:00:20.000Z
SPACECRAFT_ORIENTATION = (0.0,-1.0,0.0)
^MEX_ORIENTATION_DESC = "MEX_ORIENTATION_DESC.TXT"
SPACECRAFT_POINTING_MODE = NADIR
^MEX_POINTING_DESC = "MEX_POINTING_DESC.TXT"
RIGHT_ASCENSION = -1e+32
DECLINATION = -1e+32
OFFSET_ANGLE = -1e+32
SPACECRAFT_SOLAR_DISTANCE = 2.37137e+08
TARGET_NAME = MARS
/* CAMERA DATA ELEMENTS */
DETECTOR_TEMPERATURE = 18.1666
FOCAL_PLANE_TEMPERATURE = 7.5638
INST_CMPRS_NAME = "DISCRETE COSINE TRANSFORMATION (DCT)"
INST_CMPRS_RATIO = 7.73546
INST_CMPRS_QUALITY = 0
INST_CMPRS_QUANTZ_TBL_ID = 0
INSTRUMENT_TEMPERATURE = 10.6223
LENS_TEMPERATURE = 7.9716
MACROPIXEL_SIZE = 2
MISSING_FRAMES = 0
PIXEL_SUBSAMPLING_FLAG = N
SIGNAL_CHAIN_ID = 3
/* RADIOMETRIC DATA ELEMENTS */
BANDWIDTH = 177.0
CENTER_FILTER_WAVELENGTH = 676.5
RADIANCE_OFFSET = 4.47275
RADIANCE_SCALING_FACTOR = 0.0177268
REFLECTANCE_SCALING_FACTOR = 0.000528546
MEX:REFLECTANCE_OFFSET = 0.133361
/* IMAGE OBJECT DEFINITIONS */
OBJECT = IMAGE
  INTERCHANGE_FORMAT = BINARY
  LINES = 27825
  LINE_SAMPLES = 5919
  SAMPLE_TYPE = UNSIGNED_INTEGER
  SAMPLE_BITS = 8
  BANDS = 1
  BAND_STORAGE_TYPE = BAND_SEQUENTIAL
  MAXIMUM = 255
  MEAN = 163.29
  MINIMUM = 1
  STANDARD_DEVIATION = 51.6783
END_OBJECT = IMAGE
/* MAP OBJECT DEFINITIONS */
OBJECT = IMAGE_MAP_PROJECTION
  ^DATA_SET_MAP_PROJECTION_CATALOG= "DSMAP.CAT"
  A_AXIS_RADIUS = 3396.0
  B_AXIS_RADIUS = 3396.0
  C_AXIS_RADIUS = 3396.0
  CENTER_LATITUDE = 0.0
  CENTER_LONGITUDE = 64.0
  COORDINATE_SYSTEM_NAME = PLANETOGRAPHIC
  COORDINATE_SYSTEM_TYPE = "BODY-FIXED ROTATING"
  EASTERNMOST_LONGITUDE = 65.9945
  FIRST_STANDARD_PARALLEL = "N/A"
  LINE_FIRST_PIXEL = 1
  LINE_LAST_PIXEL = 27825
  LINE_PROJECTION_OFFSET = 169954.75
  MAP_PROJECTION_ROTATION = 0.0
  MAP_PROJECTION_TYPE = SINUSOIDAL
  MAP_RESOLUTION = 2370.85521546667
  MAP_SCALE = 0.025
  MAXIMUM_LATITUDE = 71.67440000000001
  MINIMUM_LATITUDE = 59.9551
  POSITIVE_LONGITUDE_DIRECTION = EAST
  REFERENCE_LATITUDE = "N/A"
  REFERENCE_LONGITUDE = "N/A"
  SAMPLE_FIRST_PIXEL = 1
  SAMPLE_LAST_PIXEL = 5919
  SAMPLE_PROJECTION_OFFSET = 3578.25
  SECOND_STANDARD_PARALLEL = "N/A"
  WESTERNMOST_LONGITUDE = 59.2644
END_OBJECT = IMAGE_MAP_PROJECTION
END
