PDS_VERSION_ID = PDS3
/* FILE DATA ELEMENTS */
RECORD_TYPE = UNDEFINED
/* POINTERS TO DATA OBJECTS */
^IMAGE = ("H7533_0000_ND4.TIF")
/* IDENTIFICATION DATA ELEMENTS */
DATA_SET_ID = "MEX-M-HRSC-4-REFDR-MAPPROJECT-EXT3-V4.0"
DATA_SET_NAME = "MARS EXPRESS HRSC MAP PROJECTED REFDR EXTENSION3 V4.0"
DETECTOR_ID = MEX_HRSC_NADIR
EVENT_TYPE = "MARS-REGIONAL-MAPPING-Im-Pf-At"
INSTRUMENT_HOST_ID = MEX
INSTRUMENT_HOST_NAME = "MARS EXPRESS"
INSTRUMENT_ID = HRSC
INSTRUMENT_NAME = "HIGH RESOLUTION STEREO CAMERA"
MISSION_NAME = "MARS EXPRESS"
MISSION_PHASE_NAME = ME_Phase_18
PROCESSING_LEVEL_ID = 4
PRODUCT_CREATION_TIME = 2023-02-02T15:10:19.000Z
PRODUCT_ID = "H7533_0000_ND4.TIF"
RELEASE_ID = 0003
REVISION_ID = 0000
/* QUALITY DATA ELEMENTS */
DATA_QUALITY_ID = 1
DATA_QUALITY_DESC = "Data calculated based on original SPICE kernels"
/* TIME DATA ELEMENTS */
SPACECRAFT_CLOCK_START_COUNT = "1/0206505372.08263"
SPACECRAFT_CLOCK_STOP_COUNT = "1/0206505625.15542"
START_TIME = 2009-11-17T02:36:48.979Z
STOP_TIME = 2009-11-17T02:39:49.987Z
/* ORBITAL DATA ELEMENTS */
ASCENDING_NODE_LONGITUDE = 73.62
MAXIMUM_RESOLUTION = 0.0149
FOOTPRINT_POINT_LATITUDE = (66.7506,66.711,66.6752,66.6105,66.6088 ,66.6045,66.3532,66.1018,65.8503, 65.5986,65.3469,65.095,64.7221,64.2996, 63.8768,63.4539,63.0307,62.8191,62.5016 ,62.0781,61.7604,61.4426,61.019,60.5952 ,60.1715,59.7477,59.324,58.9463,58.6935 ,58.4407,58.1879,57.9352,57.6825, 57.4298,57.1772,56.9247,56.6722,56.4198 ,56.1674,55.9151,55.6629,55.4108, 55.1587,55.0327,55.0272,55.0458,55.0627 ,55.0863,55.1072,55.1078,55.1083, 55.3613,55.6144,55.8676,56.1209,56.3743 ,56.6278,56.8813,57.135,57.3887,57.6424 ,57.8963,58.1502,58.4041,58.6581, 58.9122,59.1663,59.4197,59.6327,59.8457 ,60.0587,60.2718,60.4848,60.6979,60.911 ,61.1241,61.3372,61.6569,61.87,62.0832, 62.2963,62.5094,62.8291,63.1487,63.3618 ,63.5749,63.8944,64.1074,64.4269, 64.6399,64.8528,65.1008,65.3548,65.6088 ,65.8627,66.1166,66.3703,66.6241, 66.7509,66.7506)
FOOTPRINT_POINT_LONGITUDE = (309.897,308.88,308.08,306.824,306.794, 306.68,306.771,306.86,306.947,307.032, 307.115,307.195,307.311,307.437,307.558 ,307.675,307.787,307.841,307.92,308.023 ,308.097,308.167,308.262,308.351, 308.437,308.52,308.6,308.668,308.713, 308.757,308.799,308.841,308.882,308.921 ,308.96,308.998,309.035,309.072,309.107 ,309.142,309.176,309.209,309.242, 309.257,309.258,309.695,310.133,310.824 ,311.563,311.586,311.597,311.575, 311.553,311.53,311.508,311.484,311.46, 311.436,311.411,311.386,311.36,311.334, 311.308,311.28,311.253,311.225,311.196, 311.167,311.142,311.116,311.09,311.064, 311.037,311.01,310.982,310.954,310.925, 310.881,310.852,310.822,310.791,310.759 ,310.711,310.662,310.628,310.594, 310.541,310.505,310.45,310.412,310.374, 310.328,310.281,310.232,310.182,310.131 ,310.078,310.025,309.998,309.897)
ORBIT_NUMBER = 7533
ORBITAL_ECCENTRICITY = 0.569
ORBITAL_INCLINATION = 86.83
ORBITAL_SEMIMAJOR_AXIS = 8697.21
PERIAPSIS_ALTITUDE = 368.11
PERIAPSIS_ARGUMENT_ANGLE = 117.03
PERIAPSIS_TIME = 2009-11-17T02:37:49.000Z
SPACECRAFT_ORIENTATION = (0.0,-1.0,0.0)
^MEX_ORIENTATION_DESC = "MEX_ORIENTATION_DESC.TXT"
SPACECRAFT_POINTING_MODE = NADIR
^MEX_POINTING_DESC = "MEX_POINTING_DESC.TXT"
RIGHT_ASCENSION = -1e+32
DECLINATION = -1e+32
OFFSET_ANGLE = -1e+32
SPACECRAFT_SOLAR_DISTANCE = 2.36845e+08
TARGET_NAME = MARS
/* CAMERA DATA ELEMENTS */
DETECTOR_TEMPERATURE = 17.7588
FOCAL_PLANE_TEMPERATURE = 7.5638
INST_CMPRS_NAME = "DISCRETE COSINE TRANSFORMATION (DCT)"
INST_CMPRS_RATIO = 7.55409
INST_CMPRS_QUALITY = 0
INST_CMPRS_QUANTZ_TBL_ID = 0
INSTRUMENT_TEMPERATURE = 11.0301
LENS_TEMPERATURE = 7.9716
MACROPIXEL_SIZE = 1
MISSING_FRAMES = 0
PIXEL_SUBSAMPLING_FLAG = N
SIGNAL_CHAIN_ID = 0
/* RADIOMETRIC DATA ELEMENTS */
BANDWIDTH = 177.0
CENTER_FILTER_WAVELENGTH = 677.5
RADIANCE_OFFSET = 3.52004
RADIANCE_SCALING_FACTOR = 0.023467
REFLECTANCE_SCALING_FACTOR = 0.000699308
MEX:REFLECTANCE_OFFSET = 0.104896
/* IMAGE OBJECT DEFINITIONS */
OBJECT = IMAGE
  INTERCHANGE_FORMAT = BINARY
  LINES = 55616
  LINE_SAMPLES = 10583
  SAMPLE_TYPE = UNSIGNED_INTEGER
  SAMPLE_BITS = 8
  BANDS = 1
  BAND_STORAGE_TYPE = BAND_SEQUENTIAL
  MAXIMUM = 254
  MEAN = 119.351
  MINIMUM = 1
  STANDARD_DEVIATION = 75.4498
END_OBJECT = IMAGE
/* MAP OBJECT DEFINITIONS */
OBJECT = IMAGE_MAP_PROJECTION
  ^DATA_SET_MAP_PROJECTION_CATALOG= "DSMAP.CAT"
  A_AXIS_RADIUS = 3396.0
  B_AXIS_RADIUS = 3396.0
  C_AXIS_RADIUS = 3396.0
  CENTER_LATITUDE = 0.0
  CENTER_LONGITUDE = 310.0
  COORDINATE_SYSTEM_NAME = PLANETOGRAPHIC
  COORDINATE_SYSTEM_TYPE = "BODY-FIXED ROTATING"
  EASTERNMOST_LONGITUDE = 311.597
  FIRST_STANDARD_PARALLEL = "N/A"
  LINE_FIRST_PIXEL = 1
  LINE_LAST_PIXEL = 55616
  LINE_PROJECTION_OFFSET = 316539.0
  MAP_PROJECTION_ROTATION = 0.0
  MAP_PROJECTION_TYPE = SINUSOIDAL
  MAP_RESOLUTION = 4741.71043093333
  MAP_SCALE = 0.0125
  MAXIMUM_LATITUDE = 66.7509
  MINIMUM_LATITUDE = 55.0272
  POSITIVE_LONGITUDE_DIRECTION = EAST
  REFERENCE_LATITUDE = "N/A"
  REFERENCE_LONGITUDE = "N/A"
  SAMPLE_FIRST_PIXEL = 1
  SAMPLE_LAST_PIXEL = 10583
  SAMPLE_PROJECTION_OFFSET = 6250.0
  SECOND_STANDARD_PARALLEL = "N/A"
  WESTERNMOST_LONGITUDE = 306.68
END_OBJECT = IMAGE_MAP_PROJECTION
END
