PDS_VERSION_ID = PDS3
/* FILE DATA ELEMENTS */
RECORD_TYPE = UNDEFINED
/* POINTERS TO DATA OBJECTS */
^IMAGE = ("H7533_0000_IR4.TIF")
/* IDENTIFICATION DATA ELEMENTS */
DATA_SET_ID = "MEX-M-HRSC-4-REFDR-MAPPROJECT-EXT3-V4.0"
DATA_SET_NAME = "MARS EXPRESS HRSC MAP PROJECTED REFDR EXTENSION3 V4.0"
DETECTOR_ID = MEX_HRSC_IR
EVENT_TYPE = "MARS-REGIONAL-MAPPING-Im-Pf-At"
INSTRUMENT_HOST_ID = MEX
INSTRUMENT_HOST_NAME = "MARS EXPRESS"
INSTRUMENT_ID = HRSC
INSTRUMENT_NAME = "HIGH RESOLUTION STEREO CAMERA"
MISSION_NAME = "MARS EXPRESS"
MISSION_PHASE_NAME = ME_Phase_18
PROCESSING_LEVEL_ID = 4
PRODUCT_CREATION_TIME = 2023-02-02T15:10:19.000Z
PRODUCT_ID = "H7533_0000_IR4.TIF"
RELEASE_ID = 0003
REVISION_ID = 0000
/* QUALITY DATA ELEMENTS */
DATA_QUALITY_ID = 1
DATA_QUALITY_DESC = "Data calculated based on original SPICE kernels"
/* TIME DATA ELEMENTS */
SPACECRAFT_CLOCK_START_COUNT = "1/0206505372.08263"
SPACECRAFT_CLOCK_STOP_COUNT = "1/0206505625.15542"
START_TIME = 2009-11-17T02:36:20.493Z
STOP_TIME = 2009-11-17T02:39:21.710Z
/* ORBITAL DATA ELEMENTS */
ASCENDING_NODE_LONGITUDE = 73.62
MAXIMUM_RESOLUTION = 0.062
FOOTPRINT_POINT_LATITUDE = (66.8521,66.8063,66.7543,66.7058, 66.7041,66.591,66.3435,66.0957,65.8478, 65.5996,65.2265,64.9778,64.7285,64.4788 ,64.1039,63.8538,63.6035,63.3528,63.102 ,62.8677,62.4467,61.9197,61.4936, 61.0747,60.7569,60.4394,60.2276,59.9096 ,59.6973,59.4852,59.1663,58.8473, 58.6347,58.4218,58.209,57.996,57.6766, 57.4533,57.1986,56.8166,56.4345,56.1796 ,55.7969,55.4143,55.1591,55.0314, 55.0131,55.0492,55.0644,55.0843,55.0953 ,55.0958,55.097,55.4815,55.7378,55.994, 56.25,56.5061,56.7622,57.1458,57.4016, 57.7567,57.9708,58.2918,58.5058,58.7196 ,59.0402,59.2539,59.4674,59.6811, 59.8944,60.1077,60.3212,60.5342,60.7476 ,61.0674,61.2807,61.493,61.7062,62.13, 62.3423,62.5545,62.7666,62.9785,63.2115 ,63.4641,63.7166,63.9691,64.221,64.5987 ,64.8504,65.1018,65.3531,65.604,65.8548 ,66.1054,66.3558,66.6059,66.7309, 66.8521)
FOOTPRINT_POINT_LONGITUDE = (309.903,308.749,307.66,306.78,306.75, 306.684,306.774,306.863,306.949,307.034 ,307.157,307.236,307.314,307.39,307.5, 307.572,307.642,307.71,307.777,307.838, 307.945,308.072,308.168,308.264,308.332 ,308.399,308.442,308.506,308.547, 308.588,308.647,308.705,308.743,308.779 ,308.816,308.851,308.904,308.939, 308.979,309.037,309.093,309.13,309.183, 309.234,309.268,309.284,309.286,310.121 ,310.529,311.153,311.562,311.584, 311.591,311.559,311.536,311.514,311.491 ,311.468,311.444,311.408,311.383, 311.348,311.326,311.293,311.27,311.247, 311.213,311.189,311.165,311.14,311.115, 311.09,311.064,311.038,311.011,310.969, 310.941,310.913,310.884,310.826,310.796 ,310.766,310.734,310.702,310.667, 310.628,310.588,310.546,310.505,310.44, 310.396,310.351,310.305,310.258,310.21, 310.16,310.11,310.059,310.033,309.903)
ORBIT_NUMBER = 7533
ORBITAL_ECCENTRICITY = 0.569
ORBITAL_INCLINATION = 86.83
ORBITAL_SEMIMAJOR_AXIS = 8697.21
PERIAPSIS_ALTITUDE = 368.11
PERIAPSIS_ARGUMENT_ANGLE = 117.03
PERIAPSIS_TIME = 2009-11-17T02:37:49.000Z
SPACECRAFT_ORIENTATION = (0.0,-1.0,0.0)
^MEX_ORIENTATION_DESC = "MEX_ORIENTATION_DESC.TXT"
SPACECRAFT_POINTING_MODE = NADIR
^MEX_POINTING_DESC = "MEX_POINTING_DESC.TXT"
RIGHT_ASCENSION = -1e+32
DECLINATION = -1e+32
OFFSET_ANGLE = -1e+32
SPACECRAFT_SOLAR_DISTANCE = 2.36845e+08
TARGET_NAME = MARS
/* CAMERA DATA ELEMENTS */
DETECTOR_TEMPERATURE = 16.9432
FOCAL_PLANE_TEMPERATURE = 7.5638
INST_CMPRS_NAME = "DISCRETE COSINE TRANSFORMATION (DCT)"
INST_CMPRS_RATIO = 11.9135
INST_CMPRS_QUALITY = 0
INST_CMPRS_QUANTZ_TBL_ID = 0
INSTRUMENT_TEMPERATURE = 11.0301
LENS_TEMPERATURE = 7.9716
MACROPIXEL_SIZE = 4
MISSING_FRAMES = 0
PIXEL_SUBSAMPLING_FLAG = N
SIGNAL_CHAIN_ID = 2
/* RADIOMETRIC DATA ELEMENTS */
BANDWIDTH = 81.0
CENTER_FILTER_WAVELENGTH = 955.5
RADIANCE_OFFSET = 0.891606
RADIANCE_SCALING_FACTOR = 0.00646851
REFLECTANCE_SCALING_FACTOR = 0.000782816
MEX:REFLECTANCE_OFFSET = 0.107902
/* IMAGE OBJECT DEFINITIONS */
OBJECT = IMAGE
  INTERCHANGE_FORMAT = BINARY
  LINES = 13904
  LINE_SAMPLES = 2646
  SAMPLE_TYPE = UNSIGNED_INTEGER
  SAMPLE_BITS = 8
  BANDS = 1
  BAND_STORAGE_TYPE = BAND_SEQUENTIAL
  MAXIMUM = 254
  MEAN = 120.284
  MINIMUM = 1
  STANDARD_DEVIATION = 78.8321
END_OBJECT = IMAGE
/* MAP OBJECT DEFINITIONS */
OBJECT = IMAGE_MAP_PROJECTION
  ^DATA_SET_MAP_PROJECTION_CATALOG= "DSMAP.CAT"
  A_AXIS_RADIUS = 3396.0
  B_AXIS_RADIUS = 3396.0
  C_AXIS_RADIUS = 3396.0
  CENTER_LATITUDE = 0.0
  CENTER_LONGITUDE = 310.0
  COORDINATE_SYSTEM_NAME = PLANETOGRAPHIC
  COORDINATE_SYSTEM_TYPE = "BODY-FIXED ROTATING"
  EASTERNMOST_LONGITUDE = 311.591
  FIRST_STANDARD_PARALLEL = "N/A"
  LINE_FIRST_PIXEL = 1
  LINE_LAST_PIXEL = 13904
  LINE_PROJECTION_OFFSET = 79134.375
  MAP_PROJECTION_ROTATION = 0.0
  MAP_PROJECTION_TYPE = SINUSOIDAL
  MAP_RESOLUTION = 1185.42760773333
  MAP_SCALE = 0.05
  MAXIMUM_LATITUDE = 66.85209999999999
  MINIMUM_LATITUDE = 55.0131
  POSITIVE_LONGITUDE_DIRECTION = EAST
  REFERENCE_LATITUDE = "N/A"
  REFERENCE_LONGITUDE = "N/A"
  SAMPLE_FIRST_PIXEL = 1
  SAMPLE_LAST_PIXEL = 2646
  SAMPLE_PROJECTION_OFFSET = 1562.125
  SECOND_STANDARD_PARALLEL = "N/A"
  WESTERNMOST_LONGITUDE = 306.684
END_OBJECT = IMAGE_MAP_PROJECTION
END
