PDS_VERSION_ID = PDS3
/* FILE DATA ELEMENTS */
RECORD_TYPE = UNDEFINED
/* POINTERS TO DATA OBJECTS */
^IMAGE = ("H7530_0000_ND4.TIF")
/* IDENTIFICATION DATA ELEMENTS */
DATA_SET_ID = "MEX-M-HRSC-4-REFDR-MAPPROJECT-EXT3-V4.0"
DATA_SET_NAME = "MARS EXPRESS HRSC MAP PROJECTED REFDR EXTENSION3 V4.0"
DETECTOR_ID = MEX_HRSC_NADIR
EVENT_TYPE = "MARS-REGIONAL-MAPPING-Vo-Te"
INSTRUMENT_HOST_ID = MEX
INSTRUMENT_HOST_NAME = "MARS EXPRESS"
INSTRUMENT_ID = HRSC
INSTRUMENT_NAME = "HIGH RESOLUTION STEREO CAMERA"
MISSION_NAME = "MARS EXPRESS"
MISSION_PHASE_NAME = ME_Phase_18
PROCESSING_LEVEL_ID = 4
PRODUCT_CREATION_TIME = 2023-02-02T15:10:19.000Z
PRODUCT_ID = "H7530_0000_ND4.TIF"
RELEASE_ID = 0003
REVISION_ID = 0000
/* QUALITY DATA ELEMENTS */
DATA_QUALITY_ID = 1
DATA_QUALITY_DESC = "Data calculated based on original SPICE kernels"
/* TIME DATA ELEMENTS */
SPACECRAFT_CLOCK_START_COUNT = "1/0206431014.09113"
SPACECRAFT_CLOCK_STOP_COUNT = "1/0206431334.30480"
START_TIME = 2009-11-16T05:57:29.868Z
STOP_TIME = 2009-11-16T06:01:30.866Z
/* ORBITAL DATA ELEMENTS */
ASCENDING_NODE_LONGITUDE = 73.69
MAXIMUM_RESOLUTION = 0.0148
FOOTPRINT_POINT_LATITUDE = (58.7282,58.7033,58.6804,58.6384, 58.6373,58.636,58.2512,57.7922,57.4862, 57.1802,56.8744,56.5686,56.2629,55.9573 ,55.6517,55.3463,55.041,54.7359,54.4308 ,54.1259,53.8211,53.5165,53.212,52.9077 ,52.6036,52.2997,51.9959,51.6923, 51.3889,51.0858,50.48,49.8752,49.2714, 48.6685,48.0667,47.4659,47.16,46.8522, 46.5448,46.2377,45.9309,45.4624,45.1484 ,44.8348,44.5216,44.2042,43.8838, 43.5638,43.4039,43.3823,43.3953,43.4119 ,43.4252,43.4254,43.4258,43.7465, 44.0676,44.547,44.8611,45.1755,45.4904, 45.9607,46.2684,46.5764,46.8847,47.1933 ,47.5007,48.1031,48.7067,49.3114,49.917 ,50.5237,50.8274,51.1313,51.4354, 51.7398,52.0444,52.3492,52.6542,52.9593 ,53.2647,53.5703,53.876,54.1819,54.488, 54.7942,55.1005,55.407,55.7137,56.0205, 56.3274,56.6344,56.9415,57.2487,57.556, 57.8635,58.1709,58.5858,58.7147, 58.7282)
FOOTPRINT_POINT_LONGITUDE = (253.717,252.942,252.333,251.374, 251.351,251.281,251.347,251.423,251.472 ,251.52,251.567,251.612,251.655,251.698 ,251.74,251.78,251.82,251.858,251.895, 251.931,251.967,252.001,252.034,252.067 ,252.098,252.129,252.159,252.188, 252.216,252.243,252.295,252.344,252.391 ,252.435,252.476,252.517,252.537, 252.556,252.573,252.591,252.61,252.635, 252.653,252.669,252.684,252.697,252.711 ,252.723,252.729,252.73,253.201,253.937 ,254.779,254.799,254.809,254.796, 254.783,254.764,254.751,254.738,254.724 ,254.704,254.691,254.676,254.662, 254.647,254.632,254.601,254.568,254.534 ,254.498,254.461,254.442,254.422, 254.402,254.382,254.361,254.339,254.318 ,254.296,254.273,254.25,254.226,254.202 ,254.178,254.152,254.127,254.1,254.073, 254.046,254.018,253.989,253.96,253.93, 253.899,253.868,253.836,253.791,253.777 ,253.717)
ORBIT_NUMBER = 7530
ORBITAL_ECCENTRICITY = 0.569
ORBITAL_INCLINATION = 86.83
ORBITAL_SEMIMAJOR_AXIS = 8699.89
PERIAPSIS_ALTITUDE = 367.15
PERIAPSIS_ARGUMENT_ANGLE = 117.51
PERIAPSIS_TIME = 2009-11-16T05:56:33.000Z
SPACECRAFT_ORIENTATION = (0.0,-1.0,0.0)
^MEX_ORIENTATION_DESC = "MEX_ORIENTATION_DESC.TXT"
SPACECRAFT_POINTING_MODE = NADIR
^MEX_POINTING_DESC = "MEX_POINTING_DESC.TXT"
RIGHT_ASCENSION = -1e+32
DECLINATION = -1e+32
OFFSET_ANGLE = -1e+32
SPACECRAFT_SOLAR_DISTANCE = 2.36698e+08
TARGET_NAME = MARS
/* CAMERA DATA ELEMENTS */
DETECTOR_TEMPERATURE = 18.1666
FOCAL_PLANE_TEMPERATURE = 8.3794
INST_CMPRS_NAME = "DISCRETE COSINE TRANSFORMATION (DCT)"
INST_CMPRS_RATIO = 7.53593
INST_CMPRS_QUALITY = 0
INST_CMPRS_QUANTZ_TBL_ID = 0
INSTRUMENT_TEMPERATURE = 11.234
LENS_TEMPERATURE = 8.5833
MACROPIXEL_SIZE = 1
MISSING_FRAMES = 0
PIXEL_SUBSAMPLING_FLAG = N
SIGNAL_CHAIN_ID = 0
/* RADIOMETRIC DATA ELEMENTS */
BANDWIDTH = 177.0
CENTER_FILTER_WAVELENGTH = 677.5
RADIANCE_OFFSET = 3.81307
RADIANCE_SCALING_FACTOR = 0.0328971
REFLECTANCE_SCALING_FACTOR = 0.000979106
MEX:REFLECTANCE_OFFSET = 0.113487
/* IMAGE OBJECT DEFINITIONS */
OBJECT = IMAGE
  INTERCHANGE_FORMAT = BINARY
  LINES = 72784
  LINE_SAMPLES = 10473
  SAMPLE_TYPE = UNSIGNED_INTEGER
  SAMPLE_BITS = 8
  BANDS = 1
  BAND_STORAGE_TYPE = BAND_SEQUENTIAL
  MAXIMUM = 254
  MEAN = 92.5523
  MINIMUM = 1
  STANDARD_DEVIATION = 34.9811
END_OBJECT = IMAGE
/* MAP OBJECT DEFINITIONS */
OBJECT = IMAGE_MAP_PROJECTION
  ^DATA_SET_MAP_PROJECTION_CATALOG= "DSMAP.CAT"
  A_AXIS_RADIUS = 3396.0
  B_AXIS_RADIUS = 3396.0
  C_AXIS_RADIUS = 3396.0
  CENTER_LATITUDE = 0.0
  CENTER_LONGITUDE = 253.0
  COORDINATE_SYSTEM_NAME = PLANETOGRAPHIC
  COORDINATE_SYSTEM_TYPE = "BODY-FIXED ROTATING"
  EASTERNMOST_LONGITUDE = 254.809
  FIRST_STANDARD_PARALLEL = "N/A"
  LINE_FIRST_PIXEL = 1
  LINE_LAST_PIXEL = 72784
  LINE_PROJECTION_OFFSET = 278495.0
  MAP_PROJECTION_ROTATION = 0.0
  MAP_PROJECTION_TYPE = SINUSOIDAL
  MAP_RESOLUTION = 4741.71043093333
  MAP_SCALE = 0.0125
  MAXIMUM_LATITUDE = 58.7282
  MINIMUM_LATITUDE = 43.3823
  POSITIVE_LONGITUDE_DIRECTION = EAST
  REFERENCE_LATITUDE = "N/A"
  REFERENCE_LONGITUDE = "N/A"
  SAMPLE_FIRST_PIXEL = 1
  SAMPLE_LAST_PIXEL = 10473
  SAMPLE_PROJECTION_OFFSET = 4243.0
  SECOND_STANDARD_PARALLEL = "N/A"
  WESTERNMOST_LONGITUDE = 251.281
END_OBJECT = IMAGE_MAP_PROJECTION
END
