PDS_VERSION_ID = PDS3
/* FILE DATA ELEMENTS */
RECORD_TYPE = UNDEFINED
/* POINTERS TO DATA OBJECTS */
^IMAGE = ("H7526_0000_RE4.TIF")
/* IDENTIFICATION DATA ELEMENTS */
DATA_SET_ID = "MEX-M-HRSC-4-REFDR-MAPPROJECT-EXT3-V4.0"
DATA_SET_NAME = "MARS EXPRESS HRSC MAP PROJECTED REFDR EXTENSION3 V4.0"
DETECTOR_ID = MEX_HRSC_RED
EVENT_TYPE = "MARS-REGIONAL-MAPPING-Vo-Te-Fl"
INSTRUMENT_HOST_ID = MEX
INSTRUMENT_HOST_NAME = "MARS EXPRESS"
INSTRUMENT_ID = HRSC
INSTRUMENT_NAME = "HIGH RESOLUTION STEREO CAMERA"
MISSION_NAME = "MARS EXPRESS"
MISSION_PHASE_NAME = ME_Phase_18
PROCESSING_LEVEL_ID = 4
PRODUCT_CREATION_TIME = 2023-02-02T15:10:19.000Z
PRODUCT_ID = "H7526_0000_RE4.TIF"
RELEASE_ID = 0003
REVISION_ID = 0000
/* QUALITY DATA ELEMENTS */
DATA_QUALITY_ID = 1
DATA_QUALITY_DESC = "Data calculated based on original SPICE kernels"
/* TIME DATA ELEMENTS */
SPACECRAFT_CLOCK_START_COUNT = "1/0206331851.08404"
SPACECRAFT_CLOCK_STOP_COUNT = "1/0206332261.58554"
START_TIME = 2009-11-15T02:25:21.678Z
STOP_TIME = 2009-11-15T02:30:50.163Z
/* ORBITAL DATA ELEMENTS */
ASCENDING_NODE_LONGITUDE = 73.76
MAXIMUM_RESOLUTION = 0.0685
FOOTPRINT_POINT_LATITUDE = (49.0026,49.0,48.9947,48.9837,48.9833, 49.0481,48.5513,48.0547,47.7246,47.3911 ,46.894,46.5535,46.2078,45.6973,45.3533 ,45.0123,44.668,44.3196,43.7977,43.4454 ,43.0907,42.7403,42.3839,42.024,41.4856 ,40.9386,40.389,40.0182,39.6507,39.273, 38.899,38.3298,37.9499,37.5635,37.1781, 36.787,36.3963,35.9996,35.4023,35.0011, 34.5952,33.9814,33.3614,32.7339,32.3125 ,31.8864,31.4565,30.8077,30.5901, 30.3747,30.3638,30.3552,30.3458,30.3297 ,30.3291,30.3302,30.7737,31.2063, 31.6403,32.2746,32.698,33.3286,33.9514, 34.567,34.9746,35.3778,35.9776,36.3754, 36.7648,37.1613,37.5481,37.936,38.3173, 38.8891,39.2632,39.6414,40.1973,40.5688 ,41.1185,41.4834,41.8432,42.2036, 42.5658,42.92,43.2752,43.8051,44.1531, 44.5024,44.8529,45.3672,45.7097,46.054, 46.3934,46.7294,47.0675,47.4056,47.9119 ,48.7445,48.9045,49.0026)
FOOTPRINT_POINT_LONGITUDE = (296.612,295.98,295.336,294.472,294.451 ,294.354,294.403,294.452,294.483, 294.513,294.545,294.579,294.619,294.655 ,294.683,294.707,294.729,294.753, 294.787,294.809,294.831,294.848,294.867 ,294.886,294.912,294.937,294.961, 294.977,294.989,295.004,295.016,295.034 ,295.045,295.055,295.065,295.074, 295.083,295.091,295.101,295.107,295.113 ,295.121,295.126,295.131,295.132, 295.133,295.134,295.132,295.131,295.129 ,295.776,296.368,296.884,297.628, 297.651,297.659,297.643,297.627,297.611 ,297.586,297.569,297.544,297.518, 297.493,297.475,297.458,297.431,297.413 ,297.394,297.376,297.357,297.338, 297.319,297.29,297.27,297.25,297.22, 297.199,297.168,297.147,297.126,297.104 ,297.082,297.059,297.037,297.002, 296.979,296.955,296.931,296.894,296.869 ,296.844,296.818,296.792,296.766, 296.739,296.697,296.626,296.612, 296.612)
ORBIT_NUMBER = 7526
ORBITAL_ECCENTRICITY = 0.569
ORBITAL_INCLINATION = 86.83
ORBITAL_SEMIMAJOR_AXIS = 8699.84
PERIAPSIS_ALTITUDE = 367.45
PERIAPSIS_ARGUMENT_ANGLE = 118.25
PERIAPSIS_TIME = 2009-11-15T02:21:34.000Z
SPACECRAFT_ORIENTATION = (0.0,-1.0,0.0)
^MEX_ORIENTATION_DESC = "MEX_ORIENTATION_DESC.TXT"
SPACECRAFT_POINTING_MODE = ACROSSTRACK
^MEX_POINTING_DESC = "MEX_POINTING_DESC.TXT"
RIGHT_ASCENSION = -1e+32
DECLINATION = -1e+32
OFFSET_ANGLE = -0.87
SPACECRAFT_SOLAR_DISTANCE = 2.36501e+08
TARGET_NAME = MARS
/* CAMERA DATA ELEMENTS */
DETECTOR_TEMPERATURE = 18.7783
FOCAL_PLANE_TEMPERATURE = 8.3794
INST_CMPRS_NAME = "DISCRETE COSINE TRANSFORMATION (DCT)"
INST_CMPRS_RATIO = 12.669
INST_CMPRS_QUALITY = 0
INST_CMPRS_QUANTZ_TBL_ID = 0
INSTRUMENT_TEMPERATURE = 11.4379
LENS_TEMPERATURE = 8.7872
MACROPIXEL_SIZE = 4
MISSING_FRAMES = 0
PIXEL_SUBSAMPLING_FLAG = N
SIGNAL_CHAIN_ID = 2
/* RADIOMETRIC DATA ELEMENTS */
BANDWIDTH = 48.0
CENTER_FILTER_WAVELENGTH = 748.0
RADIANCE_OFFSET = 0.833581
RADIANCE_SCALING_FACTOR = 0.00950275
REFLECTANCE_SCALING_FACTOR = 0.00121295
MEX:REFLECTANCE_OFFSET = 0.1064
/* IMAGE OBJECT DEFINITIONS */
OBJECT = IMAGE
  INTERCHANGE_FORMAT = BINARY
  LINES = 22262
  LINE_SAMPLES = 2849
  SAMPLE_TYPE = UNSIGNED_INTEGER
  SAMPLE_BITS = 8
  BANDS = 1
  BAND_STORAGE_TYPE = BAND_SEQUENTIAL
  MAXIMUM = 255
  MEAN = 145.448
  MINIMUM = 1
  STANDARD_DEVIATION = 32.4022
END_OBJECT = IMAGE
/* MAP OBJECT DEFINITIONS */
OBJECT = IMAGE_MAP_PROJECTION
  ^DATA_SET_MAP_PROJECTION_CATALOG= "DSMAP.CAT"
  A_AXIS_RADIUS = 3396.0
  B_AXIS_RADIUS = 3396.0
  C_AXIS_RADIUS = 3396.0
  CENTER_LATITUDE = 0.0
  CENTER_LONGITUDE = 296.0
  COORDINATE_SYSTEM_NAME = PLANETOGRAPHIC
  COORDINATE_SYSTEM_TYPE = "BODY-FIXED ROTATING"
  EASTERNMOST_LONGITUDE = 297.659
  FIRST_STANDARD_PARALLEL = "N/A"
  LINE_FIRST_PIXEL = 1
  LINE_LAST_PIXEL = 22262
  LINE_PROJECTION_OFFSET = 58227.625
  MAP_PROJECTION_ROTATION = 0.0
  MAP_PROJECTION_TYPE = SINUSOIDAL
  MAP_RESOLUTION = 1185.42760773333
  MAP_SCALE = 0.05
  MAXIMUM_LATITUDE = 49.0481
  MINIMUM_LATITUDE = 30.3291
  POSITIVE_LONGITUDE_DIRECTION = EAST
  REFERENCE_LATITUDE = "N/A"
  REFERENCE_LONGITUDE = "N/A"
  SAMPLE_FIRST_PIXEL = 1
  SAMPLE_LAST_PIXEL = 2849
  SAMPLE_PROJECTION_OFFSET = 1250.875
  SECOND_STANDARD_PARALLEL = "N/A"
  WESTERNMOST_LONGITUDE = 294.354
END_OBJECT = IMAGE_MAP_PROJECTION
END
