PDS_VERSION_ID = PDS3
/* FILE DATA ELEMENTS */
RECORD_TYPE = UNDEFINED
/* POINTERS TO DATA OBJECTS */
^IMAGE = ("H7523_0000_S24.TIF")
/* IDENTIFICATION DATA ELEMENTS */
DATA_SET_ID = "MEX-M-HRSC-4-REFDR-MAPPROJECT-EXT3-V4.0"
DATA_SET_NAME = "MARS EXPRESS HRSC MAP PROJECTED REFDR EXTENSION3 V4.0"
DETECTOR_ID = MEX_HRSC_S2
EVENT_TYPE = "MARS-REGIONAL-MAPPING-Vo-Te-Fl"
INSTRUMENT_HOST_ID = MEX
INSTRUMENT_HOST_NAME = "MARS EXPRESS"
INSTRUMENT_ID = HRSC
INSTRUMENT_NAME = "HIGH RESOLUTION STEREO CAMERA"
MISSION_NAME = "MARS EXPRESS"
MISSION_PHASE_NAME = ME_Phase_18
PROCESSING_LEVEL_ID = 4
PRODUCT_CREATION_TIME = 2023-02-02T15:10:19.000Z
PRODUCT_ID = "H7523_0000_S24.TIF"
RELEASE_ID = 0003
REVISION_ID = 0000
/* QUALITY DATA ELEMENTS */
DATA_QUALITY_ID = 1
DATA_QUALITY_DESC = "Data calculated based on original SPICE kernels"
/* TIME DATA ELEMENTS */
SPACECRAFT_CLOCK_START_COUNT = "1/0206257202.09042"
SPACECRAFT_CLOCK_STOP_COUNT = "1/0206257605.17543"
START_TIME = 2009-11-14T05:41:12.043Z
STOP_TIME = 2009-11-14T05:46:45.796Z
/* ORBITAL DATA ELEMENTS */
ASCENDING_NODE_LONGITUDE = 73.82
MAXIMUM_RESOLUTION = 0.0316
FOOTPRINT_POINT_LATITUDE = (59.4172,59.3799,59.3507,59.3499,59.453 ,58.849,58.4471,58.0455,57.6446,57.244, 56.844,56.4446,55.8465,55.4484,55.051, 54.6549,54.2591,53.6665,53.2724,52.8789 ,52.4861,52.0942,51.7028,51.312,50.9223 ,50.1452,49.3715,48.7936,48.0113, 47.6184,47.0293,46.4277,45.8273,45.4226 ,45.0149,44.4038,43.7827,43.3706, 42.7417,42.3225,41.8979,41.4723,41.0437 ,40.6114,39.9607,39.5247,39.3059, 39.2537,39.2484,39.2409,39.2358,39.2357 ,39.2362,39.8937,40.3315,40.7637, 41.1974,41.8381,42.2657,42.6871,43.3187 ,43.7341,44.1501,44.5644,44.9719, 45.3819,45.7901,46.1926,46.5954,47.1961 ,47.7878,48.1825,48.579,49.1591,49.9346 ,50.3236,50.7135,51.1044,51.4957, 51.8882,52.2813,52.6746,53.0693,53.4647 ,53.8608,54.2578,54.6555,55.0537, 55.4525,55.8524,56.2528,56.6537,57.0555 ,57.4578,57.8609,58.2641,58.6681, 59.2753,59.4781,59.4172)
FOOTPRINT_POINT_LONGITUDE = (238.603,237.085,236.165,236.141, 235.992,236.123,236.206,236.286,236.364 ,236.438,236.511,236.58,236.681,236.745 ,236.806,236.865,236.922,237.005, 237.057,237.107,237.156,237.203,237.249 ,237.293,237.335,237.415,237.489, 237.541,237.608,237.64,237.686,237.731, 237.773,237.8,237.827,237.865,237.9, 237.921,237.952,237.972,237.991,238.008 ,238.026,238.042,238.063,238.075, 238.081,238.082,238.979,239.776,240.286 ,240.308,240.315,240.284,240.263, 240.242,240.22,240.188,240.166,240.144, 240.109,240.086,240.062,240.038,240.014 ,239.989,239.963,239.938,239.911, 239.871,239.829,239.801,239.772,239.728 ,239.667,239.635,239.602,239.569, 239.534,239.499,239.463,239.426,239.388 ,239.348,239.308,239.267,239.224,239.18 ,239.135,239.089,239.041,238.992, 238.942,238.89,238.836,238.781,238.724, 238.636,238.605,238.603)
ORBIT_NUMBER = 7523
ORBITAL_ECCENTRICITY = 0.569
ORBITAL_INCLINATION = 86.83
ORBITAL_SEMIMAJOR_AXIS = 8700.85
PERIAPSIS_ALTITUDE = 366.37
PERIAPSIS_ARGUMENT_ANGLE = 118.73
PERIAPSIS_TIME = 2009-11-14T05:40:13.000Z
SPACECRAFT_ORIENTATION = (0.0,-1.0,0.0)
^MEX_ORIENTATION_DESC = "MEX_ORIENTATION_DESC.TXT"
SPACECRAFT_POINTING_MODE = ACROSSTRACK
^MEX_POINTING_DESC = "MEX_POINTING_DESC.TXT"
RIGHT_ASCENSION = -1e+32
DECLINATION = -1e+32
OFFSET_ANGLE = -0.52
SPACECRAFT_SOLAR_DISTANCE = 2.36353e+08
TARGET_NAME = MARS
/* CAMERA DATA ELEMENTS */
DETECTOR_TEMPERATURE = 18.3705
FOCAL_PLANE_TEMPERATURE = 7.9716
INST_CMPRS_NAME = "DISCRETE COSINE TRANSFORMATION (DCT)"
INST_CMPRS_RATIO = 12.5479
INST_CMPRS_QUALITY = 0
INST_CMPRS_QUANTZ_TBL_ID = 0
INSTRUMENT_TEMPERATURE = 11.0301
LENS_TEMPERATURE = 8.3794
MACROPIXEL_SIZE = 2
MISSING_FRAMES = 0
PIXEL_SUBSAMPLING_FLAG = N
SIGNAL_CHAIN_ID = 1
/* RADIOMETRIC DATA ELEMENTS */
BANDWIDTH = 178.0
CENTER_FILTER_WAVELENGTH = 679.0
RADIANCE_OFFSET = 5.6313
RADIANCE_SCALING_FACTOR = 0.0275244
REFLECTANCE_SCALING_FACTOR = 0.000814268
MEX:REFLECTANCE_OFFSET = 0.166594
/* IMAGE OBJECT DEFINITIONS */
OBJECT = IMAGE
  INTERCHANGE_FORMAT = BINARY
  LINES = 48107
  LINE_SAMPLES = 5864
  SAMPLE_TYPE = UNSIGNED_INTEGER
  SAMPLE_BITS = 8
  BANDS = 1
  BAND_STORAGE_TYPE = BAND_SEQUENTIAL
  MAXIMUM = 255
  MEAN = 94.5922
  MINIMUM = 1
  STANDARD_DEVIATION = 48.0449
END_OBJECT = IMAGE
/* MAP OBJECT DEFINITIONS */
OBJECT = IMAGE_MAP_PROJECTION
  ^DATA_SET_MAP_PROJECTION_CATALOG= "DSMAP.CAT"
  A_AXIS_RADIUS = 3396.0
  B_AXIS_RADIUS = 3396.0
  C_AXIS_RADIUS = 3396.0
  CENTER_LATITUDE = 0.0
  CENTER_LONGITUDE = 239.0
  COORDINATE_SYSTEM_NAME = PLANETOGRAPHIC
  COORDINATE_SYSTEM_TYPE = "BODY-FIXED ROTATING"
  EASTERNMOST_LONGITUDE = 240.315
  FIRST_STANDARD_PARALLEL = "N/A"
  LINE_FIRST_PIXEL = 1
  LINE_LAST_PIXEL = 48107
  LINE_PROJECTION_OFFSET = 141187.25
  MAP_PROJECTION_ROTATION = 0.0
  MAP_PROJECTION_TYPE = SINUSOIDAL
  MAP_RESOLUTION = 2370.85521546667
  MAP_SCALE = 0.025
  MAXIMUM_LATITUDE = 59.4781
  MINIMUM_LATITUDE = 39.2357
  POSITIVE_LONGITUDE_DIRECTION = EAST
  REFERENCE_LATITUDE = "N/A"
  REFERENCE_LONGITUDE = "N/A"
  SAMPLE_FIRST_PIXEL = 1
  SAMPLE_LAST_PIXEL = 5864
  SAMPLE_PROJECTION_OFFSET = 3595.75
  SECOND_STANDARD_PARALLEL = "N/A"
  WESTERNMOST_LONGITUDE = 235.992
END_OBJECT = IMAGE_MAP_PROJECTION
END
