PDS_VERSION_ID = PDS3
/* FILE DATA ELEMENTS */
RECORD_TYPE = UNDEFINED
/* POINTERS TO DATA OBJECTS */
^IMAGE = ("H7517_0000_S24.TIF")
/* IDENTIFICATION DATA ELEMENTS */
DATA_SET_ID = "MEX-M-HRSC-4-REFDR-MAPPROJECT-EXT3-V4.0"
DATA_SET_NAME = "MARS EXPRESS HRSC MAP PROJECTED REFDR EXTENSION3 V4.0"
DETECTOR_ID = MEX_HRSC_S2
EVENT_TYPE = "MARS-REGIONAL-MAPPING-Vo-Fl-Pf"
INSTRUMENT_HOST_ID = MEX
INSTRUMENT_HOST_NAME = "MARS EXPRESS"
INSTRUMENT_ID = HRSC
INSTRUMENT_NAME = "HIGH RESOLUTION STEREO CAMERA"
MISSION_NAME = "MARS EXPRESS"
MISSION_PHASE_NAME = ME_Phase_18
PROCESSING_LEVEL_ID = 4
PRODUCT_CREATION_TIME = 2023-02-02T15:10:19.000Z
PRODUCT_ID = "H7517_0000_S24.TIF"
RELEASE_ID = 0003
REVISION_ID = 0000
/* QUALITY DATA ELEMENTS */
DATA_QUALITY_ID = 1
DATA_QUALITY_DESC = "Data calculated based on original SPICE kernels"
/* TIME DATA ELEMENTS */
SPACECRAFT_CLOCK_START_COUNT = "1/0206108445.07289"
SPACECRAFT_CLOCK_STOP_COUNT = "1/0206108878.48984"
START_TIME = 2009-11-12T12:22:04.001Z
STOP_TIME = 2009-11-12T12:27:59.194Z
/* ORBITAL DATA ELEMENTS */
ASCENDING_NODE_LONGITUDE = 73.94
MAXIMUM_RESOLUTION = 0.0362
FOOTPRINT_POINT_LATITUDE = (46.0788,46.0402,46.006,45.9703,45.9692 ,46.0613,45.5497,44.8625,43.9962, 43.4687,42.7651,42.4087,42.0506,41.6941 ,41.332,40.969,40.607,40.0543,39.6858, 39.1269,38.7536,38.1867,37.8083,37.4247 ,37.0408,36.6529,36.2638,35.871,35.4773 ,35.0796,34.6804,34.277,33.668,33.0528, 32.6394,32.2212,31.8018,31.1651,30.5213 ,30.089,29.6518,29.2109,28.7673,28.3201 ,27.8692,27.1848,26.7272,26.4994, 26.4608,26.4704,26.48,26.4892,26.4987, 26.5121,26.5207,26.5213,26.5222,27.2094 ,27.6686,28.1234,28.5749,29.0224, 29.4659,29.9057,30.3428,30.777,31.2059, 31.6319,32.056,32.4756,33.1002,33.7174, 34.1261,34.5312,35.1335,35.5327,35.9281 ,36.322,36.7117,37.101,37.4855,37.8711, 38.2508,38.82,39.1939,39.7545,40.3082, 40.6775,41.0402,41.4042,41.7673,42.1248 ,42.4838,42.842,43.5477,44.0764,45.1183 ,45.9759,46.1471,46.0788)
FOOTPRINT_POINT_LONGITUDE = (127.426,126.616,125.955,125.309, 125.289,125.3,125.31,125.322,125.334, 125.34,125.347,125.349,125.351,125.353, 125.354,125.355,125.355,125.355,125.354 ,125.352,125.35,125.347,125.343,125.34, 125.336,125.332,125.327,125.321,125.316 ,125.309,125.302,125.295,125.283,125.27 ,125.261,125.251,125.241,125.224, 125.206,125.194,125.18,125.167,125.152, 125.137,125.121,125.097,125.079,125.071 ,125.069,125.475,125.885,126.298, 126.715,127.32,127.72,127.747,127.757, 127.748,127.743,127.737,127.732,127.727 ,127.722,127.717,127.713,127.708, 127.704,127.699,127.694,127.69,127.684, 127.677,127.673,127.668,127.662,127.658 ,127.654,127.65,127.646,127.642,127.638 ,127.634,127.63,127.624,127.62,127.614, 127.608,127.603,127.599,127.594,127.59, 127.586,127.581,127.577,127.568,127.561 ,127.546,127.533,127.531,127.426)
ORBIT_NUMBER = 7517
ORBITAL_ECCENTRICITY = 0.569
ORBITAL_INCLINATION = 86.82
ORBITAL_SEMIMAJOR_AXIS = 8705.57
PERIAPSIS_ALTITUDE = 366.6
PERIAPSIS_ARGUMENT_ANGLE = 119.79
PERIAPSIS_TIME = 2009-11-12T12:17:45.000Z
SPACECRAFT_ORIENTATION = (0.0,-1.0,0.0)
^MEX_ORIENTATION_DESC = "MEX_ORIENTATION_DESC.TXT"
SPACECRAFT_POINTING_MODE = ACROSSTRACK
^MEX_POINTING_DESC = "MEX_POINTING_DESC.TXT"
RIGHT_ASCENSION = -1e+32
DECLINATION = -1e+32
OFFSET_ANGLE = 1.1
SPACECRAFT_SOLAR_DISTANCE = 2.36054e+08
TARGET_NAME = MARS
/* CAMERA DATA ELEMENTS */
DETECTOR_TEMPERATURE = 18.1666
FOCAL_PLANE_TEMPERATURE = 7.7677
INST_CMPRS_NAME = "DISCRETE COSINE TRANSFORMATION (DCT)"
INST_CMPRS_RATIO = 12.6601
INST_CMPRS_QUALITY = 0
INST_CMPRS_QUANTZ_TBL_ID = 0
INSTRUMENT_TEMPERATURE = 11.0301
LENS_TEMPERATURE = 7.9716
MACROPIXEL_SIZE = 2
MISSING_FRAMES = 0
PIXEL_SUBSAMPLING_FLAG = N
SIGNAL_CHAIN_ID = 1
/* RADIOMETRIC DATA ELEMENTS */
BANDWIDTH = 178.0
CENTER_FILTER_WAVELENGTH = 679.0
RADIANCE_OFFSET = 7.46263
RADIANCE_SCALING_FACTOR = 0.0143666
REFLECTANCE_SCALING_FACTOR = 0.000423942
MEX:REFLECTANCE_OFFSET = 0.220215
/* IMAGE OBJECT DEFINITIONS */
OBJECT = IMAGE
  INTERCHANGE_FORMAT = BINARY
  LINES = 46630
  LINE_SAMPLES = 5101
  SAMPLE_TYPE = UNSIGNED_INTEGER
  SAMPLE_BITS = 8
  BANDS = 1
  BAND_STORAGE_TYPE = BAND_SEQUENTIAL
  MAXIMUM = 255
  MEAN = 138.369
  MINIMUM = 1
  STANDARD_DEVIATION = 38.43
END_OBJECT = IMAGE
/* MAP OBJECT DEFINITIONS */
OBJECT = IMAGE_MAP_PROJECTION
  ^DATA_SET_MAP_PROJECTION_CATALOG= "DSMAP.CAT"
  A_AXIS_RADIUS = 3396.0
  B_AXIS_RADIUS = 3396.0
  C_AXIS_RADIUS = 3396.0
  CENTER_LATITUDE = 0.0
  CENTER_LONGITUDE = 126.0
  COORDINATE_SYSTEM_NAME = PLANETOGRAPHIC
  COORDINATE_SYSTEM_TYPE = "BODY-FIXED ROTATING"
  EASTERNMOST_LONGITUDE = 127.757
  FIRST_STANDARD_PARALLEL = "N/A"
  LINE_FIRST_PIXEL = 1
  LINE_LAST_PIXEL = 46630
  LINE_PROJECTION_OFFSET = 109322.25
  MAP_PROJECTION_ROTATION = 0.0
  MAP_PROJECTION_TYPE = SINUSOIDAL
  MAP_RESOLUTION = 2370.85521546667
  MAP_SCALE = 0.025
  MAXIMUM_LATITUDE = 46.1471
  MINIMUM_LATITUDE = 26.4608
  POSITIVE_LONGITUDE_DIRECTION = EAST
  REFERENCE_LATITUDE = "N/A"
  REFERENCE_LONGITUDE = "N/A"
  SAMPLE_FIRST_PIXEL = 1
  SAMPLE_LAST_PIXEL = 5101
  SAMPLE_PROJECTION_OFFSET = 1733.75
  SECOND_STANDARD_PARALLEL = "N/A"
  WESTERNMOST_LONGITUDE = 125.069
END_OBJECT = IMAGE_MAP_PROJECTION
END
