PDS_VERSION_ID = PDS3
/* FILE DATA ELEMENTS */
RECORD_TYPE = UNDEFINED
/* POINTERS TO DATA OBJECTS */
^IMAGE = ("H7517_0000_RE4.TIF")
/* IDENTIFICATION DATA ELEMENTS */
DATA_SET_ID = "MEX-M-HRSC-4-REFDR-MAPPROJECT-EXT3-V4.0"
DATA_SET_NAME = "MARS EXPRESS HRSC MAP PROJECTED REFDR EXTENSION3 V4.0"
DETECTOR_ID = MEX_HRSC_RED
EVENT_TYPE = "MARS-REGIONAL-MAPPING-Vo-Fl-Pf"
INSTRUMENT_HOST_ID = MEX
INSTRUMENT_HOST_NAME = "MARS EXPRESS"
INSTRUMENT_ID = HRSC
INSTRUMENT_NAME = "HIGH RESOLUTION STEREO CAMERA"
MISSION_NAME = "MARS EXPRESS"
MISSION_PHASE_NAME = ME_Phase_18
PROCESSING_LEVEL_ID = 4
PRODUCT_CREATION_TIME = 2023-02-02T15:10:19.000Z
PRODUCT_ID = "H7517_0000_RE4.TIF"
RELEASE_ID = 0003
REVISION_ID = 0000
/* QUALITY DATA ELEMENTS */
DATA_QUALITY_ID = 1
DATA_QUALITY_DESC = "Data calculated based on original SPICE kernels"
/* TIME DATA ELEMENTS */
SPACECRAFT_CLOCK_START_COUNT = "1/0206108445.07289"
SPACECRAFT_CLOCK_STOP_COUNT = "1/0206108878.48984"
START_TIME = 2009-11-12T12:21:57.075Z
STOP_TIME = 2009-11-12T12:27:45.841Z
/* ORBITAL DATA ELEMENTS */
ASCENDING_NODE_LONGITUDE = 73.94
MAXIMUM_RESOLUTION = 0.0706
FOOTPRINT_POINT_LATITUDE = (46.0715,46.0369,46.0084,45.9783, 45.9774,46.0532,45.5381,44.8541,44.1578 ,43.2844,42.9298,42.5757,42.2229,41.862 ,41.5021,41.1433,40.7775,40.412,39.8604 ,39.4887,39.1183,38.7421,38.1778, 37.7953,37.2228,36.8344,36.4476,36.054, 35.6616,35.2644,34.8665,34.4635,33.8558 ,33.4477,33.0349,32.4116,31.781,31.1431 ,30.4977,30.0645,29.6259,29.1837, 28.7385,28.2899,27.8374,27.3804,26.9195 ,26.6879,26.4572,26.4721,26.4858, 26.4928,26.5023,26.5027,26.5042,26.9705 ,27.433,27.8916,28.3454,28.7951,29.2421 ,29.6857,30.1257,30.5604,31.2078, 31.8471,32.4795,33.1046,33.5185,33.9279 ,34.5371,34.941,35.3398,35.7387,36.1321 ,36.5258,36.9136,37.3027,37.877,38.2608 ,38.8265,39.2037,39.5749,39.947,40.3167 ,40.8658,41.2322,41.5919,41.9526, 42.3144,42.6686,43.0233,43.3791,43.9048 ,44.2536,44.6033,45.294,45.8096,45.9817 ,46.0715)
FOOTPRINT_POINT_LONGITUDE = (127.407,126.557,125.929,125.315, 125.296,125.31,125.32,125.333,125.343, 125.353,125.357,125.36,125.362,125.364, 125.366,125.367,125.368,125.368,125.368 ,125.367,125.366,125.364,125.361, 125.358,125.353,125.349,125.345,125.34, 125.335,125.329,125.323,125.316,125.305 ,125.297,125.289,125.275,125.26,125.244 ,125.227,125.215,125.202,125.189, 125.175,125.161,125.145,125.13,125.113, 125.105,125.096,125.861,126.638,127.057 ,127.68,127.705,127.714,127.709,127.704 ,127.7,127.695,127.691,127.687,127.683, 127.679,127.675,127.669,127.663,127.657 ,127.652,127.648,127.644,127.639, 127.635,127.631,127.628,127.624,127.621 ,127.617,127.613,127.608,127.605, 127.599,127.595,127.592,127.588,127.584 ,127.578,127.574,127.57,127.565,127.561 ,127.557,127.553,127.549,127.542, 127.537,127.532,127.523,127.516,127.514 ,127.407)
ORBIT_NUMBER = 7517
ORBITAL_ECCENTRICITY = 0.569
ORBITAL_INCLINATION = 86.82
ORBITAL_SEMIMAJOR_AXIS = 8705.57
PERIAPSIS_ALTITUDE = 366.6
PERIAPSIS_ARGUMENT_ANGLE = 119.79
PERIAPSIS_TIME = 2009-11-12T12:17:45.000Z
SPACECRAFT_ORIENTATION = (0.0,-1.0,0.0)
^MEX_ORIENTATION_DESC = "MEX_ORIENTATION_DESC.TXT"
SPACECRAFT_POINTING_MODE = ACROSSTRACK
^MEX_POINTING_DESC = "MEX_POINTING_DESC.TXT"
RIGHT_ASCENSION = -1e+32
DECLINATION = -1e+32
OFFSET_ANGLE = 1.1
SPACECRAFT_SOLAR_DISTANCE = 2.36054e+08
TARGET_NAME = MARS
/* CAMERA DATA ELEMENTS */
DETECTOR_TEMPERATURE = 18.1666
FOCAL_PLANE_TEMPERATURE = 7.7677
INST_CMPRS_NAME = "DISCRETE COSINE TRANSFORMATION (DCT)"
INST_CMPRS_RATIO = 22.3329
INST_CMPRS_QUALITY = 0
INST_CMPRS_QUANTZ_TBL_ID = 0
INSTRUMENT_TEMPERATURE = 11.0301
LENS_TEMPERATURE = 7.9716
MACROPIXEL_SIZE = 4
MISSING_FRAMES = 0
PIXEL_SUBSAMPLING_FLAG = N
SIGNAL_CHAIN_ID = 2
/* RADIOMETRIC DATA ELEMENTS */
BANDWIDTH = 48.0
CENTER_FILTER_WAVELENGTH = 748.0
RADIANCE_OFFSET = 2.00883
RADIANCE_SCALING_FACTOR = 0.00420147
REFLECTANCE_SCALING_FACTOR = 0.000534262
MEX:REFLECTANCE_OFFSET = 0.255444
/* IMAGE OBJECT DEFINITIONS */
OBJECT = IMAGE
  INTERCHANGE_FORMAT = BINARY
  LINES = 23315
  LINE_SAMPLES = 2551
  SAMPLE_TYPE = UNSIGNED_INTEGER
  SAMPLE_BITS = 8
  BANDS = 1
  BAND_STORAGE_TYPE = BAND_SEQUENTIAL
  MAXIMUM = 255
  MEAN = 133.376
  MINIMUM = 1
  STANDARD_DEVIATION = 40.1158
END_OBJECT = IMAGE
/* MAP OBJECT DEFINITIONS */
OBJECT = IMAGE_MAP_PROJECTION
  ^DATA_SET_MAP_PROJECTION_CATALOG= "DSMAP.CAT"
  A_AXIS_RADIUS = 3396.0
  B_AXIS_RADIUS = 3396.0
  C_AXIS_RADIUS = 3396.0
  CENTER_LATITUDE = 0.0
  CENTER_LONGITUDE = 126.0
  COORDINATE_SYSTEM_NAME = PLANETOGRAPHIC
  COORDINATE_SYSTEM_TYPE = "BODY-FIXED ROTATING"
  EASTERNMOST_LONGITUDE = 127.714
  FIRST_STANDARD_PARALLEL = "N/A"
  LINE_FIRST_PIXEL = 1
  LINE_LAST_PIXEL = 23315
  LINE_PROJECTION_OFFSET = 54660.875
  MAP_PROJECTION_ROTATION = 0.0
  MAP_PROJECTION_TYPE = SINUSOIDAL
  MAP_RESOLUTION = 1185.42760773333
  MAP_SCALE = 0.05
  MAXIMUM_LATITUDE = 46.0715
  MINIMUM_LATITUDE = 26.4572
  POSITIVE_LONGITUDE_DIRECTION = EAST
  REFERENCE_LATITUDE = "N/A"
  REFERENCE_LONGITUDE = "N/A"
  SAMPLE_FIRST_PIXEL = 1
  SAMPLE_LAST_PIXEL = 2551
  SAMPLE_PROJECTION_OFFSET = 866.625
  SECOND_STANDARD_PARALLEL = "N/A"
  WESTERNMOST_LONGITUDE = 125.096
END_OBJECT = IMAGE_MAP_PROJECTION
END
