PDS_VERSION_ID = PDS3
/* FILE DATA ELEMENTS */
RECORD_TYPE = UNDEFINED
/* POINTERS TO DATA OBJECTS */
^IMAGE = ("H7517_0000_P14.TIF")
/* IDENTIFICATION DATA ELEMENTS */
DATA_SET_ID = "MEX-M-HRSC-4-REFDR-MAPPROJECT-EXT3-V4.0"
DATA_SET_NAME = "MARS EXPRESS HRSC MAP PROJECTED REFDR EXTENSION3 V4.0"
DETECTOR_ID = MEX_HRSC_P1
EVENT_TYPE = "MARS-REGIONAL-MAPPING-Vo-Fl-Pf"
INSTRUMENT_HOST_ID = MEX
INSTRUMENT_HOST_NAME = "MARS EXPRESS"
INSTRUMENT_ID = HRSC
INSTRUMENT_NAME = "HIGH RESOLUTION STEREO CAMERA"
MISSION_NAME = "MARS EXPRESS"
MISSION_PHASE_NAME = ME_Phase_18
PROCESSING_LEVEL_ID = 4
PRODUCT_CREATION_TIME = 2023-02-02T15:10:19.000Z
PRODUCT_ID = "H7517_0000_P14.TIF"
RELEASE_ID = 0003
REVISION_ID = 0000
/* QUALITY DATA ELEMENTS */
DATA_QUALITY_ID = 1
DATA_QUALITY_DESC = "Data calculated based on original SPICE kernels"
/* TIME DATA ELEMENTS */
SPACECRAFT_CLOCK_START_COUNT = "1/0206108445.07289"
SPACECRAFT_CLOCK_STOP_COUNT = "1/0206108878.48984"
START_TIME = 2009-11-12T12:20:59.728Z
STOP_TIME = 2009-11-12T12:26:10.863Z
/* ORBITAL DATA ELEMENTS */
ASCENDING_NODE_LONGITUDE = 73.94
MAXIMUM_RESOLUTION = 0.0328
FOOTPRINT_POINT_LATITUDE = (46.1387,46.1565,46.1666,46.1725, 46.1726,46.1155,45.2608,44.4068,43.8842 ,43.5342,43.1845,42.66,42.124,41.7658, 41.4079,41.0502,40.6838,40.1349,39.7695 ,39.2113,38.8372,38.4636,37.8933, 37.5116,36.9351,36.5455,36.1563,35.7624 ,35.365,34.9682,34.3616,33.9573,33.5454 ,32.9274,32.5072,32.0878,31.662,31.2352 ,30.8032,30.3685,29.9287,29.4872, 29.0394,28.3622,27.9064,27.444,26.7442, 26.5093,26.4798,26.4611,26.4283,26.4011 ,26.4,26.4003,26.8719,27.3383,27.8021, 28.2593,28.939,29.3884,29.8308,30.2719, 30.7072,31.1411,31.5689,31.9964,32.4168 ,33.0445,33.4576,33.8709,34.479,34.8844 ,35.282,35.6802,36.0755,36.4656,36.8562 ,37.2435,37.6256,38.008,38.3883,38.7626 ,39.1373,39.5125,39.881,40.2474,40.614, 40.9814,41.3402,41.6987,42.0577,42.5946 ,42.945,43.2954,43.646,44.346,45.0303, 45.8862,46.0575,46.1387)
FOOTPRINT_POINT_LONGITUDE = (127.345,126.586,125.965,125.359,125.34 ,125.361,125.381,125.399,125.408, 125.413,125.418,125.425,125.431,125.434 ,125.437,125.44,125.442,125.445,125.446 ,125.447,125.447,125.446,125.445, 125.444,125.441,125.439,125.436,125.433 ,125.429,125.425,125.419,125.414, 125.408,125.399,125.392,125.385,125.378 ,125.369,125.361,125.352,125.342, 125.332,125.322,125.305,125.293,125.281 ,125.261,125.254,125.254,125.946, 126.875,127.507,127.53,127.538,127.538, 127.537,127.537,127.536,127.535,127.534 ,127.533,127.533,127.532,127.531,127.53 ,127.529,127.529,127.527,127.526, 127.525,127.523,127.522,127.521,127.519 ,127.518,127.517,127.515,127.513, 127.512,127.51,127.509,127.507,127.506, 127.503,127.501,127.499,127.497,127.495 ,127.492,127.49,127.487,127.484,127.481 ,127.478,127.475,127.469,127.462, 127.454,127.452,127.345)
ORBIT_NUMBER = 7517
ORBITAL_ECCENTRICITY = 0.569
ORBITAL_INCLINATION = 86.82
ORBITAL_SEMIMAJOR_AXIS = 8705.57
PERIAPSIS_ALTITUDE = 366.6
PERIAPSIS_ARGUMENT_ANGLE = 119.79
PERIAPSIS_TIME = 2009-11-12T12:17:45.000Z
SPACECRAFT_ORIENTATION = (0.0,-1.0,0.0)
^MEX_ORIENTATION_DESC = "MEX_ORIENTATION_DESC.TXT"
SPACECRAFT_POINTING_MODE = ACROSSTRACK
^MEX_POINTING_DESC = "MEX_POINTING_DESC.TXT"
RIGHT_ASCENSION = -1e+32
DECLINATION = -1e+32
OFFSET_ANGLE = 1.1
SPACECRAFT_SOLAR_DISTANCE = 2.36054e+08
TARGET_NAME = MARS
/* CAMERA DATA ELEMENTS */
DETECTOR_TEMPERATURE = 16.9432
FOCAL_PLANE_TEMPERATURE = 7.7677
INST_CMPRS_NAME = "DISCRETE COSINE TRANSFORMATION (DCT)"
INST_CMPRS_RATIO = 12.1161
INST_CMPRS_QUALITY = 0
INST_CMPRS_QUANTZ_TBL_ID = 0
INSTRUMENT_TEMPERATURE = 11.0301
LENS_TEMPERATURE = 7.9716
MACROPIXEL_SIZE = 2
MISSING_FRAMES = 0
PIXEL_SUBSAMPLING_FLAG = N
SIGNAL_CHAIN_ID = 3
/* RADIOMETRIC DATA ELEMENTS */
BANDWIDTH = 174.0
CENTER_FILTER_WAVELENGTH = 675.0
RADIANCE_OFFSET = 6.61463
RADIANCE_SCALING_FACTOR = 0.0136525
REFLECTANCE_SCALING_FACTOR = 0.000409188
MEX:REFLECTANCE_OFFSET = 0.198252
/* IMAGE OBJECT DEFINITIONS */
OBJECT = IMAGE
  INTERCHANGE_FORMAT = BINARY
  LINES = 46630
  LINE_SAMPLES = 5101
  SAMPLE_TYPE = UNSIGNED_INTEGER
  SAMPLE_BITS = 8
  BANDS = 1
  BAND_STORAGE_TYPE = BAND_SEQUENTIAL
  MAXIMUM = 255
  MEAN = 125.811
  MINIMUM = 1
  STANDARD_DEVIATION = 36.9208
END_OBJECT = IMAGE
/* MAP OBJECT DEFINITIONS */
OBJECT = IMAGE_MAP_PROJECTION
  ^DATA_SET_MAP_PROJECTION_CATALOG= "DSMAP.CAT"
  A_AXIS_RADIUS = 3396.0
  B_AXIS_RADIUS = 3396.0
  C_AXIS_RADIUS = 3396.0
  CENTER_LATITUDE = 0.0
  CENTER_LONGITUDE = 126.0
  COORDINATE_SYSTEM_NAME = PLANETOGRAPHIC
  COORDINATE_SYSTEM_TYPE = "BODY-FIXED ROTATING"
  EASTERNMOST_LONGITUDE = 127.538
  FIRST_STANDARD_PARALLEL = "N/A"
  LINE_FIRST_PIXEL = 1
  LINE_LAST_PIXEL = 46630
  LINE_PROJECTION_OFFSET = 109322.25
  MAP_PROJECTION_ROTATION = 0.0
  MAP_PROJECTION_TYPE = SINUSOIDAL
  MAP_RESOLUTION = 2370.85521546667
  MAP_SCALE = 0.025
  MAXIMUM_LATITUDE = 46.1726
  MINIMUM_LATITUDE = 26.4
  POSITIVE_LONGITUDE_DIRECTION = EAST
  REFERENCE_LATITUDE = "N/A"
  REFERENCE_LONGITUDE = "N/A"
  SAMPLE_FIRST_PIXEL = 1
  SAMPLE_LAST_PIXEL = 5101
  SAMPLE_PROJECTION_OFFSET = 1733.75
  SECOND_STANDARD_PARALLEL = "N/A"
  WESTERNMOST_LONGITUDE = 125.254
END_OBJECT = IMAGE_MAP_PROJECTION
END
