PDS_VERSION_ID = PDS3
/* FILE DATA ELEMENTS */
RECORD_TYPE = UNDEFINED
/* POINTERS TO DATA OBJECTS */
^IMAGE = ("H7517_0000_IR4.TIF")
/* IDENTIFICATION DATA ELEMENTS */
DATA_SET_ID = "MEX-M-HRSC-4-REFDR-MAPPROJECT-EXT3-V4.0"
DATA_SET_NAME = "MARS EXPRESS HRSC MAP PROJECTED REFDR EXTENSION3 V4.0"
DETECTOR_ID = MEX_HRSC_IR
EVENT_TYPE = "MARS-REGIONAL-MAPPING-Vo-Fl-Pf"
INSTRUMENT_HOST_ID = MEX
INSTRUMENT_HOST_NAME = "MARS EXPRESS"
INSTRUMENT_ID = HRSC
INSTRUMENT_NAME = "HIGH RESOLUTION STEREO CAMERA"
MISSION_NAME = "MARS EXPRESS"
MISSION_PHASE_NAME = ME_Phase_18
PROCESSING_LEVEL_ID = 4
PRODUCT_CREATION_TIME = 2023-02-02T15:10:19.000Z
PRODUCT_ID = "H7517_0000_IR4.TIF"
RELEASE_ID = 0003
REVISION_ID = 0000
/* QUALITY DATA ELEMENTS */
DATA_QUALITY_ID = 1
DATA_QUALITY_DESC = "Data calculated based on original SPICE kernels"
/* TIME DATA ELEMENTS */
SPACECRAFT_CLOCK_START_COUNT = "1/0206108445.07289"
SPACECRAFT_CLOCK_STOP_COUNT = "1/0206108878.48984"
START_TIME = 2009-11-12T12:20:53.724Z
STOP_TIME = 2009-11-12T12:26:01.446Z
/* ORBITAL DATA ELEMENTS */
ASCENDING_NODE_LONGITUDE = 73.94
MAXIMUM_RESOLUTION = 0.0664
FOOTPRINT_POINT_LATITUDE = (46.1307,46.1558,46.1698,46.1797, 46.1799,46.1069,45.5929,44.7362,44.0517 ,43.7047,43.3534,43.0026,42.4761, 42.1244,41.7645,41.4051,40.8663,40.5045 ,40.1369,39.7698,39.4026,39.0314, 38.6553,38.2795,37.9042,37.5205,37.1365 ,36.7534,36.1673,35.7757,35.1809, 34.7817,34.1767,33.7692,33.3609,32.9453 ,32.5303,32.1091,31.6864,31.0438, 30.6141,30.1758,29.738,29.2927,28.6202, 28.1678,27.7086,27.2479,26.78,26.5465, 26.4872,26.4653,26.4379,26.3932,26.392, 26.393,26.8623,27.3292,27.7905,28.4749, 28.9271,29.3735,29.8166,30.2557,30.6916 ,31.1229,31.552,31.9758,32.399,32.8148, 33.4374,33.8456,34.4566,34.8569,35.2575 ,35.8499,36.2426,36.6349,37.2117, 37.5962,37.9772,38.3529,38.7295,39.2909 ,39.8434,40.2117,40.5793,40.9392, 41.2994,41.6595,42.1976,42.5487,43.0762 ,43.4278,43.9529,44.4674,45.1537, 45.8399,46.0115,46.1307)
FOOTPRINT_POINT_LONGITUDE = (127.346,126.543,125.949,125.368, 125.351,125.375,125.387,125.406,125.419 ,125.424,125.43,125.435,125.442,125.445 ,125.449,125.452,125.456,125.458,125.46 ,125.461,125.462,125.462,125.463, 125.462,125.462,125.46,125.459,125.457, 125.453,125.45,125.445,125.441,125.434, 125.429,125.424,125.418,125.412,125.405 ,125.397,125.386,125.377,125.368, 125.359,125.349,125.333,125.322,125.31, 125.298,125.285,125.278,125.277,125.934 ,126.604,127.502,127.524,127.531, 127.531,127.53,127.53,127.529,127.529, 127.528,127.528,127.527,127.527,127.526 ,127.526,127.525,127.524,127.523, 127.522,127.521,127.519,127.518,127.517 ,127.516,127.514,127.513,127.511, 127.509,127.508,127.507,127.505,127.503 ,127.5,127.498,127.496,127.494,127.492, 127.489,127.486,127.484,127.479,127.477 ,127.472,127.468,127.461,127.455, 127.453,127.346)
ORBIT_NUMBER = 7517
ORBITAL_ECCENTRICITY = 0.569
ORBITAL_INCLINATION = 86.82
ORBITAL_SEMIMAJOR_AXIS = 8705.57
PERIAPSIS_ALTITUDE = 366.6
PERIAPSIS_ARGUMENT_ANGLE = 119.79
PERIAPSIS_TIME = 2009-11-12T12:17:45.000Z
SPACECRAFT_ORIENTATION = (0.0,-1.0,0.0)
^MEX_ORIENTATION_DESC = "MEX_ORIENTATION_DESC.TXT"
SPACECRAFT_POINTING_MODE = ACROSSTRACK
^MEX_POINTING_DESC = "MEX_POINTING_DESC.TXT"
RIGHT_ASCENSION = -1e+32
DECLINATION = -1e+32
OFFSET_ANGLE = 1.1
SPACECRAFT_SOLAR_DISTANCE = 2.36054e+08
TARGET_NAME = MARS
/* CAMERA DATA ELEMENTS */
DETECTOR_TEMPERATURE = 16.9432
FOCAL_PLANE_TEMPERATURE = 7.7677
INST_CMPRS_NAME = "DISCRETE COSINE TRANSFORMATION (DCT)"
INST_CMPRS_RATIO = 14.3921
INST_CMPRS_QUALITY = 0
INST_CMPRS_QUANTZ_TBL_ID = 0
INSTRUMENT_TEMPERATURE = 11.0301
LENS_TEMPERATURE = 7.9716
MACROPIXEL_SIZE = 4
MISSING_FRAMES = 0
PIXEL_SUBSAMPLING_FLAG = N
SIGNAL_CHAIN_ID = 2
/* RADIOMETRIC DATA ELEMENTS */
BANDWIDTH = 81.0
CENTER_FILTER_WAVELENGTH = 955.5
RADIANCE_OFFSET = 1.61898
RADIANCE_SCALING_FACTOR = 0.0046745
REFLECTANCE_SCALING_FACTOR = 0.000561938
MEX:REFLECTANCE_OFFSET = 0.194624
/* IMAGE OBJECT DEFINITIONS */
OBJECT = IMAGE
  INTERCHANGE_FORMAT = BINARY
  LINES = 23315
  LINE_SAMPLES = 2551
  SAMPLE_TYPE = UNSIGNED_INTEGER
  SAMPLE_BITS = 8
  BANDS = 1
  BAND_STORAGE_TYPE = BAND_SEQUENTIAL
  MAXIMUM = 255
  MEAN = 136.697
  MINIMUM = 1
  STANDARD_DEVIATION = 39.3696
END_OBJECT = IMAGE
/* MAP OBJECT DEFINITIONS */
OBJECT = IMAGE_MAP_PROJECTION
  ^DATA_SET_MAP_PROJECTION_CATALOG= "DSMAP.CAT"
  A_AXIS_RADIUS = 3396.0
  B_AXIS_RADIUS = 3396.0
  C_AXIS_RADIUS = 3396.0
  CENTER_LATITUDE = 0.0
  CENTER_LONGITUDE = 126.0
  COORDINATE_SYSTEM_NAME = PLANETOGRAPHIC
  COORDINATE_SYSTEM_TYPE = "BODY-FIXED ROTATING"
  EASTERNMOST_LONGITUDE = 127.531
  FIRST_STANDARD_PARALLEL = "N/A"
  LINE_FIRST_PIXEL = 1
  LINE_LAST_PIXEL = 23315
  LINE_PROJECTION_OFFSET = 54660.875
  MAP_PROJECTION_ROTATION = 0.0
  MAP_PROJECTION_TYPE = SINUSOIDAL
  MAP_RESOLUTION = 1185.42760773333
  MAP_SCALE = 0.05
  MAXIMUM_LATITUDE = 46.1799
  MINIMUM_LATITUDE = 26.392
  POSITIVE_LONGITUDE_DIRECTION = EAST
  REFERENCE_LATITUDE = "N/A"
  REFERENCE_LONGITUDE = "N/A"
  SAMPLE_FIRST_PIXEL = 1
  SAMPLE_LAST_PIXEL = 2551
  SAMPLE_PROJECTION_OFFSET = 866.625
  SECOND_STANDARD_PARALLEL = "N/A"
  WESTERNMOST_LONGITUDE = 125.277
END_OBJECT = IMAGE_MAP_PROJECTION
END
