PDS_VERSION_ID = PDS3
/* FILE DATA ELEMENTS */
RECORD_TYPE = UNDEFINED
/* POINTERS TO DATA OBJECTS */
^IMAGE = ("H7515_0000_GR4.TIF")
/* IDENTIFICATION DATA ELEMENTS */
DATA_SET_ID = "MEX-M-HRSC-4-REFDR-MAPPROJECT-EXT3-V4.0"
DATA_SET_NAME = "MARS EXPRESS HRSC MAP PROJECTED REFDR EXTENSION3 V4.0"
DETECTOR_ID = MEX_HRSC_GREEN
EVENT_TYPE = "MARS-REGIONAL-MAPPING-Vo-Lc-Pf"
INSTRUMENT_HOST_ID = MEX
INSTRUMENT_HOST_NAME = "MARS EXPRESS"
INSTRUMENT_ID = HRSC
INSTRUMENT_NAME = "HIGH RESOLUTION STEREO CAMERA"
MISSION_NAME = "MARS EXPRESS"
MISSION_PHASE_NAME = ME_Phase_18
PROCESSING_LEVEL_ID = 4
PRODUCT_CREATION_TIME = 2023-02-02T15:10:19.000Z
PRODUCT_ID = "H7515_0000_GR4.TIF"
RELEASE_ID = 0003
REVISION_ID = 0000
/* QUALITY DATA ELEMENTS */
DATA_QUALITY_ID = 1
DATA_QUALITY_DESC = "Data calculated based on original SPICE kernels"
/* TIME DATA ELEMENTS */
SPACECRAFT_CLOCK_START_COUNT = "1/0206058713.07291"
SPACECRAFT_CLOCK_STOP_COUNT = "1/0206059102.03478"
START_TIME = 2009-11-11T22:32:23.949Z
STOP_TIME = 2009-11-11T22:37:18.402Z
/* ORBITAL DATA ELEMENTS */
ASCENDING_NODE_LONGITUDE = 73.97
MAXIMUM_RESOLUTION = 0.1224
FOOTPRINT_POINT_LATITUDE = (51.0932,51.0614,51.0183,51.0174, 50.9958,50.4747,50.1275,49.7806,49.4339 ,49.0871,48.7407,48.3945,48.0485, 47.7027,47.3571,47.0117,46.3218,45.6331 ,44.9454,44.2591,43.7337,43.3823, 43.0312,42.6805,42.3231,41.9641,41.6054 ,41.2472,40.6991,40.3329,39.9671, 39.4081,39.0347,38.6617,38.2803,37.8994 ,37.3247,36.9363,36.5486,35.957,35.5622 ,34.9604,34.5586,34.1499,33.7408, 33.3276,32.9113,32.7036,32.6102,32.6235 ,32.6332,32.6373,32.6374,32.6399,33.267 ,33.6831,34.0932,34.5042,35.1091, 35.5124,35.9083,36.3049,36.8917,37.281, 37.6684,38.0499,38.4319,38.8119,39.186, 39.5607,39.9356,40.3022,40.6693,41.0369 ,41.5798,41.9394,42.2994,42.6596, 43.0112,43.3632,43.8918,44.2442,44.9324 ,45.6219,45.9671,46.3126,46.6584, 47.0045,47.3508,47.871,48.2179,48.565, 48.9124,49.26,49.6079,49.9559,50.3042, 50.8268,51.0012,51.0932)
FOOTPRINT_POINT_LONGITUDE = (326.502,325.543,324.514,324.495, 324.408,324.462,324.496,324.53,324.563, 324.594,324.625,324.655,324.683,324.711 ,324.738,324.764,324.814,324.86,324.903 ,324.944,324.973,324.991,325.009, 325.026,325.043,325.059,325.075,325.09, 325.111,325.125,325.137,325.156,325.168 ,325.178,325.189,325.198,325.212,325.22 ,325.228,325.239,325.246,325.254, 325.259,325.263,325.267,325.27,325.273, 325.274,325.274,325.972,326.746,327.357 ,327.376,327.389,327.372,327.36,327.349 ,327.337,327.318,327.306,327.293, 327.281,327.261,327.248,327.234,327.221 ,327.207,327.193,327.179,327.164, 327.149,327.134,327.119,327.104,327.08, 327.064,327.048,327.031,327.015,326.998 ,326.972,326.954,326.918,326.88,326.861 ,326.841,326.821,326.8,326.779,326.746, 326.724,326.701,326.678,326.654,326.63, 326.605,326.58,326.54,326.527,326.502)
ORBIT_NUMBER = 7515
ORBITAL_ECCENTRICITY = 0.569
ORBITAL_INCLINATION = 86.84
ORBITAL_SEMIMAJOR_AXIS = 8700.69
PERIAPSIS_ALTITUDE = 366.45
PERIAPSIS_ARGUMENT_ANGLE = 120.15
PERIAPSIS_TIME = 2009-11-11T22:30:15.000Z
SPACECRAFT_ORIENTATION = (0.0,-1.0,0.0)
^MEX_ORIENTATION_DESC = "MEX_ORIENTATION_DESC.TXT"
SPACECRAFT_POINTING_MODE = ACROSSTRACK
^MEX_POINTING_DESC = "MEX_POINTING_DESC.TXT"
RIGHT_ASCENSION = -1e+32
DECLINATION = -1e+32
OFFSET_ANGLE = -0.4
SPACECRAFT_SOLAR_DISTANCE = 2.35954e+08
TARGET_NAME = MARS
/* CAMERA DATA ELEMENTS */
DETECTOR_TEMPERATURE = 17.9627
FOCAL_PLANE_TEMPERATURE = 8.1755
INST_CMPRS_NAME = "DISCRETE COSINE TRANSFORMATION (DCT)"
INST_CMPRS_RATIO = 27.7254
INST_CMPRS_QUALITY = 0
INST_CMPRS_QUANTZ_TBL_ID = 0
INSTRUMENT_TEMPERATURE = 11.0301
LENS_TEMPERATURE = 8.3794
MACROPIXEL_SIZE = 8
MISSING_FRAMES = 0
PIXEL_SUBSAMPLING_FLAG = N
SIGNAL_CHAIN_ID = 2
/* RADIOMETRIC DATA ELEMENTS */
BANDWIDTH = 88.0
CENTER_FILTER_WAVELENGTH = 538.0
RADIANCE_OFFSET = 1.54304
RADIANCE_SCALING_FACTOR = 0.00302557
REFLECTANCE_SCALING_FACTOR = 0.000145029
MEX:REFLECTANCE_OFFSET = 0.0739646
/* IMAGE OBJECT DEFINITIONS */
OBJECT = IMAGE
  INTERCHANGE_FORMAT = BINARY
  LINES = 10942
  LINE_SAMPLES = 1306
  SAMPLE_TYPE = UNSIGNED_INTEGER
  SAMPLE_BITS = 8
  BANDS = 1
  BAND_STORAGE_TYPE = BAND_SEQUENTIAL
  MAXIMUM = 255
  MEAN = 95.3343
  MINIMUM = 1
  STANDARD_DEVIATION = 35.2411
END_OBJECT = IMAGE
/* MAP OBJECT DEFINITIONS */
OBJECT = IMAGE_MAP_PROJECTION
  ^DATA_SET_MAP_PROJECTION_CATALOG= "DSMAP.CAT"
  A_AXIS_RADIUS = 3396.0
  B_AXIS_RADIUS = 3396.0
  C_AXIS_RADIUS = 3396.0
  CENTER_LATITUDE = 0.0
  CENTER_LONGITUDE = 326.0
  COORDINATE_SYSTEM_NAME = PLANETOGRAPHIC
  COORDINATE_SYSTEM_TYPE = "BODY-FIXED ROTATING"
  EASTERNMOST_LONGITUDE = 327.389
  FIRST_STANDARD_PARALLEL = "N/A"
  LINE_FIRST_PIXEL = 1
  LINE_LAST_PIXEL = 10942
  LINE_PROJECTION_OFFSET = 30274.4375
  MAP_PROJECTION_ROTATION = 0.0
  MAP_PROJECTION_TYPE = SINUSOIDAL
  MAP_RESOLUTION = 592.713803866667
  MAP_SCALE = 0.1
  MAXIMUM_LATITUDE = 51.0932
  MINIMUM_LATITUDE = 32.6102
  POSITIVE_LONGITUDE_DIRECTION = EAST
  REFERENCE_LATITUDE = "N/A"
  REFERENCE_LONGITUDE = "N/A"
  SAMPLE_FIRST_PIXEL = 1
  SAMPLE_LAST_PIXEL = 1306
  SAMPLE_PROJECTION_OFFSET = 604.5625
  SECOND_STANDARD_PARALLEL = "N/A"
  WESTERNMOST_LONGITUDE = 324.408
END_OBJECT = IMAGE_MAP_PROJECTION
END
