PDS_VERSION_ID = PDS3
/* FILE DATA ELEMENTS */
RECORD_TYPE = UNDEFINED
/* POINTERS TO DATA OBJECTS */
^IMAGE = ("H7512_0000_S24.TIF")
/* IDENTIFICATION DATA ELEMENTS */
DATA_SET_ID = "MEX-M-HRSC-4-REFDR-MAPPROJECT-EXT3-V4.0"
DATA_SET_NAME = "MARS EXPRESS HRSC MAP PROJECTED REFDR EXTENSION3 V4.0"
DETECTOR_ID = MEX_HRSC_S2
EVENT_TYPE = "MARS-REGIONAL-MAPPING-Vo-Te"
INSTRUMENT_HOST_ID = MEX
INSTRUMENT_HOST_NAME = "MARS EXPRESS"
INSTRUMENT_ID = HRSC
INSTRUMENT_NAME = "HIGH RESOLUTION STEREO CAMERA"
MISSION_NAME = "MARS EXPRESS"
MISSION_PHASE_NAME = ME_Phase_18
PROCESSING_LEVEL_ID = 4
PRODUCT_CREATION_TIME = 2023-02-02T15:10:19.000Z
PRODUCT_ID = "H7512_0000_S24.TIF"
RELEASE_ID = 0003
REVISION_ID = 0000
/* QUALITY DATA ELEMENTS */
DATA_QUALITY_ID = 1
DATA_QUALITY_DESC = "Data calculated based on original SPICE kernels"
/* TIME DATA ELEMENTS */
SPACECRAFT_CLOCK_START_COUNT = "1/0205984336.08249"
SPACECRAFT_CLOCK_STOP_COUNT = "1/0205984720.46804"
START_TIME = 2009-11-11T01:53:34.899Z
STOP_TIME = 2009-11-11T01:58:41.263Z
/* ORBITAL DATA ELEMENTS */
ASCENDING_NODE_LONGITUDE = 74.04
MAXIMUM_RESOLUTION = 0.0362
FOOTPRINT_POINT_LATITUDE = (44.3423,44.3298,44.3191,44.3034, 44.3029,44.3595,43.9099,43.1543,42.6957 ,42.0849,41.7748,41.4655,41.1565, 40.8433,40.529,40.0582,39.5796,39.2604, 38.9366,38.453,38.1296,37.6374,37.3091, 36.9778,36.6446,36.3105,35.9715,35.6336 ,35.2925,34.7735,34.2569,33.7357, 33.3847,33.0295,32.6741,32.3142,31.9545 ,31.5903,31.0408,30.4861,30.1133, 29.7364,29.358,28.9773,28.5903,28.2017, 27.6129,27.4164,27.3604,27.3601,27.3598 ,27.3611,27.3588,27.3574,27.3574,27.358 ,27.9477,28.3383,28.7252,29.301,29.8705 ,30.4336,30.8064,31.176,31.5456,31.9088 ,32.4499,32.9873,33.3426,33.6931, 34.0447,34.3912,34.7403,35.2572,35.6004 ,35.9386,36.2788,36.6146,36.9485, 37.2817,37.6103,37.9408,38.2687,38.7556 ,39.0809,39.4,39.7204,40.0405,40.355, 40.6706,41.1439,41.4527,41.7625,42.0741 ,42.3833,42.9924,43.6084,44.2085, 44.3593,44.3423)
FOOTPRINT_POINT_LONGITUDE = (270.074,269.302,268.749,268.056, 268.036,268.003,268.022,268.053,268.07, 268.091,268.101,268.11,268.119,268.127, 268.135,268.146,268.157,268.163,268.171 ,268.178,268.183,268.189,268.193, 268.197,268.2,268.203,268.205,268.207, 268.208,268.212,268.211,268.209,268.208 ,268.207,268.205,268.203,268.2,268.196, 268.191,268.184,268.179,268.173,268.167 ,268.16,268.154,268.147,268.135,268.131 ,268.13,268.541,269.0,269.533,270.163, 270.601,270.625,270.634,270.619,270.61, 270.601,270.586,270.572,270.558,270.548 ,270.539,270.53,270.519,270.505,270.49, 270.48,270.469,270.459,270.449,270.439, 270.424,270.414,270.404,270.394,270.384 ,270.373,270.363,270.352,270.341, 270.331,270.314,270.303,270.292,270.281 ,270.269,270.258,270.246,270.229, 270.217,270.204,270.192,270.181,270.155 ,270.132,270.106,270.099,270.074)
ORBIT_NUMBER = 7512
ORBITAL_ECCENTRICITY = 0.57
ORBITAL_INCLINATION = 86.82
ORBITAL_SEMIMAJOR_AXIS = 8705.45
PERIAPSIS_ALTITUDE = 365.87
PERIAPSIS_ARGUMENT_ANGLE = 120.66
PERIAPSIS_TIME = 2009-11-11T01:49:03.000Z
SPACECRAFT_ORIENTATION = (0.0,-1.0,0.0)
^MEX_ORIENTATION_DESC = "MEX_ORIENTATION_DESC.TXT"
SPACECRAFT_POINTING_MODE = NADIR
^MEX_POINTING_DESC = "MEX_POINTING_DESC.TXT"
RIGHT_ASCENSION = -1e+32
DECLINATION = -1e+32
OFFSET_ANGLE = -1e+32
SPACECRAFT_SOLAR_DISTANCE = 2.35804e+08
TARGET_NAME = MARS
/* CAMERA DATA ELEMENTS */
DETECTOR_TEMPERATURE = 18.5744
FOCAL_PLANE_TEMPERATURE = 8.3794
INST_CMPRS_NAME = "DISCRETE COSINE TRANSFORMATION (DCT)"
INST_CMPRS_RATIO = 10.0523
INST_CMPRS_QUALITY = 0
INST_CMPRS_QUANTZ_TBL_ID = 0
INSTRUMENT_TEMPERATURE = 11.0301
LENS_TEMPERATURE = 8.7872
MACROPIXEL_SIZE = 2
MISSING_FRAMES = 0
PIXEL_SUBSAMPLING_FLAG = N
SIGNAL_CHAIN_ID = 1
/* RADIOMETRIC DATA ELEMENTS */
BANDWIDTH = 178.0
CENTER_FILTER_WAVELENGTH = 679.0
RADIANCE_OFFSET = 5.49042
RADIANCE_SCALING_FACTOR = 0.0306818
REFLECTANCE_SCALING_FACTOR = 0.00090347
MEX:REFLECTANCE_OFFSET = 0.161674
/* IMAGE OBJECT DEFINITIONS */
OBJECT = IMAGE
  INTERCHANGE_FORMAT = BINARY
  LINES = 40407
  LINE_SAMPLES = 4768
  SAMPLE_TYPE = UNSIGNED_INTEGER
  SAMPLE_BITS = 8
  BANDS = 1
  BAND_STORAGE_TYPE = BAND_SEQUENTIAL
  MAXIMUM = 255
  MEAN = 147.045
  MINIMUM = 1
  STANDARD_DEVIATION = 21.7837
END_OBJECT = IMAGE
/* MAP OBJECT DEFINITIONS */
OBJECT = IMAGE_MAP_PROJECTION
  ^DATA_SET_MAP_PROJECTION_CATALOG= "DSMAP.CAT"
  A_AXIS_RADIUS = 3396.0
  B_AXIS_RADIUS = 3396.0
  C_AXIS_RADIUS = 3396.0
  CENTER_LATITUDE = 0.0
  CENTER_LONGITUDE = 269.0
  COORDINATE_SYSTEM_NAME = PLANETOGRAPHIC
  COORDINATE_SYSTEM_TYPE = "BODY-FIXED ROTATING"
  EASTERNMOST_LONGITUDE = 270.634
  FIRST_STANDARD_PARALLEL = "N/A"
  LINE_FIRST_PIXEL = 1
  LINE_LAST_PIXEL = 40407
  LINE_PROJECTION_OFFSET = 105318.75
  MAP_PROJECTION_ROTATION = 0.0
  MAP_PROJECTION_TYPE = SINUSOIDAL
  MAP_RESOLUTION = 2370.85521546667
  MAP_SCALE = 0.025
  MAXIMUM_LATITUDE = 44.3595
  MINIMUM_LATITUDE = 27.3574
  POSITIVE_LONGITUDE_DIRECTION = EAST
  REFERENCE_LATITUDE = "N/A"
  REFERENCE_LONGITUDE = "N/A"
  SAMPLE_FIRST_PIXEL = 1
  SAMPLE_LAST_PIXEL = 4768
  SAMPLE_PROJECTION_OFFSET = 1612.25
  SECOND_STANDARD_PARALLEL = "N/A"
  WESTERNMOST_LONGITUDE = 268.003
END_OBJECT = IMAGE_MAP_PROJECTION
END
