PDS_VERSION_ID = PDS3
/* FILE DATA ELEMENTS */
RECORD_TYPE = UNDEFINED
/* POINTERS TO DATA OBJECTS */
^IMAGE = ("H7508_0000_GR4.TIF")
/* IDENTIFICATION DATA ELEMENTS */
DATA_SET_ID = "MEX-M-HRSC-4-REFDR-MAPPROJECT-EXT3-V4.0"
DATA_SET_NAME = "MARS EXPRESS HRSC MAP PROJECTED REFDR EXTENSION3 V4.0"
DETECTOR_ID = MEX_HRSC_GREEN
EVENT_TYPE = "MARS-REGIONAL-MAPPING-Fl-Pf-Eo"
INSTRUMENT_HOST_ID = MEX
INSTRUMENT_HOST_NAME = "MARS EXPRESS"
INSTRUMENT_ID = HRSC
INSTRUMENT_NAME = "HIGH RESOLUTION STEREO CAMERA"
MISSION_NAME = "MARS EXPRESS"
MISSION_PHASE_NAME = ME_Phase_18
PROCESSING_LEVEL_ID = 4
PRODUCT_CREATION_TIME = 2023-02-02T15:10:19.000Z
PRODUCT_ID = "H7508_0000_GR4.TIF"
RELEASE_ID = 0003
REVISION_ID = 0000
/* QUALITY DATA ELEMENTS */
DATA_QUALITY_ID = 1
DATA_QUALITY_DESC = "Data calculated based on original SPICE kernels"
/* TIME DATA ELEMENTS */
SPACECRAFT_CLOCK_START_COUNT = "1/0205885070.09058"
SPACECRAFT_CLOCK_STOP_COUNT = "1/0205885456.49492"
START_TIME = 2009-11-09T22:18:24.429Z
STOP_TIME = 2009-11-09T22:22:56.579Z
/* ORBITAL DATA ELEMENTS */
ASCENDING_NODE_LONGITUDE = 74.11
MAXIMUM_RESOLUTION = 0.1357
FOOTPRINT_POINT_LATITUDE = (41.2501,41.2339,41.2144,41.1842, 41.1834,41.1661,40.3033,39.57,38.9829, 38.6849,38.3849,38.0852,37.7859,37.4828 ,37.1769,36.8714,36.5664,36.1002, 35.7885,35.4776,35.1612,34.844,34.5274, 34.0453,33.7225,33.2358,32.9072,32.5791 ,32.2469,31.913,31.5796,31.2398,30.9005 ,30.3856,30.0404,29.5163,29.1669,28.811 ,28.4556,28.096,27.7351,27.3707,27.0045 ,26.6339,26.2627,25.8868,25.3194, 24.9378,24.7452,24.7171,24.7254,24.7322 ,24.7357,24.7361,24.7361,24.7389, 25.3155,25.8854,26.263,26.6354,27.0077, 27.375,27.741,28.103,28.4643,28.8209, 29.1777,29.5287,30.055,30.4007,30.9179, 31.2581,31.7665,32.1012,32.6024,32.9314 ,33.261,33.5879,33.9113,34.2352,34.557, 34.8747,35.1929,35.5106,35.8224,36.1346 ,36.6027,36.9087,37.2151,37.5219, 37.8263,38.1265,38.427,38.7279,39.0272, 39.6159,40.3519,41.0728,41.2172, 41.2501)
FOOTPRINT_POINT_LONGITUDE = (312.33,311.763,311.187,310.431,310.413 ,310.333,310.378,310.412,310.438, 310.451,310.463,310.474,310.485,310.496 ,310.507,310.517,310.527,310.541, 310.549,310.557,310.565,310.572,310.581 ,310.59,310.596,310.605,310.61,310.615, 310.619,310.623,310.627,310.631,310.634 ,310.638,310.638,310.64,310.643,310.641 ,310.641,310.64,310.639,310.638,310.635 ,310.633,310.63,310.627,310.621,310.617 ,310.614,310.614,311.183,311.855,312.54 ,312.879,312.9,312.914,312.901,312.887, 312.878,312.869,312.86,312.85,312.841, 312.831,312.821,312.811,312.801,312.791 ,312.776,312.765,312.749,312.739, 312.722,312.711,312.695,312.683,312.672 ,312.66,312.649,312.637,312.625,312.613 ,312.6,312.588,312.575,312.563,312.543, 312.53,312.517,312.504,312.49,312.476, 312.463,312.448,312.434,312.406,312.368 ,312.33,312.323,312.33)
ORBIT_NUMBER = 7508
ORBITAL_ECCENTRICITY = 0.569
ORBITAL_INCLINATION = 86.83
ORBITAL_SEMIMAJOR_AXIS = 8702.89
PERIAPSIS_ALTITUDE = 365.91
PERIAPSIS_ARGUMENT_ANGLE = 121.38
PERIAPSIS_TIME = 2009-11-09T22:14:00.000Z
SPACECRAFT_ORIENTATION = (0.0,-1.0,0.0)
^MEX_ORIENTATION_DESC = "MEX_ORIENTATION_DESC.TXT"
SPACECRAFT_POINTING_MODE = ACROSSTRACK
^MEX_POINTING_DESC = "MEX_POINTING_DESC.TXT"
RIGHT_ASCENSION = -1e+32
DECLINATION = -1e+32
OFFSET_ANGLE = -0.916
SPACECRAFT_SOLAR_DISTANCE = 2.35603e+08
TARGET_NAME = MARS
/* CAMERA DATA ELEMENTS */
DETECTOR_TEMPERATURE = 18.3705
FOCAL_PLANE_TEMPERATURE = 8.5833
INST_CMPRS_NAME = "DISCRETE COSINE TRANSFORMATION (DCT)"
INST_CMPRS_RATIO = 27.8118
INST_CMPRS_QUALITY = 0
INST_CMPRS_QUANTZ_TBL_ID = 0
INSTRUMENT_TEMPERATURE = 11.234
LENS_TEMPERATURE = 8.9911
MACROPIXEL_SIZE = 8
MISSING_FRAMES = 0
PIXEL_SUBSAMPLING_FLAG = N
SIGNAL_CHAIN_ID = 2
/* RADIOMETRIC DATA ELEMENTS */
BANDWIDTH = 88.0
CENTER_FILTER_WAVELENGTH = 538.0
RADIANCE_OFFSET = 1.56992
RADIANCE_SCALING_FACTOR = 0.00391781
REFLECTANCE_SCALING_FACTOR = 0.000187238
MEX:REFLECTANCE_OFFSET = 0.075029
/* IMAGE OBJECT DEFINITIONS */
OBJECT = IMAGE
  INTERCHANGE_FORMAT = BINARY
  LINES = 9792
  LINE_SAMPLES = 1273
  SAMPLE_TYPE = UNSIGNED_INTEGER
  SAMPLE_BITS = 8
  BANDS = 1
  BAND_STORAGE_TYPE = BAND_SEQUENTIAL
  MAXIMUM = 255
  MEAN = 162.229
  MINIMUM = 1
  STANDARD_DEVIATION = 26.9244
END_OBJECT = IMAGE
/* MAP OBJECT DEFINITIONS */
OBJECT = IMAGE_MAP_PROJECTION
  ^DATA_SET_MAP_PROJECTION_CATALOG= "DSMAP.CAT"
  A_AXIS_RADIUS = 3396.0
  B_AXIS_RADIUS = 3396.0
  C_AXIS_RADIUS = 3396.0
  CENTER_LATITUDE = 0.0
  CENTER_LONGITUDE = 312.0
  COORDINATE_SYSTEM_NAME = PLANETOGRAPHIC
  COORDINATE_SYSTEM_TYPE = "BODY-FIXED ROTATING"
  EASTERNMOST_LONGITUDE = 312.914
  FIRST_STANDARD_PARALLEL = "N/A"
  LINE_FIRST_PIXEL = 1
  LINE_LAST_PIXEL = 9792
  LINE_PROJECTION_OFFSET = 24446.9375
  MAP_PROJECTION_ROTATION = 0.0
  MAP_PROJECTION_TYPE = SINUSOIDAL
  MAP_RESOLUTION = 592.713803866667
  MAP_SCALE = 0.1
  MAXIMUM_LATITUDE = 41.2501
  MINIMUM_LATITUDE = 24.7171
  POSITIVE_LONGITUDE_DIRECTION = EAST
  REFERENCE_LATITUDE = "N/A"
  REFERENCE_LONGITUDE = "N/A"
  SAMPLE_FIRST_PIXEL = 1
  SAMPLE_LAST_PIXEL = 1273
  SAMPLE_PROJECTION_OFFSET = 770.6875
  SECOND_STANDARD_PARALLEL = "N/A"
  WESTERNMOST_LONGITUDE = 310.333
END_OBJECT = IMAGE_MAP_PROJECTION
END
