PDS_VERSION_ID = PDS3
/* FILE DATA ELEMENTS */
RECORD_TYPE = UNDEFINED
/* POINTERS TO DATA OBJECTS */
^IMAGE = ("H7507_0000_BL4.TIF")
/* IDENTIFICATION DATA ELEMENTS */
DATA_SET_ID = "MEX-M-HRSC-4-REFDR-MAPPROJECT-EXT3-V4.0"
DATA_SET_NAME = "MARS EXPRESS HRSC MAP PROJECTED REFDR EXTENSION3 V4.0"
DETECTOR_ID = MEX_HRSC_BLUE
EVENT_TYPE = "MARS-REGIONAL-MAPPING-Te-Fl-Pf"
INSTRUMENT_HOST_ID = MEX
INSTRUMENT_HOST_NAME = "MARS EXPRESS"
INSTRUMENT_ID = HRSC
INSTRUMENT_NAME = "HIGH RESOLUTION STEREO CAMERA"
MISSION_NAME = "MARS EXPRESS"
MISSION_PHASE_NAME = ME_Phase_18
PROCESSING_LEVEL_ID = 4
PRODUCT_CREATION_TIME = 2023-02-02T15:10:19.000Z
PRODUCT_ID = "H7507_0000_BL4.TIF"
RELEASE_ID = 0003
REVISION_ID = 0000
/* QUALITY DATA ELEMENTS */
DATA_QUALITY_ID = 1
DATA_QUALITY_DESC = "Data calculated based on original SPICE kernels"
/* TIME DATA ELEMENTS */
SPACECRAFT_CLOCK_START_COUNT = "1/0205860244.08246"
SPACECRAFT_CLOCK_STOP_COUNT = "1/0205860702.22503"
START_TIME = 2009-11-09T15:24:51.715Z
STOP_TIME = 2009-11-09T15:30:34.991Z
/* ORBITAL DATA ELEMENTS */
ASCENDING_NODE_LONGITUDE = 74.12
MAXIMUM_RESOLUTION = 0.1371
FOOTPRINT_POINT_LATITUDE = (41.0741,41.0655,41.054,41.0348,41.0342 ,41.042,40.3686,39.6891,39.0,38.309, 37.7815,37.4285,36.8956,36.5365,36.178, 35.8155,35.4501,35.0859,34.7146,34.344, 33.9711,33.5931,33.2163,32.8333,32.4507 ,31.8685,31.4783,31.083,30.4873,30.0859 ,29.6811,29.2741,28.8622,28.2397, 27.6091,27.185,26.7558,26.3242,25.8886, 25.4484,25.005,24.5588,24.1064,23.6507, 23.1911,22.7271,22.022,21.5494,21.3144, 21.1007,21.0945,21.0905,21.0861,21.0756 ,21.0752,21.0779,21.5505,22.0247, 22.4971,22.9657,23.4296,23.8888,24.3431 ,24.7935,25.2414,25.6841,26.1222,26.558 ,26.9894,27.4162,28.053,28.4722,28.8863 ,29.2994,29.7077,30.3147,30.7178, 31.1148,31.5126,31.9011,32.4852,32.8698 ,33.2536,33.6319,34.1985,34.5704, 35.1284,35.4939,36.0437,36.5831,36.9431 ,37.4762,37.8299,38.3595,38.8789, 39.2265,39.9121,40.7671,40.9342, 41.0741)
FOOTPRINT_POINT_LONGITUDE = (53.3224,52.7509,52.17,51.411,51.3922, 51.3289,51.3616,51.3929,51.4294,51.4515 ,51.4699,51.4836,51.5036,51.5137, 51.5233,51.5319,51.5408,51.5475,51.5561 ,51.5606,51.5671,51.5739,51.5788, 51.5831,51.5847,51.5893,51.5961,51.5962 ,51.5973,51.5988,51.5991,51.599,51.5989 ,51.5969,51.5956,51.5919,51.5893, 51.5864,51.5816,51.577,51.5718,51.5647, 51.5577,51.5491,51.5401,51.531,51.5155, 51.5049,51.498,51.4899,52.3869,52.8074, 53.2024,53.9394,53.9623,53.9776,53.968, 53.9581,53.9479,53.9379,53.9277,53.9174 ,53.9069,53.8963,53.8858,53.8751, 53.8643,53.8534,53.8423,53.8311,53.8147 ,53.8028,53.7912,53.7795,53.7677, 53.7496,53.7374,53.7252,53.7127,53.6999 ,53.6806,53.6677,53.6544,53.6412, 53.6208,53.6071,53.5861,53.572,53.5503, 53.5284,53.5135,53.4909,53.4755,53.4518 ,53.4281,53.4118,53.3787,53.3352, 53.3265,53.3224)
ORBIT_NUMBER = 7507
ORBITAL_ECCENTRICITY = 0.57
ORBITAL_INCLINATION = 86.83
ORBITAL_SEMIMAJOR_AXIS = 8708.17
PERIAPSIS_ALTITUDE = 365.48
PERIAPSIS_ARGUMENT_ANGLE = 121.55
PERIAPSIS_TIME = 2009-11-09T15:20:14.000Z
SPACECRAFT_ORIENTATION = (0.0,-1.0,0.0)
^MEX_ORIENTATION_DESC = "MEX_ORIENTATION_DESC.TXT"
SPACECRAFT_POINTING_MODE = ACROSSTRACK
^MEX_POINTING_DESC = "MEX_POINTING_DESC.TXT"
RIGHT_ASCENSION = -1e+32
DECLINATION = -1e+32
OFFSET_ANGLE = -0.82
SPACECRAFT_SOLAR_DISTANCE = 2.35552e+08
TARGET_NAME = MARS
/* CAMERA DATA ELEMENTS */
DETECTOR_TEMPERATURE = 17.9627
FOCAL_PLANE_TEMPERATURE = 7.9716
INST_CMPRS_NAME = "DISCRETE COSINE TRANSFORMATION (DCT)"
INST_CMPRS_RATIO = 23.7589
INST_CMPRS_QUALITY = 0
INST_CMPRS_QUANTZ_TBL_ID = 0
INSTRUMENT_TEMPERATURE = 11.234
LENS_TEMPERATURE = 8.5833
MACROPIXEL_SIZE = 8
MISSING_FRAMES = 0
PIXEL_SUBSAMPLING_FLAG = N
SIGNAL_CHAIN_ID = 2
/* RADIOMETRIC DATA ELEMENTS */
BANDWIDTH = 76.0
CENTER_FILTER_WAVELENGTH = 444.0
RADIANCE_OFFSET = 0.666674
RADIANCE_SCALING_FACTOR = 0.00160599
REFLECTANCE_SCALING_FACTOR = 9.15536e-05
MEX:REFLECTANCE_OFFSET = 0.0380054
/* IMAGE OBJECT DEFINITIONS */
OBJECT = IMAGE
  INTERCHANGE_FORMAT = BINARY
  LINES = 11856
  LINE_SAMPLES = 1371
  SAMPLE_TYPE = UNSIGNED_INTEGER
  SAMPLE_BITS = 8
  BANDS = 1
  BAND_STORAGE_TYPE = BAND_SEQUENTIAL
  MAXIMUM = 255
  MEAN = 142.794
  MINIMUM = 1
  STANDARD_DEVIATION = 23.2771
END_OBJECT = IMAGE
/* MAP OBJECT DEFINITIONS */
OBJECT = IMAGE_MAP_PROJECTION
  ^DATA_SET_MAP_PROJECTION_CATALOG= "DSMAP.CAT"
  A_AXIS_RADIUS = 3396.0
  B_AXIS_RADIUS = 3396.0
  C_AXIS_RADIUS = 3396.0
  CENTER_LATITUDE = 0.0
  CENTER_LONGITUDE = 53.0
  COORDINATE_SYSTEM_NAME = PLANETOGRAPHIC
  COORDINATE_SYSTEM_TYPE = "BODY-FIXED ROTATING"
  EASTERNMOST_LONGITUDE = 53.9776
  FIRST_STANDARD_PARALLEL = "N/A"
  LINE_FIRST_PIXEL = 1
  LINE_LAST_PIXEL = 11856
  LINE_PROJECTION_OFFSET = 24357.4375
  MAP_PROJECTION_ROTATION = 0.0
  MAP_PROJECTION_TYPE = SINUSOIDAL
  MAP_RESOLUTION = 592.713803866667
  MAP_SCALE = 0.1
  MAXIMUM_LATITUDE = 41.0741
  MINIMUM_LATITUDE = 21.0752
  POSITIVE_LONGITUDE_DIRECTION = EAST
  REFERENCE_LATITUDE = "N/A"
  REFERENCE_LONGITUDE = "N/A"
  SAMPLE_FIRST_PIXEL = 1
  SAMPLE_LAST_PIXEL = 1371
  SAMPLE_PROJECTION_OFFSET = 840.3125
  SECOND_STANDARD_PARALLEL = "N/A"
  WESTERNMOST_LONGITUDE = 51.3289
END_OBJECT = IMAGE_MAP_PROJECTION
END
