PDS_VERSION_ID = PDS3
/* FILE DATA ELEMENTS */
RECORD_TYPE = UNDEFINED
/* POINTERS TO DATA OBJECTS */
^IMAGE = ("H7506_0000_RE4.TIF")
/* IDENTIFICATION DATA ELEMENTS */
DATA_SET_ID = "MEX-M-HRSC-4-REFDR-MAPPROJECT-EXT3-V4.0"
DATA_SET_NAME = "MARS EXPRESS HRSC MAP PROJECTED REFDR EXTENSION3 V4.0"
DETECTOR_ID = MEX_HRSC_RED
EVENT_TYPE = "MARS-CLOUD-VARIABLE-At"
INSTRUMENT_HOST_ID = MEX
INSTRUMENT_HOST_NAME = "MARS EXPRESS"
INSTRUMENT_ID = HRSC
INSTRUMENT_NAME = "HIGH RESOLUTION STEREO CAMERA"
MISSION_NAME = "MARS EXPRESS"
MISSION_PHASE_NAME = ME_Phase_18
PROCESSING_LEVEL_ID = 4
PRODUCT_CREATION_TIME = 2023-02-02T15:10:19.000Z
PRODUCT_ID = "H7506_0000_RE4.TIF"
RELEASE_ID = 0003
REVISION_ID = 0000
/* QUALITY DATA ELEMENTS */
DATA_QUALITY_ID = 1
DATA_QUALITY_DESC = "Data calculated based on original SPICE kernels"
/* TIME DATA ELEMENTS */
SPACECRAFT_CLOCK_START_COUNT = "1/0205835897.07292"
SPACECRAFT_CLOCK_STOP_COUNT = "1/0205837345.54097"
START_TIME = 2009-11-09T08:41:02.739Z
STOP_TIME = 2009-11-09T09:02:26.437Z
/* ORBITAL DATA ELEMENTS */
ASCENDING_NODE_LONGITUDE = 74.15
MAXIMUM_RESOLUTION = 0.1589
FOOTPRINT_POINT_LATITUDE = (11.8425,11.866,11.8841,11.9152,11.9339 ,11.935,11.9563,10.3582,9.31863,8.29872 ,7.29858,6.31803,5.357,4.41515,3.49212, 2.58326,1.69961,0.830437,-0.0195806, -0.851671,-1.66392,-2.46004,-3.24077, -4.0054,-4.75453,-5.48717,-6.20709, -6.90942,-7.59366,-8.27373,-8.93022, -9.57432,-10.5302,-11.144,-11.7439, -12.3212,-13.1882,-14.2859,-15.3357, -16.3499,-17.3008,-18.2346,-19.1136, -19.9626,-20.7715,-21.5479,-21.7363, -21.7582,-21.8501,-21.9701,-22.088, -22.177,-22.2712,-22.3166,-22.3564, -22.3799,-22.3849,-22.3605,-22.358, -22.3574,-21.5742,-20.761,-19.69, -18.7869,-17.8442,-16.6125,-15.5747, -14.4909,-13.3529,-12.173,-11.5664, -10.6213,-9.984,-9.32269,-8.64983, -7.96456,-7.26504,-6.55133,-5.82428, -5.07726,-4.32089,-3.54522,-2.75294, -1.94325,-1.11891,-0.277092,0.582149, 1.45964,2.35516,3.26814,4.19983,5.1505, 6.12001,7.10856,8.11699,9.14496,10.1922 ,11.2598,11.8014,11.8425)
FOOTPRINT_POINT_LONGITUDE = (156.013,155.035,154.341,153.271,152.67 ,152.638,152.623,152.511,152.434, 152.354,152.273,152.19,152.105,152.019, 151.931,151.842,151.75,151.658,151.563, 151.468,151.37,151.271,151.171,151.07, 150.968,150.865,150.762,150.657,150.549 ,150.444,150.336,150.226,150.065, 149.955,149.843,149.728,149.561,149.33, 149.097,148.862,148.62,148.381,148.135, 147.888,147.638,147.386,147.322,147.315 ,148.027,149.054,150.282,151.202,152.53 ,153.348,154.374,155.712,156.538, 158.204,158.308,158.343,158.213,158.083 ,157.925,157.802,157.682,157.534,157.42 ,157.31,157.206,157.102,157.051,156.98, 156.93,156.885,156.84,156.796,156.752, 156.709,156.666,156.626,156.585,156.546 ,156.508,156.471,156.435,156.399, 156.365,156.331,156.299,156.267,156.236 ,156.205,156.176,156.147,156.119, 156.091,156.064,156.037,156.024, 156.013)
ORBIT_NUMBER = 7506
ORBITAL_ECCENTRICITY = 0.569
ORBITAL_INCLINATION = 86.82
ORBITAL_SEMIMAJOR_AXIS = 8704.84
PERIAPSIS_ALTITUDE = 366.32
PERIAPSIS_ARGUMENT_ANGLE = 121.72
PERIAPSIS_TIME = 2009-11-09T08:26:31.000Z
SPACECRAFT_ORIENTATION = (0.0,-1.0,0.0)
^MEX_ORIENTATION_DESC = "MEX_ORIENTATION_DESC.TXT"
SPACECRAFT_POINTING_MODE = NADIR
^MEX_POINTING_DESC = "MEX_POINTING_DESC.TXT"
RIGHT_ASCENSION = -1e+32
DECLINATION = -1e+32
OFFSET_ANGLE = -1e+32
SPACECRAFT_SOLAR_DISTANCE = 2.35501e+08
TARGET_NAME = MARS
/* CAMERA DATA ELEMENTS */
DETECTOR_TEMPERATURE = 18.7783
FOCAL_PLANE_TEMPERATURE = 8.5833
INST_CMPRS_NAME = "DISCRETE COSINE TRANSFORMATION (DCT)"
INST_CMPRS_RATIO = 23.8387
INST_CMPRS_QUALITY = 0
INST_CMPRS_QUANTZ_TBL_ID = 0
INSTRUMENT_TEMPERATURE = 11.0301
LENS_TEMPERATURE = 8.9911
MACROPIXEL_SIZE = 4
MISSING_FRAMES = 0
PIXEL_SUBSAMPLING_FLAG = N
SIGNAL_CHAIN_ID = 2
/* RADIOMETRIC DATA ELEMENTS */
BANDWIDTH = 48.0
CENTER_FILTER_WAVELENGTH = 748.0
RADIANCE_OFFSET = 1.06235
RADIANCE_SCALING_FACTOR = 0.00883713
REFLECTANCE_SCALING_FACTOR = 0.00111848
MEX:REFLECTANCE_OFFSET = 0.134458
/* IMAGE OBJECT DEFINITIONS */
OBJECT = IMAGE
  INTERCHANGE_FORMAT = BINARY
  LINES = 20385
  LINE_SAMPLES = 4356
  SAMPLE_TYPE = UNSIGNED_INTEGER
  SAMPLE_BITS = 8
  BANDS = 1
  BAND_STORAGE_TYPE = BAND_SEQUENTIAL
  MAXIMUM = 255
  MEAN = 165.916
  MINIMUM = 1
  STANDARD_DEVIATION = 52.5765
END_OBJECT = IMAGE
/* MAP OBJECT DEFINITIONS */
OBJECT = IMAGE_MAP_PROJECTION
  ^DATA_SET_MAP_PROJECTION_CATALOG= "DSMAP.CAT"
  A_AXIS_RADIUS = 3396.0
  B_AXIS_RADIUS = 3396.0
  C_AXIS_RADIUS = 3396.0
  CENTER_LATITUDE = 0.0
  CENTER_LONGITUDE = 154.0
  COORDINATE_SYSTEM_NAME = PLANETOGRAPHIC
  COORDINATE_SYSTEM_TYPE = "BODY-FIXED ROTATING"
  EASTERNMOST_LONGITUDE = 158.343
  FIRST_STANDARD_PARALLEL = "N/A"
  LINE_FIRST_PIXEL = 1
  LINE_LAST_PIXEL = 20385
  LINE_PROJECTION_OFFSET = 7067.0
  MAP_PROJECTION_ROTATION = 0.0
  MAP_PROJECTION_TYPE = SINUSOIDAL
  MAP_RESOLUTION = 592.713803866667
  MAP_SCALE = 0.1
  MAXIMUM_LATITUDE = 11.9563
  MINIMUM_LATITUDE = -22.3849
  POSITIVE_LONGITUDE_DIRECTION = EAST
  REFERENCE_LATITUDE = "N/A"
  REFERENCE_LONGITUDE = "N/A"
  SAMPLE_FIRST_PIXEL = 1
  SAMPLE_LAST_PIXEL = 4356
  SAMPLE_PROJECTION_OFFSET = 2802.0
  SECOND_STANDARD_PARALLEL = "N/A"
  WESTERNMOST_LONGITUDE = 147.315
END_OBJECT = IMAGE_MAP_PROJECTION
END
