PDS_VERSION_ID = PDS3
/* FILE DATA ELEMENTS */
RECORD_TYPE = UNDEFINED
/* POINTERS TO DATA OBJECTS */
^IMAGE = ("H7505_0000_BL4.TIF")
/* IDENTIFICATION DATA ELEMENTS */
DATA_SET_ID = "MEX-M-HRSC-4-REFDR-MAPPROJECT-EXT3-V4.0"
DATA_SET_NAME = "MARS EXPRESS HRSC MAP PROJECTED REFDR EXTENSION3 V4.0"
DETECTOR_ID = MEX_HRSC_BLUE
EVENT_TYPE = "MARS-REGIONAL-MAPPING-Vo-Te"
INSTRUMENT_HOST_ID = MEX
INSTRUMENT_HOST_NAME = "MARS EXPRESS"
INSTRUMENT_ID = HRSC
INSTRUMENT_NAME = "HIGH RESOLUTION STEREO CAMERA"
MISSION_NAME = "MARS EXPRESS"
MISSION_PHASE_NAME = ME_Phase_18
PROCESSING_LEVEL_ID = 4
PRODUCT_CREATION_TIME = 2023-02-02T15:10:19.000Z
PRODUCT_ID = "H7505_0000_BL4.TIF"
RELEASE_ID = 0003
REVISION_ID = 0000
/* QUALITY DATA ELEMENTS */
DATA_QUALITY_ID = 1
DATA_QUALITY_DESC = "Data calculated based on original SPICE kernels"
/* TIME DATA ELEMENTS */
SPACECRAFT_CLOCK_START_COUNT = "1/0205810534.09089"
SPACECRAFT_CLOCK_STOP_COUNT = "1/0205810904.12047"
START_TIME = 2009-11-09T01:36:18.574Z
STOP_TIME = 2009-11-09T01:40:53.591Z
/* ORBITAL DATA ELEMENTS */
ASCENDING_NODE_LONGITUDE = 74.17
MAXIMUM_RESOLUTION = 0.1269
FOOTPRINT_POINT_LATITUDE = (44.7458,44.732,44.7223,44.7043,44.7038 ,44.7074,44.1122,43.519,42.9272,42.6243 ,42.3213,42.0186,41.7163,41.4144,40.951 ,40.6421,40.3336,40.0255,39.7106, 39.3956,39.081,38.767,38.4462,37.965, 37.6449,37.1561,36.8298,36.5034,36.1713 ,35.839,35.5073,35.1703,34.8321,34.4946 ,33.9795,33.6361,33.1135,32.7643, 32.2332,31.8781,31.3384,30.9781,30.6115 ,30.2454,29.8742,29.5026,29.1265, 28.7495,28.3675,28.1762,28.11,28.1134, 28.1144,28.1137,28.1112,28.1111,28.1136 ,28.4973,29.0674,29.4456,29.8181, 30.1914,30.5583,31.1075,31.4691,31.8305 ,32.1864,32.7202,33.0704,33.5957, 33.9399,34.2849,34.7958,35.1347,35.4737 ,35.8058,36.1387,36.6363,36.963,37.2902 ,37.7785,38.099,38.4202,38.9006,39.2156 ,39.5305,39.8464,40.1596,40.4686, 40.7782,41.0882,41.5502,41.8532,42.1563 ,42.4599,43.0656,43.6597,44.5529, 44.7021,44.7458)
FOOTPRINT_POINT_LONGITUDE = (255.964,255.181,254.754,254.096, 254.078,254.055,254.086,254.112,254.137 ,254.149,254.16,254.171,254.181,254.192 ,254.206,254.216,254.224,254.233, 254.241,254.249,254.256,254.263,254.269 ,254.279,254.284,254.292,254.296, 254.301,254.304,254.307,254.31,254.312, 254.314,254.316,254.317,254.318,254.318 ,254.318,254.317,254.317,254.315, 254.313,254.31,254.308,254.305,254.301, 254.297,254.293,254.288,254.285,254.285 ,254.89,255.396,255.883,256.411,256.431 ,256.444,256.438,256.427,256.42,256.413 ,256.405,256.398,256.387,256.379, 256.372,256.364,256.353,256.345,256.333 ,256.325,256.317,256.303,256.294, 256.285,256.275,256.266,256.253,256.243 ,256.233,256.22,256.21,256.2,256.186, 256.176,256.165,256.155,256.145,256.135 ,256.125,256.115,256.099,256.089, 256.078,256.067,256.046,256.024,255.989 ,255.983,255.964)
ORBIT_NUMBER = 7505
ORBITAL_ECCENTRICITY = 0.57
ORBITAL_INCLINATION = 86.82
ORBITAL_SEMIMAJOR_AXIS = 8707.29
PERIAPSIS_ALTITUDE = 364.96
PERIAPSIS_ARGUMENT_ANGLE = 121.86
PERIAPSIS_TIME = 2009-11-09T01:32:45.000Z
SPACECRAFT_ORIENTATION = (0.0,-1.0,0.0)
^MEX_ORIENTATION_DESC = "MEX_ORIENTATION_DESC.TXT"
SPACECRAFT_POINTING_MODE = NADIR
^MEX_POINTING_DESC = "MEX_POINTING_DESC.TXT"
RIGHT_ASCENSION = -1e+32
DECLINATION = -1e+32
OFFSET_ANGLE = -1e+32
SPACECRAFT_SOLAR_DISTANCE = 2.35451e+08
TARGET_NAME = MARS
/* CAMERA DATA ELEMENTS */
DETECTOR_TEMPERATURE = 17.9627
FOCAL_PLANE_TEMPERATURE = 8.3794
INST_CMPRS_NAME = "DISCRETE COSINE TRANSFORMATION (DCT)"
INST_CMPRS_RATIO = 15.8104
INST_CMPRS_QUALITY = 0
INST_CMPRS_QUANTZ_TBL_ID = 0
INSTRUMENT_TEMPERATURE = 11.234
LENS_TEMPERATURE = 8.7872
MACROPIXEL_SIZE = 8
MISSING_FRAMES = 0
PIXEL_SUBSAMPLING_FLAG = N
SIGNAL_CHAIN_ID = 2
/* RADIOMETRIC DATA ELEMENTS */
BANDWIDTH = 76.0
CENTER_FILTER_WAVELENGTH = 444.0
RADIANCE_OFFSET = 0.679122
RADIANCE_SCALING_FACTOR = 0.00363849
REFLECTANCE_SCALING_FACTOR = 0.000207243
MEX:REFLECTANCE_OFFSET = 0.0386817
/* IMAGE OBJECT DEFINITIONS */
OBJECT = IMAGE
  INTERCHANGE_FORMAT = BINARY
  LINES = 9871
  LINE_SAMPLES = 1154
  SAMPLE_TYPE = UNSIGNED_INTEGER
  SAMPLE_BITS = 8
  BANDS = 1
  BAND_STORAGE_TYPE = BAND_SEQUENTIAL
  MAXIMUM = 255
  MEAN = 101.948
  MINIMUM = 1
  STANDARD_DEVIATION = 32.5292
END_OBJECT = IMAGE
/* MAP OBJECT DEFINITIONS */
OBJECT = IMAGE_MAP_PROJECTION
  ^DATA_SET_MAP_PROJECTION_CATALOG= "DSMAP.CAT"
  A_AXIS_RADIUS = 3396.0
  B_AXIS_RADIUS = 3396.0
  C_AXIS_RADIUS = 3396.0
  CENTER_LATITUDE = 0.0
  CENTER_LONGITUDE = 255.0
  COORDINATE_SYSTEM_NAME = PLANETOGRAPHIC
  COORDINATE_SYSTEM_TYPE = "BODY-FIXED ROTATING"
  EASTERNMOST_LONGITUDE = 256.444
  FIRST_STANDARD_PARALLEL = "N/A"
  LINE_FIRST_PIXEL = 1
  LINE_LAST_PIXEL = 9871
  LINE_PROJECTION_OFFSET = 26536.1875
  MAP_PROJECTION_ROTATION = 0.0
  MAP_PROJECTION_TYPE = SINUSOIDAL
  MAP_RESOLUTION = 592.713803866667
  MAP_SCALE = 0.1
  MAXIMUM_LATITUDE = 44.7458
  MINIMUM_LATITUDE = 28.11
  POSITIVE_LONGITUDE_DIRECTION = EAST
  REFERENCE_LATITUDE = "N/A"
  REFERENCE_LONGITUDE = "N/A"
  SAMPLE_FIRST_PIXEL = 1
  SAMPLE_LAST_PIXEL = 1154
  SAMPLE_PROJECTION_OFFSET = 405.8125
  SECOND_STANDARD_PARALLEL = "N/A"
  WESTERNMOST_LONGITUDE = 254.055
END_OBJECT = IMAGE_MAP_PROJECTION
END
