PDS_VERSION_ID = PDS3
/* FILE DATA ELEMENTS */
RECORD_TYPE = UNDEFINED
/* POINTERS TO DATA OBJECTS */
^IMAGE = ("H7504_0000_S24.TIF")
/* IDENTIFICATION DATA ELEMENTS */
DATA_SET_ID = "MEX-M-HRSC-4-REFDR-MAPPROJECT-EXT3-V4.0"
DATA_SET_NAME = "MARS EXPRESS HRSC MAP PROJECTED REFDR EXTENSION3 V4.0"
DETECTOR_ID = MEX_HRSC_S2
EVENT_TYPE = "MARS-REGIONAL-MAPPING-Gl-Pf-La"
INSTRUMENT_HOST_ID = MEX
INSTRUMENT_HOST_NAME = "MARS EXPRESS"
INSTRUMENT_ID = HRSC
INSTRUMENT_NAME = "HIGH RESOLUTION STEREO CAMERA"
MISSION_NAME = "MARS EXPRESS"
MISSION_PHASE_NAME = ME_Phase_18
PROCESSING_LEVEL_ID = 4
PRODUCT_CREATION_TIME = 2023-02-02T15:10:19.000Z
PRODUCT_ID = "H7504_0000_S24.TIF"
RELEASE_ID = 0003
REVISION_ID = 0000
/* QUALITY DATA ELEMENTS */
DATA_QUALITY_ID = 1
DATA_QUALITY_DESC = "Data calculated based on original SPICE kernels"
/* TIME DATA ELEMENTS */
SPACECRAFT_CLOCK_START_COUNT = "1/0205785746.09071"
SPACECRAFT_CLOCK_STOP_COUNT = "1/0205786207.45385"
START_TIME = 2009-11-08T18:43:46.666Z
STOP_TIME = 2009-11-08T18:50:08.245Z
/* ORBITAL DATA ELEMENTS */
ASCENDING_NODE_LONGITUDE = 74.19
MAXIMUM_RESOLUTION = 0.0372
FOOTPRINT_POINT_LATITUDE = (41.9541,41.9339,41.9151,41.8946,41.894 ,41.9774,41.0928,40.1943,39.652,38.9225 ,38.5529,38.182,37.6228,37.2457,36.8681 ,36.4842,36.1062,35.5266,35.1405, 34.7453,34.3517,33.7564,33.3546,32.9523 ,32.5452,32.1406,31.734,31.1016,30.4709 ,30.0484,29.6172,29.2075,28.7751, 28.1091,27.6561,26.9864,26.5353,26.0809 ,25.62,25.1558,24.6878,23.9874,23.5243, 23.0635,22.6061,22.1518,21.7006,21.4765 ,21.4522,21.4499,21.4498,21.4493, 21.4495,21.4495,21.4502,21.9015,22.5844 ,23.0421,23.737,24.1996,24.6728,25.1433 ,25.6099,26.0722,26.5289,26.9839, 27.4334,27.8795,28.3218,28.764,29.1972, 29.8444,30.272,30.6956,31.1129,31.7418, 32.1552,32.5612,33.1728,33.5788,33.9774 ,34.377,34.7671,35.1618,35.5503,35.9391 ,36.5136,36.8966,37.4628,37.8409, 38.2125,38.5857,38.9564,39.3213,40.052, 40.7733,41.3115,41.8422,42.0199, 41.9541)
FOOTPRINT_POINT_LONGITUDE = (357.615,356.866,356.243,355.625, 355.606,355.584,355.602,355.617,355.625 ,355.633,355.636,355.64,355.643,355.645 ,355.647,355.648,355.648,355.647, 355.646,355.645,355.644,355.64,355.637, 355.633,355.629,355.624,355.617,355.61, 355.6,355.592,355.584,355.572,355.562, 355.548,355.539,355.521,355.508,355.495 ,355.481,355.466,355.45,355.426,355.409 ,355.392,355.374,355.356,355.337, 355.328,355.327,356.332,356.757,357.211 ,358.044,358.071,358.08,358.072,358.059 ,358.05,358.037,358.027,358.021,358.012 ,358.004,357.996,357.987,357.98,357.971 ,357.963,357.955,357.948,357.94,357.928 ,357.92,357.912,357.903,357.893,357.885 ,357.876,357.866,357.859,357.851, 357.843,357.834,357.826,357.819,357.811 ,357.799,357.79,357.778,357.77,357.762, 357.754,357.746,357.737,357.719,357.702 ,357.689,357.674,357.669,357.615)
ORBIT_NUMBER = 7504
ORBITAL_ECCENTRICITY = 0.57
ORBITAL_INCLINATION = 86.83
ORBITAL_SEMIMAJOR_AXIS = 8704.95
PERIAPSIS_ALTITUDE = 365.58
PERIAPSIS_ARGUMENT_ANGLE = 122.04
PERIAPSIS_TIME = 2009-11-08T18:38:57.000Z
SPACECRAFT_ORIENTATION = (0.0,-1.0,0.0)
^MEX_ORIENTATION_DESC = "MEX_ORIENTATION_DESC.TXT"
SPACECRAFT_POINTING_MODE = ACROSSTRACK
^MEX_POINTING_DESC = "MEX_POINTING_DESC.TXT"
RIGHT_ASCENSION = -1e+32
DECLINATION = -1e+32
OFFSET_ANGLE = 0.45
SPACECRAFT_SOLAR_DISTANCE = 2.354e+08
TARGET_NAME = MARS
/* CAMERA DATA ELEMENTS */
DETECTOR_TEMPERATURE = 18.7783
FOCAL_PLANE_TEMPERATURE = 8.3794
INST_CMPRS_NAME = "DISCRETE COSINE TRANSFORMATION (DCT)"
INST_CMPRS_RATIO = 11.7636
INST_CMPRS_QUALITY = 0
INST_CMPRS_QUANTZ_TBL_ID = 0
INSTRUMENT_TEMPERATURE = 11.234
LENS_TEMPERATURE = 8.7872
MACROPIXEL_SIZE = 2
MISSING_FRAMES = 0
PIXEL_SUBSAMPLING_FLAG = N
SIGNAL_CHAIN_ID = 1
/* RADIOMETRIC DATA ELEMENTS */
BANDWIDTH = 178.0
CENTER_FILTER_WAVELENGTH = 679.0
RADIANCE_OFFSET = 4.68111
RADIANCE_SCALING_FACTOR = 0.0287331
REFLECTANCE_SCALING_FACTOR = 0.000843192
MEX:REFLECTANCE_OFFSET = 0.13737
/* IMAGE OBJECT DEFINITIONS */
OBJECT = IMAGE
  INTERCHANGE_FORMAT = BINARY
  LINES = 48807
  LINE_SAMPLES = 5368
  SAMPLE_TYPE = UNSIGNED_INTEGER
  SAMPLE_BITS = 8
  BANDS = 1
  BAND_STORAGE_TYPE = BAND_SEQUENTIAL
  MAXIMUM = 255
  MEAN = 135.022
  MINIMUM = 1
  STANDARD_DEVIATION = 39.0967
END_OBJECT = IMAGE
/* MAP OBJECT DEFINITIONS */
OBJECT = IMAGE_MAP_PROJECTION
  ^DATA_SET_MAP_PROJECTION_CATALOG= "DSMAP.CAT"
  A_AXIS_RADIUS = 3396.0
  B_AXIS_RADIUS = 3396.0
  C_AXIS_RADIUS = 3396.0
  CENTER_LATITUDE = 0.0
  CENTER_LONGITUDE = 357.0
  COORDINATE_SYSTEM_NAME = PLANETOGRAPHIC
  COORDINATE_SYSTEM_TYPE = "BODY-FIXED ROTATING"
  EASTERNMOST_LONGITUDE = 358.08
  FIRST_STANDARD_PARALLEL = "N/A"
  LINE_FIRST_PIXEL = 1
  LINE_LAST_PIXEL = 48807
  LINE_PROJECTION_OFFSET = 99592.75
  MAP_PROJECTION_ROTATION = 0.0
  MAP_PROJECTION_TYPE = SINUSOIDAL
  MAP_RESOLUTION = 2370.85521546667
  MAP_SCALE = 0.025
  MAXIMUM_LATITUDE = 42.0199
  MINIMUM_LATITUDE = 21.4493
  POSITIVE_LONGITUDE_DIRECTION = EAST
  REFERENCE_LATITUDE = "N/A"
  REFERENCE_LONGITUDE = "N/A"
  SAMPLE_FIRST_PIXEL = 1
  SAMPLE_LAST_PIXEL = 5368
  SAMPLE_PROJECTION_OFFSET = 3379.75
  SECOND_STANDARD_PARALLEL = "N/A"
  WESTERNMOST_LONGITUDE = 355.327
END_OBJECT = IMAGE_MAP_PROJECTION
END
