PDS_VERSION_ID = PDS3
/* FILE DATA ELEMENTS */
RECORD_TYPE = UNDEFINED
/* POINTERS TO DATA OBJECTS */
^IMAGE = ("H7504_0000_P24.TIF")
/* IDENTIFICATION DATA ELEMENTS */
DATA_SET_ID = "MEX-M-HRSC-4-REFDR-MAPPROJECT-EXT3-V4.0"
DATA_SET_NAME = "MARS EXPRESS HRSC MAP PROJECTED REFDR EXTENSION3 V4.0"
DETECTOR_ID = MEX_HRSC_P2
EVENT_TYPE = "MARS-REGIONAL-MAPPING-Gl-Pf-La"
INSTRUMENT_HOST_ID = MEX
INSTRUMENT_HOST_NAME = "MARS EXPRESS"
INSTRUMENT_ID = HRSC
INSTRUMENT_NAME = "HIGH RESOLUTION STEREO CAMERA"
MISSION_NAME = "MARS EXPRESS"
MISSION_PHASE_NAME = ME_Phase_18
PROCESSING_LEVEL_ID = 4
PRODUCT_CREATION_TIME = 2023-02-02T15:10:19.000Z
PRODUCT_ID = "H7504_0000_P24.TIF"
RELEASE_ID = 0003
REVISION_ID = 0000
/* QUALITY DATA ELEMENTS */
DATA_QUALITY_ID = 1
DATA_QUALITY_DESC = "Data calculated based on original SPICE kernels"
/* TIME DATA ELEMENTS */
SPACECRAFT_CLOCK_START_COUNT = "1/0205785746.09071"
SPACECRAFT_CLOCK_STOP_COUNT = "1/0205786207.45385"
START_TIME = 2009-11-08T18:43:32.038Z
STOP_TIME = 2009-11-08T18:49:39.107Z
/* ORBITAL DATA ELEMENTS */
ASCENDING_NODE_LONGITUDE = 74.19
MAXIMUM_RESOLUTION = 0.0354
FOOTPRINT_POINT_LATITUDE = (41.9793,41.9636,41.9481,41.9305, 41.9299,41.9844,41.461,40.9283,40.2175, 39.3144,38.769,38.4007,38.0334,37.474, 37.0997,36.5322,36.1546,35.7724,35.3862 ,34.8049,34.4119,34.0217,33.6201, 33.2227,32.8198,32.2123,31.8079,31.1815 ,30.7638,30.3442,29.9194,29.2873, 28.8594,28.4229,27.9756,27.3065,26.8569 ,26.4058,25.9493,25.4886,25.0232, 24.5541,24.0802,23.6029,23.1207,22.6416 ,22.1655,21.6919,21.4564,21.4469, 21.4456,21.4435,21.4402,21.4379,21.4378 ,21.4384,21.9122,22.3886,23.1086, 23.5896,24.0695,24.5466,25.0184,25.4852 ,25.9485,26.4069,26.8609,27.3112, 27.7581,28.2008,28.6402,29.0748,29.5072 ,29.9345,30.3603,30.7801,31.4077, 31.8224,32.2304,32.639,33.0433,33.4468, 33.8454,34.4387,34.8297,35.413,35.9932, 36.3729,36.9436,37.3185,37.6938,38.0677 ,38.4353,38.8047,39.3512,40.257,41.1469 ,41.8533,42.0283,41.9793)
FOOTPRINT_POINT_LONGITUDE = (357.587,356.853,356.243,355.638, 355.619,355.598,355.61,355.621,355.633, 355.646,355.653,355.657,355.66,355.664, 355.666,355.669,355.669,355.67,355.67, 355.669,355.668,355.666,355.665,355.662 ,355.658,355.652,355.647,355.641, 355.635,355.629,355.622,355.608,355.598 ,355.589,355.582,355.567,355.556, 355.544,355.532,355.518,355.505,355.49, 355.475,355.459,355.443,355.426,355.408 ,355.39,355.381,355.38,355.782,356.666, 357.404,357.967,357.993,358.002,357.995 ,357.988,357.977,357.969,357.962, 357.956,357.95,357.943,357.937,357.93, 357.923,357.917,357.91,357.903,357.897, 357.89,357.883,357.876,357.87,357.862, 357.853,357.847,357.838,357.832,357.825 ,357.819,357.813,357.802,357.794, 357.784,357.773,357.765,357.754,357.747 ,357.739,357.733,357.724,357.717, 357.704,357.684,357.662,357.645,357.641 ,357.587)
ORBIT_NUMBER = 7504
ORBITAL_ECCENTRICITY = 0.57
ORBITAL_INCLINATION = 86.83
ORBITAL_SEMIMAJOR_AXIS = 8704.95
PERIAPSIS_ALTITUDE = 365.58
PERIAPSIS_ARGUMENT_ANGLE = 122.04
PERIAPSIS_TIME = 2009-11-08T18:38:57.000Z
SPACECRAFT_ORIENTATION = (0.0,-1.0,0.0)
^MEX_ORIENTATION_DESC = "MEX_ORIENTATION_DESC.TXT"
SPACECRAFT_POINTING_MODE = ACROSSTRACK
^MEX_POINTING_DESC = "MEX_POINTING_DESC.TXT"
RIGHT_ASCENSION = -1e+32
DECLINATION = -1e+32
OFFSET_ANGLE = 0.45
SPACECRAFT_SOLAR_DISTANCE = 2.354e+08
TARGET_NAME = MARS
/* CAMERA DATA ELEMENTS */
DETECTOR_TEMPERATURE = 18.7783
FOCAL_PLANE_TEMPERATURE = 8.3794
INST_CMPRS_NAME = "DISCRETE COSINE TRANSFORMATION (DCT)"
INST_CMPRS_RATIO = 7.40202
INST_CMPRS_QUALITY = 0
INST_CMPRS_QUANTZ_TBL_ID = 0
INSTRUMENT_TEMPERATURE = 11.234
LENS_TEMPERATURE = 8.7872
MACROPIXEL_SIZE = 2
MISSING_FRAMES = 0
PIXEL_SUBSAMPLING_FLAG = N
SIGNAL_CHAIN_ID = 3
/* RADIOMETRIC DATA ELEMENTS */
BANDWIDTH = 177.0
CENTER_FILTER_WAVELENGTH = 676.5
RADIANCE_OFFSET = 4.39478
RADIANCE_SCALING_FACTOR = 0.0282821
REFLECTANCE_SCALING_FACTOR = 0.000830966
MEX:REFLECTANCE_OFFSET = 0.129124
/* IMAGE OBJECT DEFINITIONS */
OBJECT = IMAGE
  INTERCHANGE_FORMAT = BINARY
  LINES = 48807
  LINE_SAMPLES = 5368
  SAMPLE_TYPE = UNSIGNED_INTEGER
  SAMPLE_BITS = 8
  BANDS = 1
  BAND_STORAGE_TYPE = BAND_SEQUENTIAL
  MAXIMUM = 255
  MEAN = 129.651
  MINIMUM = 1
  STANDARD_DEVIATION = 38.5238
END_OBJECT = IMAGE
/* MAP OBJECT DEFINITIONS */
OBJECT = IMAGE_MAP_PROJECTION
  ^DATA_SET_MAP_PROJECTION_CATALOG= "DSMAP.CAT"
  A_AXIS_RADIUS = 3396.0
  B_AXIS_RADIUS = 3396.0
  C_AXIS_RADIUS = 3396.0
  CENTER_LATITUDE = 0.0
  CENTER_LONGITUDE = 357.0
  COORDINATE_SYSTEM_NAME = PLANETOGRAPHIC
  COORDINATE_SYSTEM_TYPE = "BODY-FIXED ROTATING"
  EASTERNMOST_LONGITUDE = 358.002
  FIRST_STANDARD_PARALLEL = "N/A"
  LINE_FIRST_PIXEL = 1
  LINE_LAST_PIXEL = 48807
  LINE_PROJECTION_OFFSET = 99592.75
  MAP_PROJECTION_ROTATION = 0.0
  MAP_PROJECTION_TYPE = SINUSOIDAL
  MAP_RESOLUTION = 2370.85521546667
  MAP_SCALE = 0.025
  MAXIMUM_LATITUDE = 42.0283
  MINIMUM_LATITUDE = 21.4378
  POSITIVE_LONGITUDE_DIRECTION = EAST
  REFERENCE_LATITUDE = "N/A"
  REFERENCE_LONGITUDE = "N/A"
  SAMPLE_FIRST_PIXEL = 1
  SAMPLE_LAST_PIXEL = 5368
  SAMPLE_PROJECTION_OFFSET = 3379.75
  SECOND_STANDARD_PARALLEL = "N/A"
  WESTERNMOST_LONGITUDE = 355.38
END_OBJECT = IMAGE_MAP_PROJECTION
END
