PDS_VERSION_ID = PDS3
/* FILE DATA ELEMENTS */
RECORD_TYPE = UNDEFINED
/* POINTERS TO DATA OBJECTS */
^IMAGE = ("H7502_0000_S24.TIF")
/* IDENTIFICATION DATA ELEMENTS */
DATA_SET_ID = "MEX-M-HRSC-4-REFDR-MAPPROJECT-EXT3-V4.0"
DATA_SET_NAME = "MARS EXPRESS HRSC MAP PROJECTED REFDR EXTENSION3 V4.0"
DETECTOR_ID = MEX_HRSC_S2
EVENT_TYPE = "MARS-REGIONAL-MAPPING-Vo-Pf"
INSTRUMENT_HOST_ID = MEX
INSTRUMENT_HOST_NAME = "MARS EXPRESS"
INSTRUMENT_ID = HRSC
INSTRUMENT_NAME = "HIGH RESOLUTION STEREO CAMERA"
MISSION_NAME = "MARS EXPRESS"
MISSION_PHASE_NAME = ME_Phase_18
PROCESSING_LEVEL_ID = 4
PRODUCT_CREATION_TIME = 2023-02-02T15:10:19.000Z
PRODUCT_ID = "H7502_0000_S24.TIF"
RELEASE_ID = 0003
REVISION_ID = 0000
/* QUALITY DATA ELEMENTS */
DATA_QUALITY_ID = 1
DATA_QUALITY_DESC = "Data calculated based on original SPICE kernels"
/* TIME DATA ELEMENTS */
SPACECRAFT_CLOCK_START_COUNT = "1/0205735978.09053"
SPACECRAFT_CLOCK_STOP_COUNT = "1/0205736306.39760"
START_TIME = 2009-11-08T04:54:10.129Z
STOP_TIME = 2009-11-08T04:58:27.136Z
/* ORBITAL DATA ELEMENTS */
ASCENDING_NODE_LONGITUDE = 74.22
MAXIMUM_RESOLUTION = 0.0332
FOOTPRINT_POINT_LATITUDE = (49.218,49.2102,49.2003,49.1855,49.185, 49.2811,48.9886,48.6963,48.4046,48.1132 ,47.8223,47.5319,46.9525,46.3747, 45.7988,45.2249,44.6534,44.3612,44.0691 ,43.7772,43.486,43.1952,42.8991,42.6016 ,42.157,41.8621,41.561,41.2591,40.9579, 40.6573,40.1986,39.8924,39.587,39.1215, 38.8101,38.5,38.1853,37.8693,37.5541, 37.2353,36.9144,36.5942,36.2706,35.9451 ,35.6207,35.2907,34.7966,34.2953, 34.1283,34.1005,34.0985,34.0959,34.0924 ,34.0896,34.0894,34.0899,34.4251, 34.7608,35.0909,35.422,35.9131,36.2395, 36.5645,36.8854,37.2073,37.5275,37.8437 ,38.1605,38.4767,38.7881,39.0998, 39.5668,39.8734,40.1804,40.6412,40.9424 ,41.2444,41.547,41.8498,42.146,42.4431, 42.8898,43.1876,43.4789,43.7711,44.0636 ,44.3568,44.6503,45.2238,45.6551, 46.2321,46.8107,47.3916,47.8285,48.1201 ,48.4124,48.7048,49.1446,49.2916, 49.218)
FOOTPRINT_POINT_LONGITUDE = (197.823,197.202,196.576,195.825, 195.805,195.722,195.748,195.773,195.797 ,195.821,195.843,195.866,195.908, 195.948,195.986,196.021,196.054,196.071 ,196.086,196.102,196.116,196.13,196.144 ,196.158,196.177,196.189,196.201, 196.213,196.224,196.235,196.25,196.259, 196.269,196.282,196.29,196.298,196.306, 196.313,196.319,196.325,196.331,196.337 ,196.342,196.347,196.351,196.355,196.36 ,196.364,196.365,196.365,197.026, 197.556,198.168,198.525,198.546,198.553 ,198.543,198.531,198.52,198.509,198.492 ,198.481,198.469,198.458,198.446, 198.434,198.423,198.41,198.398,198.386, 198.374,198.355,198.342,198.33,198.31, 198.297,198.284,198.27,198.257,198.243, 198.229,198.208,198.194,198.179,198.165 ,198.15,198.135,198.12,198.089,198.065, 198.033,197.999,197.964,197.937,197.919 ,197.9,197.881,197.851,197.841,197.823)
ORBIT_NUMBER = 7502
ORBITAL_ECCENTRICITY = 0.569
ORBITAL_INCLINATION = 86.84
ORBITAL_SEMIMAJOR_AXIS = 8703.5
PERIAPSIS_ALTITUDE = 365.08
PERIAPSIS_ARGUMENT_ANGLE = 122.41
PERIAPSIS_TIME = 2009-11-08T04:51:27.000Z
SPACECRAFT_ORIENTATION = (0.0,-1.0,0.0)
^MEX_ORIENTATION_DESC = "MEX_ORIENTATION_DESC.TXT"
SPACECRAFT_POINTING_MODE = ACROSSTRACK
^MEX_POINTING_DESC = "MEX_POINTING_DESC.TXT"
RIGHT_ASCENSION = -1e+32
DECLINATION = -1e+32
OFFSET_ANGLE = -0.33
SPACECRAFT_SOLAR_DISTANCE = 2.35299e+08
TARGET_NAME = MARS
/* CAMERA DATA ELEMENTS */
DETECTOR_TEMPERATURE = 18.3705
FOCAL_PLANE_TEMPERATURE = 7.9716
INST_CMPRS_NAME = "DISCRETE COSINE TRANSFORMATION (DCT)"
INST_CMPRS_RATIO = 13.189
INST_CMPRS_QUALITY = 0
INST_CMPRS_QUANTZ_TBL_ID = 0
INSTRUMENT_TEMPERATURE = 11.0301
LENS_TEMPERATURE = 8.3794
MACROPIXEL_SIZE = 2
MISSING_FRAMES = 0
PIXEL_SUBSAMPLING_FLAG = N
SIGNAL_CHAIN_ID = 1
/* RADIOMETRIC DATA ELEMENTS */
BANDWIDTH = 178.0
CENTER_FILTER_WAVELENGTH = 679.0
RADIANCE_OFFSET = 5.42179
RADIANCE_SCALING_FACTOR = 0.0177631
REFLECTANCE_SCALING_FACTOR = 0.00052082
MEX:REFLECTANCE_OFFSET = 0.158969
/* IMAGE OBJECT DEFINITIONS */
OBJECT = IMAGE
  INTERCHANGE_FORMAT = BINARY
  LINES = 36170
  LINE_SAMPLES = 4811
  SAMPLE_TYPE = UNSIGNED_INTEGER
  SAMPLE_BITS = 8
  BANDS = 1
  BAND_STORAGE_TYPE = BAND_SEQUENTIAL
  MAXIMUM = 255
  MEAN = 156.863
  MINIMUM = 1
  STANDARD_DEVIATION = 30.0002
END_OBJECT = IMAGE
/* MAP OBJECT DEFINITIONS */
OBJECT = IMAGE_MAP_PROJECTION
  ^DATA_SET_MAP_PROJECTION_CATALOG= "DSMAP.CAT"
  A_AXIS_RADIUS = 3396.0
  B_AXIS_RADIUS = 3396.0
  C_AXIS_RADIUS = 3396.0
  CENTER_LATITUDE = 0.0
  CENTER_LONGITUDE = 197.0
  COORDINATE_SYSTEM_NAME = PLANETOGRAPHIC
  COORDINATE_SYSTEM_TYPE = "BODY-FIXED ROTATING"
  EASTERNMOST_LONGITUDE = 198.553
  FIRST_STANDARD_PARALLEL = "N/A"
  LINE_FIRST_PIXEL = 1
  LINE_LAST_PIXEL = 36170
  LINE_PROJECTION_OFFSET = 116937.25
  MAP_PROJECTION_ROTATION = 0.0
  MAP_PROJECTION_TYPE = SINUSOIDAL
  MAP_RESOLUTION = 2370.85521546667
  MAP_SCALE = 0.025
  MAXIMUM_LATITUDE = 49.2916
  MINIMUM_LATITUDE = 34.0894
  POSITIVE_LONGITUDE_DIRECTION = EAST
  REFERENCE_LATITUDE = "N/A"
  REFERENCE_LONGITUDE = "N/A"
  SAMPLE_FIRST_PIXEL = 1
  SAMPLE_LAST_PIXEL = 4811
  SAMPLE_PROJECTION_OFFSET = 1924.25
  SECOND_STANDARD_PARALLEL = "N/A"
  WESTERNMOST_LONGITUDE = 195.722
END_OBJECT = IMAGE_MAP_PROJECTION
END
