PDS_VERSION_ID = PDS3
/* FILE DATA ELEMENTS */
RECORD_TYPE = UNDEFINED
/* POINTERS TO DATA OBJECTS */
^IMAGE = ("H7490_0000_IR4.TIF")
/* IDENTIFICATION DATA ELEMENTS */
DATA_SET_ID = "MEX-M-HRSC-4-REFDR-MAPPROJECT-EXT3-V4.0"
DATA_SET_NAME = "MARS EXPRESS HRSC MAP PROJECTED REFDR EXTENSION3 V4.0"
DETECTOR_ID = MEX_HRSC_IR
EVENT_TYPE = "MARS-REGIONAL-MAPPING-Vo-Lc-Pf"
INSTRUMENT_HOST_ID = MEX
INSTRUMENT_HOST_NAME = "MARS EXPRESS"
INSTRUMENT_ID = HRSC
INSTRUMENT_NAME = "HIGH RESOLUTION STEREO CAMERA"
MISSION_NAME = "MARS EXPRESS"
MISSION_PHASE_NAME = ME_Phase_18
PROCESSING_LEVEL_ID = 4
PRODUCT_CREATION_TIME = 2023-02-02T15:10:19.000Z
PRODUCT_ID = "H7490_0000_IR4.TIF"
RELEASE_ID = 0003
REVISION_ID = 0000
/* QUALITY DATA ELEMENTS */
DATA_QUALITY_ID = 1
DATA_QUALITY_DESC = "Data calculated based on original SPICE kernels"
/* TIME DATA ELEMENTS */
SPACECRAFT_CLOCK_START_COUNT = "1/0205438070.09139"
SPACECRAFT_CLOCK_STOP_COUNT = "1/0205438446.24378"
START_TIME = 2009-11-04T18:07:58.422Z
STOP_TIME = 2009-11-04T18:12:36.412Z
/* ORBITAL DATA ELEMENTS */
ASCENDING_NODE_LONGITUDE = 74.46
MAXIMUM_RESOLUTION = 0.1247
FOOTPRINT_POINT_LATITUDE = (47.8213,47.7918,47.7639,47.7632, 47.6816,47.0012,46.6569,46.3126,45.7959 ,45.4516,45.1069,44.7625,44.4177, 44.0734,43.5568,43.0401,42.5232,42.1789 ,41.8345,41.49,41.1458,40.6296,40.2853, 39.9414,39.5974,39.2536,38.5663,37.8797 ,37.53,37.1778,36.6497,36.2979,35.9393, 35.5784,35.2181,34.8579,34.3062,33.9374 ,33.5691,33.1934,32.6285,32.0591, 31.6741,31.097,30.5071,30.1144,29.9161, 29.73,29.7387,29.7451,29.7488,29.7487, 29.7511,30.1504,30.5442,30.9386,31.3281 ,31.7137,32.0995,32.4806,32.8567, 33.2365,33.6119,33.9809,34.3504,34.9031 ,35.2641,35.6253,35.9867,36.3461, 36.6984,37.2275,37.5805,37.9306,38.2742 ,38.6185,38.963,39.3074,39.8244,40.169, 40.5138,40.8589,41.3765,41.7217,42.0675 ,42.5799,43.1028,43.6207,43.9662, 44.3117,44.8297,45.1752,45.5206,45.8658 ,46.2112,46.556,46.9019,47.4192,47.5919 ,47.8213)
FOOTPRINT_POINT_LONGITUDE = (328.465,327.391,326.645,326.627, 326.578,326.627,326.65,326.673,326.706, 326.727,326.747,326.767,326.786,326.804 ,326.83,326.855,326.879,326.894,326.908 ,326.922,326.935,326.954,326.966, 326.978,326.988,326.999,327.018,327.036 ,327.044,327.052,327.062,327.069, 327.075,327.081,327.086,327.091,327.098 ,327.102,327.106,327.108,327.113, 327.115,327.117,327.118,327.118,327.118 ,327.118,327.117,327.635,328.173, 328.996,329.014,329.026,329.019,329.013 ,329.006,328.999,328.992,328.985, 328.978,328.972,328.964,328.956,328.949 ,328.941,328.929,328.921,328.913, 328.905,328.896,328.888,328.875,328.866 ,328.857,328.848,328.839,328.829,328.82 ,328.805,328.795,328.784,328.774, 328.757,328.746,328.734,328.719,328.699 ,328.68,328.667,328.654,328.634,328.62, 328.606,328.591,328.576,328.561,328.546 ,328.522,328.514,328.465)
ORBIT_NUMBER = 7490
ORBITAL_ECCENTRICITY = 0.57
ORBITAL_INCLINATION = 86.84
ORBITAL_SEMIMAJOR_AXIS = 8706.74
PERIAPSIS_ALTITUDE = 364.1
PERIAPSIS_ARGUMENT_ANGLE = 124.5
PERIAPSIS_TIME = 2009-11-04T18:06:27.000Z
SPACECRAFT_ORIENTATION = (0.0,-1.0,0.0)
^MEX_ORIENTATION_DESC = "MEX_ORIENTATION_DESC.TXT"
SPACECRAFT_POINTING_MODE = ACROSSTRACK
^MEX_POINTING_DESC = "MEX_POINTING_DESC.TXT"
RIGHT_ASCENSION = -1e+32
DECLINATION = -1e+32
OFFSET_ANGLE = -0.07
SPACECRAFT_SOLAR_DISTANCE = 2.34685e+08
TARGET_NAME = MARS
/* CAMERA DATA ELEMENTS */
DETECTOR_TEMPERATURE = 17.351
FOCAL_PLANE_TEMPERATURE = 8.5833
INST_CMPRS_NAME = "DISCRETE COSINE TRANSFORMATION (DCT)"
INST_CMPRS_RATIO = 30.3215
INST_CMPRS_QUALITY = 0
INST_CMPRS_QUANTZ_TBL_ID = 0
INSTRUMENT_TEMPERATURE = 11.234
LENS_TEMPERATURE = 8.9911
MACROPIXEL_SIZE = 8
MISSING_FRAMES = 0
PIXEL_SUBSAMPLING_FLAG = N
SIGNAL_CHAIN_ID = 2
/* RADIOMETRIC DATA ELEMENTS */
BANDWIDTH = 81.0
CENTER_FILTER_WAVELENGTH = 955.5
RADIANCE_OFFSET = 0.76831
RADIANCE_SCALING_FACTOR = 0.00425362
REFLECTANCE_SCALING_FACTOR = 0.000505426
MEX:REFLECTANCE_OFFSET = 0.0912925
/* IMAGE OBJECT DEFINITIONS */
OBJECT = IMAGE
  INTERCHANGE_FORMAT = BINARY
  LINES = 10672
  LINE_SAMPLES = 1131
  SAMPLE_TYPE = UNSIGNED_INTEGER
  SAMPLE_BITS = 8
  BANDS = 1
  BAND_STORAGE_TYPE = BAND_SEQUENTIAL
  MAXIMUM = 255
  MEAN = 109.164
  MINIMUM = 1
  STANDARD_DEVIATION = 60.3075
END_OBJECT = IMAGE
/* MAP OBJECT DEFINITIONS */
OBJECT = IMAGE_MAP_PROJECTION
  ^DATA_SET_MAP_PROJECTION_CATALOG= "DSMAP.CAT"
  A_AXIS_RADIUS = 3396.0
  B_AXIS_RADIUS = 3396.0
  C_AXIS_RADIUS = 3396.0
  CENTER_LATITUDE = 0.0
  CENTER_LONGITUDE = 328.0
  COORDINATE_SYSTEM_NAME = PLANETOGRAPHIC
  COORDINATE_SYSTEM_TYPE = "BODY-FIXED ROTATING"
  EASTERNMOST_LONGITUDE = 329.026
  FIRST_STANDARD_PARALLEL = "N/A"
  LINE_FIRST_PIXEL = 1
  LINE_LAST_PIXEL = 10672
  LINE_PROJECTION_OFFSET = 28312.1875
  MAP_PROJECTION_ROTATION = 0.0
  MAP_PROJECTION_TYPE = SINUSOIDAL
  MAP_RESOLUTION = 592.713803866667
  MAP_SCALE = 0.1
  MAXIMUM_LATITUDE = 47.8213
  MINIMUM_LATITUDE = 29.73
  POSITIVE_LONGITUDE_DIRECTION = EAST
  REFERENCE_LATITUDE = "N/A"
  REFERENCE_LONGITUDE = "N/A"
  SAMPLE_FIRST_PIXEL = 1
  SAMPLE_LAST_PIXEL = 1131
  SAMPLE_PROJECTION_OFFSET = 580.9375
  SECOND_STANDARD_PARALLEL = "N/A"
  WESTERNMOST_LONGITUDE = 326.578
END_OBJECT = IMAGE_MAP_PROJECTION
END
