PDS_VERSION_ID = PDS3
/* FILE DATA ELEMENTS */
RECORD_TYPE = UNDEFINED
/* POINTERS TO DATA OBJECTS */
^IMAGE = ("H7488_0009_RE4.TIF")
/* IDENTIFICATION DATA ELEMENTS */
DATA_SET_ID = "MEX-M-HRSC-4-REFDR-MAPPROJECT-EXT3-V4.0"
DATA_SET_NAME = "MARS EXPRESS HRSC MAP PROJECTED REFDR EXTENSION3 V4.0"
DETECTOR_ID = MEX_HRSC_RED
EVENT_TYPE = "MARS-REGIONAL-MAPPING-Vo-Fl-Pf"
INSTRUMENT_HOST_ID = MEX
INSTRUMENT_HOST_NAME = "MARS EXPRESS"
INSTRUMENT_ID = HRSC
INSTRUMENT_NAME = "HIGH RESOLUTION STEREO CAMERA"
MISSION_NAME = "MARS EXPRESS"
MISSION_PHASE_NAME = ME_Phase_18
PROCESSING_LEVEL_ID = 4
PRODUCT_CREATION_TIME = 2023-02-02T15:10:19.000Z
PRODUCT_ID = "H7488_0009_RE4.TIF"
RELEASE_ID = 0003
REVISION_ID = 0000
/* QUALITY DATA ELEMENTS */
DATA_QUALITY_ID = 1
DATA_QUALITY_DESC = "Data calculated based on original SPICE kernels"
/* TIME DATA ELEMENTS */
SPACECRAFT_CLOCK_START_COUNT = "1/0205388397.07296"
SPACECRAFT_CLOCK_STOP_COUNT = "1/0205388819.07950"
START_TIME = 2009-11-04T04:21:01.621Z
STOP_TIME = 2009-11-04T04:26:49.415Z
/* ORBITAL DATA ELEMENTS */
ASCENDING_NODE_LONGITUDE = 74.49
MAXIMUM_RESOLUTION = 0.1269
FOOTPRINT_POINT_LATITUDE = (49.0081,48.9986,48.9709,48.9704,49.047 ,48.6495,48.2526,47.8562,47.4602,47.065 ,46.6702,46.2762,45.8831,45.491,45.0994 ,44.7081,43.9289,43.1525,42.3789, 41.6088,41.2172,40.8241,40.4316,40.0403 ,39.6396,39.2401,38.8413,38.4367,38.03, 37.6243,37.213,36.7997,36.3876,35.9673, 35.3384,34.9118,34.4857,33.8386,33.4063 ,32.9665,32.5276,32.0815,31.4093, 30.9569,30.5001,29.8091,29.3442,28.638, 28.4002,28.3858,28.3793,28.3727,28.3682 ,28.3681,28.3703,29.0819,29.5507, 30.0167,30.4771,30.9358,31.3888,32.0635 ,32.5109,32.9512,33.6093,34.0435, 34.4754,34.9026,35.3303,35.7502,36.1714 ,36.7956,37.2099,37.6226,38.0293, 38.4368,38.842,39.2431,39.6438,40.0454, 40.4366,40.8303,41.225,41.6181,42.3904, 43.1655,43.9442,44.7256,45.1187,45.5114 ,45.9048,46.4953,46.8908,47.2869, 47.6838,48.0812,48.4793,48.8778,49.0775 ,49.0081)
FOOTPRINT_POINT_LONGITUDE = (169.74,169.128,167.834,167.816,167.735 ,167.77,167.803,167.835,167.867,167.897 ,167.926,167.954,167.98,168.006,168.03, 168.054,168.098,168.139,168.176,168.21, 168.226,168.241,168.256,168.27,168.283, 168.296,168.308,168.32,168.33,168.34, 168.35,168.359,168.367,168.374,168.384, 168.39,168.396,168.402,168.406,168.409, 168.411,168.413,168.414,168.414,168.413 ,168.411,168.409,168.404,168.402, 168.401,169.337,170.047,170.531,170.552 ,170.565,170.548,170.536,170.524, 170.513,170.501,170.489,170.471,170.459 ,170.446,170.428,170.415,170.402, 170.389,170.376,170.363,170.349,170.329 ,170.315,170.301,170.286,170.272, 170.257,170.242,170.227,170.212,170.196 ,170.18,170.164,170.148,170.115,170.08, 170.044,170.005,169.986,169.966,169.945 ,169.913,169.891,169.868,169.845, 169.822,169.797,169.772,169.76,169.74)
ORBIT_NUMBER = 7488
ORBITAL_ECCENTRICITY = 0.57
ORBITAL_INCLINATION = 86.83
ORBITAL_SEMIMAJOR_AXIS = 8707.66
PERIAPSIS_ALTITUDE = 364.41
PERIAPSIS_ARGUMENT_ANGLE = 124.86
PERIAPSIS_TIME = 2009-11-04T04:19:00.000Z
SPACECRAFT_ORIENTATION = (0.0,-1.0,0.0)
^MEX_ORIENTATION_DESC = "MEX_ORIENTATION_DESC.TXT"
SPACECRAFT_POINTING_MODE = ACROSSTRACK
^MEX_POINTING_DESC = "MEX_POINTING_DESC.TXT"
RIGHT_ASCENSION = -1e+32
DECLINATION = -1e+32
OFFSET_ANGLE = -0.3
SPACECRAFT_SOLAR_DISTANCE = 2.34581e+08
TARGET_NAME = MARS
/* CAMERA DATA ELEMENTS */
DETECTOR_TEMPERATURE = 18.7783
FOCAL_PLANE_TEMPERATURE = 10.0106
INST_CMPRS_NAME = "DISCRETE COSINE TRANSFORMATION (DCT)"
INST_CMPRS_RATIO = 27.3008
INST_CMPRS_QUALITY = 0
INST_CMPRS_QUANTZ_TBL_ID = 0
INSTRUMENT_TEMPERATURE = 12.0496
LENS_TEMPERATURE = 9.3989
MACROPIXEL_SIZE = 8
MISSING_FRAMES = 0
PIXEL_SUBSAMPLING_FLAG = N
SIGNAL_CHAIN_ID = 2
/* RADIOMETRIC DATA ELEMENTS */
BANDWIDTH = 48.0
CENTER_FILTER_WAVELENGTH = 748.0
RADIANCE_OFFSET = 1.3603
RADIANCE_SCALING_FACTOR = 0.00696201
REFLECTANCE_SCALING_FACTOR = 0.000874276
MEX:REFLECTANCE_OFFSET = 0.170824
/* IMAGE OBJECT DEFINITIONS */
OBJECT = IMAGE
  INTERCHANGE_FORMAT = BINARY
  LINES = 12296
  LINE_SAMPLES = 1270
  SAMPLE_TYPE = UNSIGNED_INTEGER
  SAMPLE_BITS = 8
  BANDS = 1
  BAND_STORAGE_TYPE = BAND_SEQUENTIAL
  MAXIMUM = 255
  MEAN = 118.869
  MINIMUM = 1
  STANDARD_DEVIATION = 29.1012
END_OBJECT = IMAGE
/* MAP OBJECT DEFINITIONS */
OBJECT = IMAGE_MAP_PROJECTION
  ^DATA_SET_MAP_PROJECTION_CATALOG= "DSMAP.CAT"
  A_AXIS_RADIUS = 3396.0
  B_AXIS_RADIUS = 3396.0
  C_AXIS_RADIUS = 3396.0
  CENTER_LATITUDE = 0.0
  CENTER_LONGITUDE = 169.0
  COORDINATE_SYSTEM_NAME = PLANETOGRAPHIC
  COORDINATE_SYSTEM_TYPE = "BODY-FIXED ROTATING"
  EASTERNMOST_LONGITUDE = 170.565
  FIRST_STANDARD_PARALLEL = "N/A"
  LINE_FIRST_PIXEL = 1
  LINE_LAST_PIXEL = 12296
  LINE_PROJECTION_OFFSET = 29101.5625
  MAP_PROJECTION_ROTATION = 0.0
  MAP_PROJECTION_TYPE = SINUSOIDAL
  MAP_RESOLUTION = 592.713803866667
  MAP_SCALE = 0.1
  MAXIMUM_LATITUDE = 49.0775
  MINIMUM_LATITUDE = 28.3681
  POSITIVE_LONGITUDE_DIRECTION = EAST
  REFERENCE_LATITUDE = "N/A"
  REFERENCE_LONGITUDE = "N/A"
  SAMPLE_FIRST_PIXEL = 1
  SAMPLE_LAST_PIXEL = 1270
  SAMPLE_PROJECTION_OFFSET = 489.4375
  SECOND_STANDARD_PARALLEL = "N/A"
  WESTERNMOST_LONGITUDE = 167.735
END_OBJECT = IMAGE_MAP_PROJECTION
END
