PDS_VERSION_ID = PDS3
/* FILE DATA ELEMENTS */
RECORD_TYPE = UNDEFINED
/* POINTERS TO DATA OBJECTS */
^IMAGE = ("H7483_0000_IR4.TIF")
/* IDENTIFICATION DATA ELEMENTS */
DATA_SET_ID = "MEX-M-HRSC-4-REFDR-MAPPROJECT-EXT3-V4.0"
DATA_SET_NAME = "MARS EXPRESS HRSC MAP PROJECTED REFDR EXTENSION3 V4.0"
DETECTOR_ID = MEX_HRSC_IR
EVENT_TYPE = "MARS-REGIONAL-MAPPING-Fl-Pf-Eo"
INSTRUMENT_HOST_ID = MEX
INSTRUMENT_HOST_NAME = "MARS EXPRESS"
INSTRUMENT_ID = HRSC
INSTRUMENT_NAME = "HIGH RESOLUTION STEREO CAMERA"
MISSION_NAME = "MARS EXPRESS"
MISSION_PHASE_NAME = ME_Phase_18
PROCESSING_LEVEL_ID = 4
PRODUCT_CREATION_TIME = 2023-02-02T15:10:19.000Z
PRODUCT_ID = "H7483_0000_IR4.TIF"
RELEASE_ID = 0003
REVISION_ID = 0000
/* QUALITY DATA ELEMENTS */
DATA_QUALITY_ID = 1
DATA_QUALITY_DESC = "Data calculated based on original SPICE kernels"
/* TIME DATA ELEMENTS */
SPACECRAFT_CLOCK_START_COUNT = "1/0205264297.07296"
SPACECRAFT_CLOCK_STOP_COUNT = "1/0205264712.11287"
START_TIME = 2009-11-02T17:51:45.395Z
STOP_TIME = 2009-11-02T17:56:56.270Z
/* ORBITAL DATA ELEMENTS */
ASCENDING_NODE_LONGITUDE = 74.6
MAXIMUM_RESOLUTION = 0.1243
FOOTPRINT_POINT_LATITUDE = (46.5023,46.5049,46.4981,46.4979, 46.4233,45.8509,45.4691,45.0875,44.7057 ,44.3235,43.7503,43.3682,42.9864, 42.6042,42.2222,41.6494,41.0762,40.6945 ,40.3127,39.931,39.3586,38.977,38.5956, 38.2143,37.4522,36.6905,36.1068,35.5214 ,35.131,34.5332,34.1336,33.7344,33.124, 32.7152,32.3068,31.6808,31.2632,30.8407 ,30.4138,29.9873,29.3351,28.8999, 28.2345,27.7903,27.3377,26.6562,26.4251 ,26.3605,26.3541,26.3387,26.3239, 26.3234,26.3255,26.7878,27.2415,27.696, 28.1415,28.8094,29.4638,29.9003,30.3276 ,30.7552,31.1798,31.5982,32.017,32.4314 ,32.8406,33.2503,33.6584,34.0585, 34.4592,35.0595,35.4499,35.8408,36.232, 36.6232,37.0044,37.3857,37.9584,38.3403 ,38.7224,39.2957,39.8697,40.6294, 41.0176,41.4002,41.7823,42.1651,42.5478 ,42.9308,43.5053,43.8879,44.2707, 44.6536,45.0362,45.4189,45.8015,46.1841 ,46.3753,46.5023)
FOOTPRINT_POINT_LONGITUDE = (315.322,314.613,313.528,313.511,313.5, 313.528,313.545,313.562,313.578,313.594 ,313.615,313.629,313.642,313.655, 313.666,313.683,313.698,313.708,313.717 ,313.725,313.737,313.744,313.75,313.756 ,313.767,313.775,313.781,313.785, 313.788,313.791,313.792,313.793,313.793 ,313.793,313.792,313.79,313.788,313.786 ,313.783,313.78,313.774,313.77,313.762, 313.756,313.75,313.74,313.736,313.735, 314.308,315.091,315.642,315.661,315.673 ,315.67,315.667,315.663,315.66,315.655, 315.65,315.646,315.642,315.639,315.635, 315.631,315.627,315.624,315.62,315.615, 315.611,315.607,315.602,315.595,315.591 ,315.586,315.581,315.576,315.571, 315.566,315.558,315.553,315.547,315.538 ,315.529,315.521,315.509,315.503, 315.496,315.489,315.482,315.475,315.463 ,315.455,315.447,315.438,315.429,315.42 ,315.411,315.402,315.397,315.322)
ORBIT_NUMBER = 7483
ORBITAL_ECCENTRICITY = 0.57
ORBITAL_INCLINATION = 86.83
ORBITAL_SEMIMAJOR_AXIS = 8709.02
PERIAPSIS_ALTITUDE = 363.49
PERIAPSIS_ARGUMENT_ANGLE = 125.74
PERIAPSIS_TIME = 2009-11-02T17:50:13.000Z
SPACECRAFT_ORIENTATION = (0.0,-1.0,0.0)
^MEX_ORIENTATION_DESC = "MEX_ORIENTATION_DESC.TXT"
SPACECRAFT_POINTING_MODE = ACROSSTRACK
^MEX_POINTING_DESC = "MEX_POINTING_DESC.TXT"
RIGHT_ASCENSION = -1e+32
DECLINATION = -1e+32
OFFSET_ANGLE = 0.5
SPACECRAFT_SOLAR_DISTANCE = 2.34323e+08
TARGET_NAME = MARS
/* CAMERA DATA ELEMENTS */
DETECTOR_TEMPERATURE = 17.351
FOCAL_PLANE_TEMPERATURE = 8.5833
INST_CMPRS_NAME = "DISCRETE COSINE TRANSFORMATION (DCT)"
INST_CMPRS_RATIO = 28.269
INST_CMPRS_QUALITY = 0
INST_CMPRS_QUANTZ_TBL_ID = 0
INSTRUMENT_TEMPERATURE = 11.234
LENS_TEMPERATURE = 8.9911
MACROPIXEL_SIZE = 8
MISSING_FRAMES = 0
PIXEL_SUBSAMPLING_FLAG = N
SIGNAL_CHAIN_ID = 2
/* RADIOMETRIC DATA ELEMENTS */
BANDWIDTH = 81.0
CENTER_FILTER_WAVELENGTH = 955.5
RADIANCE_OFFSET = 1.03948
RADIANCE_SCALING_FACTOR = 0.00372192
REFLECTANCE_SCALING_FACTOR = 0.000440884
MEX:REFLECTANCE_OFFSET = 0.123133
/* IMAGE OBJECT DEFINITIONS */
OBJECT = IMAGE
  INTERCHANGE_FORMAT = BINARY
  LINES = 11915
  LINE_SAMPLES = 1093
  SAMPLE_TYPE = UNSIGNED_INTEGER
  SAMPLE_BITS = 8
  BANDS = 1
  BAND_STORAGE_TYPE = BAND_SEQUENTIAL
  MAXIMUM = 255
  MEAN = 94.4332
  MINIMUM = 1
  STANDARD_DEVIATION = 47.8536
END_OBJECT = IMAGE
/* MAP OBJECT DEFINITIONS */
OBJECT = IMAGE_MAP_PROJECTION
  ^DATA_SET_MAP_PROJECTION_CATALOG= "DSMAP.CAT"
  A_AXIS_RADIUS = 3396.0
  B_AXIS_RADIUS = 3396.0
  C_AXIS_RADIUS = 3396.0
  CENTER_LATITUDE = 0.0
  CENTER_LONGITUDE = 315.0
  COORDINATE_SYSTEM_NAME = PLANETOGRAPHIC
  COORDINATE_SYSTEM_TYPE = "BODY-FIXED ROTATING"
  EASTERNMOST_LONGITUDE = 315.673
  FIRST_STANDARD_PARALLEL = "N/A"
  LINE_FIRST_PIXEL = 1
  LINE_LAST_PIXEL = 11915
  LINE_PROJECTION_OFFSET = 27539.6875
  MAP_PROJECTION_ROTATION = 0.0
  MAP_PROJECTION_TYPE = SINUSOIDAL
  MAP_RESOLUTION = 592.713803866667
  MAP_SCALE = 0.1
  MAXIMUM_LATITUDE = 46.5049
  MINIMUM_LATITUDE = 26.3234
  POSITIVE_LONGITUDE_DIRECTION = EAST
  REFERENCE_LATITUDE = "N/A"
  REFERENCE_LONGITUDE = "N/A"
  SAMPLE_FIRST_PIXEL = 1
  SAMPLE_LAST_PIXEL = 1093
  SAMPLE_PROJECTION_OFFSET = 712.4375
  SECOND_STANDARD_PARALLEL = "N/A"
  WESTERNMOST_LONGITUDE = 313.5
END_OBJECT = IMAGE_MAP_PROJECTION
END
