PDS_VERSION_ID = PDS3
/* FILE DATA ELEMENTS */
RECORD_TYPE = UNDEFINED
/* POINTERS TO DATA OBJECTS */
^IMAGE = ("H7482_0000_IR4.TIF")
/* IDENTIFICATION DATA ELEMENTS */
DATA_SET_ID = "MEX-M-HRSC-4-REFDR-MAPPROJECT-EXT3-V4.0"
DATA_SET_NAME = "MARS EXPRESS HRSC MAP PROJECTED REFDR EXTENSION3 V4.0"
DETECTOR_ID = MEX_HRSC_IR
EVENT_TYPE = "MARS-REGIONAL-MAPPING-Te-Fl-Pf"
INSTRUMENT_HOST_ID = MEX
INSTRUMENT_HOST_NAME = "MARS EXPRESS"
INSTRUMENT_ID = HRSC
INSTRUMENT_NAME = "HIGH RESOLUTION STEREO CAMERA"
MISSION_NAME = "MARS EXPRESS"
MISSION_PHASE_NAME = ME_Phase_18
PROCESSING_LEVEL_ID = 4
PRODUCT_CREATION_TIME = 2023-02-02T15:10:19.000Z
PRODUCT_ID = "H7482_0000_IR4.TIF"
RELEASE_ID = 0003
REVISION_ID = 0000
/* QUALITY DATA ELEMENTS */
DATA_QUALITY_ID = 1
DATA_QUALITY_DESC = "Data calculated based on original SPICE kernels"
/* TIME DATA ELEMENTS */
SPACECRAFT_CLOCK_START_COUNT = "1/0205239554.09047"
SPACECRAFT_CLOCK_STOP_COUNT = "1/0205239999.52449"
START_TIME = 2009-11-02T10:59:22.701Z
STOP_TIME = 2009-11-02T11:04:44.038Z
/* ORBITAL DATA ELEMENTS */
ASCENDING_NODE_LONGITUDE = 74.61
MAXIMUM_RESOLUTION = 0.1286
FOOTPRINT_POINT_LATITUDE = (40.9544,40.9346,40.9116,40.877,40.8761 ,40.8182,40.2826,39.7362,39.1902,38.826 ,38.4625,37.9165,37.5525,37.1901, 36.8245,36.4616,36.0911,35.7178,35.3448 ,34.9727,34.4029,33.8308,33.4484, 32.8649,32.4752,32.0843,31.4873,31.0882 ,30.6858,30.2779,29.6664,29.2507, 28.6283,28.2032,27.5677,26.9216,26.4891 ,26.0469,25.6056,25.1566,24.7025, 24.2516,23.5599,23.096,22.6182,21.9037, 21.1853,20.6964,20.4503,20.3553,20.3678 ,20.3799,20.3827,20.3877,20.388,20.3911 ,21.1295,21.8567,22.5763,23.0511, 23.5186,23.9835,24.442,25.1251,25.5637, 26.0094,26.4455,27.102,27.5436,27.9674, 28.3921,29.0226,29.4399,29.8533,30.261, 30.6701,31.2751,31.8741,32.4592,32.8546 ,33.2465,33.6323,34.0143,34.3975,34.97, 35.3438,35.718,36.0932,36.4642,36.8228, 37.3716,37.7387,38.2849,38.6491,39.0152 ,39.563,40.1131,40.663,40.8437,40.9544)
FOOTPRINT_POINT_LONGITUDE = (54.9459,54.4299,53.9083,53.2315, 53.2149,53.1641,53.1982,53.2224,53.2453 ,53.2596,53.2738,53.2932,53.3053, 53.3179,53.3275,53.3384,53.3479,53.3574 ,53.3663,53.3753,53.386,53.3974,53.4034 ,53.4123,53.4184,53.4228,53.4297, 53.4334,53.4359,53.4388,53.4418,53.4435 ,53.4458,53.4449,53.4449,53.4447, 53.4434,53.4404,53.437,53.4338,53.4264, 53.4257,53.4165,53.411,53.4003,53.3885, 53.3794,53.3698,53.3655,53.3635,53.9116 ,54.5362,54.866,55.4061,55.4253,55.4381 ,55.4289,55.4194,55.4091,55.4022, 55.3951,55.388,55.3809,55.3696,55.3642, 55.3563,55.3497,55.3374,55.3281,55.3204 ,55.3122,55.2995,55.2909,55.2822, 55.2735,55.2644,55.2504,55.2364,55.2229 ,55.2125,55.2024,55.1922,55.182,55.1714 ,55.1551,55.1442,55.1331,55.1215, 55.1102,55.0996,55.0816,55.0691,55.0506 ,55.0379,55.0247,55.0046,54.9835, 54.9618,54.9548,54.9459)
ORBIT_NUMBER = 7482
ORBITAL_ECCENTRICITY = 0.57
ORBITAL_INCLINATION = 86.83
ORBITAL_SEMIMAJOR_AXIS = 8715.06
PERIAPSIS_ALTITUDE = 363.02
PERIAPSIS_ARGUMENT_ANGLE = 125.9
PERIAPSIS_TIME = 2009-11-02T10:56:28.000Z
SPACECRAFT_ORIENTATION = (0.0,-1.0,0.0)
^MEX_ORIENTATION_DESC = "MEX_ORIENTATION_DESC.TXT"
SPACECRAFT_POINTING_MODE = ACROSSTRACK
^MEX_POINTING_DESC = "MEX_POINTING_DESC.TXT"
RIGHT_ASCENSION = -1e+32
DECLINATION = -1e+32
OFFSET_ANGLE = -0.5
SPACECRAFT_SOLAR_DISTANCE = 2.34271e+08
TARGET_NAME = MARS
/* CAMERA DATA ELEMENTS */
DETECTOR_TEMPERATURE = 17.5549
FOCAL_PLANE_TEMPERATURE = 8.3794
INST_CMPRS_NAME = "DISCRETE COSINE TRANSFORMATION (DCT)"
INST_CMPRS_RATIO = 11.4113
INST_CMPRS_QUALITY = 0
INST_CMPRS_QUANTZ_TBL_ID = 0
INSTRUMENT_TEMPERATURE = 11.0301
LENS_TEMPERATURE = 8.7872
MACROPIXEL_SIZE = 8
MISSING_FRAMES = 0
PIXEL_SUBSAMPLING_FLAG = N
SIGNAL_CHAIN_ID = 2
/* RADIOMETRIC DATA ELEMENTS */
BANDWIDTH = 81.0
CENTER_FILTER_WAVELENGTH = 955.5
RADIANCE_OFFSET = 1.17392
RADIANCE_SCALING_FACTOR = 0.00701165
REFLECTANCE_SCALING_FACTOR = 0.000830206
MEX:REFLECTANCE_OFFSET = 0.138997
/* IMAGE OBJECT DEFINITIONS */
OBJECT = IMAGE
  INTERCHANGE_FORMAT = BINARY
  LINES = 12170
  LINE_SAMPLES = 1239
  SAMPLE_TYPE = UNSIGNED_INTEGER
  SAMPLE_BITS = 8
  BANDS = 1
  BAND_STORAGE_TYPE = BAND_SEQUENTIAL
  MAXIMUM = 255
  MEAN = 163.814
  MINIMUM = 1
  STANDARD_DEVIATION = 22.857
END_OBJECT = IMAGE
/* MAP OBJECT DEFINITIONS */
OBJECT = IMAGE_MAP_PROJECTION
  ^DATA_SET_MAP_PROJECTION_CATALOG= "DSMAP.CAT"
  A_AXIS_RADIUS = 3396.0
  B_AXIS_RADIUS = 3396.0
  C_AXIS_RADIUS = 3396.0
  CENTER_LATITUDE = 0.0
  CENTER_LONGITUDE = 54.0
  COORDINATE_SYSTEM_NAME = PLANETOGRAPHIC
  COORDINATE_SYSTEM_TYPE = "BODY-FIXED ROTATING"
  EASTERNMOST_LONGITUDE = 55.4381
  FIRST_STANDARD_PARALLEL = "N/A"
  LINE_FIRST_PIXEL = 1
  LINE_LAST_PIXEL = 12170
  LINE_PROJECTION_OFFSET = 24243.9375
  MAP_PROJECTION_ROTATION = 0.0
  MAP_PROJECTION_TYPE = SINUSOIDAL
  MAP_RESOLUTION = 592.713803866667
  MAP_SCALE = 0.1
  MAXIMUM_LATITUDE = 40.9544
  MINIMUM_LATITUDE = 20.3553
  POSITIVE_LONGITUDE_DIRECTION = EAST
  REFERENCE_LATITUDE = "N/A"
  REFERENCE_LONGITUDE = "N/A"
  SAMPLE_FIRST_PIXEL = 1
  SAMPLE_LAST_PIXEL = 1239
  SAMPLE_PROJECTION_OFFSET = 402.9375
  SECOND_STANDARD_PARALLEL = "N/A"
  WESTERNMOST_LONGITUDE = 53.1641
END_OBJECT = IMAGE_MAP_PROJECTION
END
