PDS_VERSION_ID = PDS3
/* FILE DATA ELEMENTS */
RECORD_TYPE = UNDEFINED
/* POINTERS TO DATA OBJECTS */
^IMAGE = ("H7477_0000_GR4.TIF")
/* IDENTIFICATION DATA ELEMENTS */
DATA_SET_ID = "MEX-M-HRSC-4-REFDR-MAPPROJECT-EXT3-V4.0"
DATA_SET_NAME = "MARS EXPRESS HRSC MAP PROJECTED REFDR EXTENSION3 V4.0"
DETECTOR_ID = MEX_HRSC_GREEN
EVENT_TYPE = "MARS-REGIONAL-MAPPING-Vo-Pf"
INSTRUMENT_HOST_ID = MEX
INSTRUMENT_HOST_NAME = "MARS EXPRESS"
INSTRUMENT_ID = HRSC
INSTRUMENT_NAME = "HIGH RESOLUTION STEREO CAMERA"
MISSION_NAME = "MARS EXPRESS"
MISSION_PHASE_NAME = ME_Phase_18
PROCESSING_LEVEL_ID = 4
PRODUCT_CREATION_TIME = 2023-02-02T15:10:19.000Z
PRODUCT_ID = "H7477_0000_GR4.TIF"
RELEASE_ID = 0003
REVISION_ID = 0000
/* QUALITY DATA ELEMENTS */
DATA_QUALITY_ID = 1
DATA_QUALITY_DESC = "Data calculated based on original SPICE kernels"
/* TIME DATA ELEMENTS */
SPACECRAFT_CLOCK_START_COUNT = "1/0205115294.09052"
SPACECRAFT_CLOCK_STOP_COUNT = "1/0205115612.14395"
START_TIME = 2009-11-01T00:28:44.038Z
STOP_TIME = 2009-11-01T00:32:41.804Z
/* ORBITAL DATA ELEMENTS */
ASCENDING_NODE_LONGITUDE = 74.71
MAXIMUM_RESOLUTION = 0.1178
FOOTPRINT_POINT_LATITUDE = (48.7067,48.6882,48.6721,48.6514, 48.6507,48.6325,48.244,47.7262,47.2086, 46.691,46.1737,45.7172,45.4087,45.1003, 44.7921,44.4839,44.1759,43.868,43.5602, 43.2526,42.9451,42.6378,42.3306,42.0236 ,41.7168,41.4102,41.1037,40.7974, 40.4914,40.1855,39.8799,39.5744,39.2692 ,38.9643,38.6595,38.0509,37.4432, 36.8366,36.5259,36.0599,35.7496,35.4396 ,34.9662,34.6489,34.3319,34.0153, 33.6927,33.5307,33.4923,33.5031,33.5089 ,33.5139,33.514,33.5161,34.0027,34.3199 ,34.6375,34.9555,35.4308,35.7414, 36.0524,36.3637,36.6752,36.9835,37.5917 ,37.8962,38.201,38.506,38.8112,39.1167, 39.4225,39.7285,40.0347,40.3411,40.6478 ,40.9546,41.2617,41.569,41.8764,42.184, 42.4918,42.7999,43.108,43.4163,43.7247, 44.0334,44.3421,44.651,44.96,45.2691, 45.5784,45.8877,46.1964,46.7152,47.1044 ,47.6236,48.143,48.5326,48.6625, 48.7067)
FOOTPRINT_POINT_LONGITUDE = (199.345,198.618,198.098,197.524, 197.506,197.447,197.479,197.521,197.56, 197.597,197.633,197.663,197.683,197.702 ,197.721,197.739,197.756,197.773,197.79 ,197.805,197.821,197.836,197.85,197.864 ,197.878,197.891,197.903,197.915, 197.927,197.938,197.949,197.959,197.969 ,197.979,197.988,198.005,198.021, 198.035,198.042,198.052,198.057,198.063 ,198.071,198.076,198.08,198.084,198.088 ,198.09,198.09,198.722,199.2,199.881, 199.898,199.909,199.898,199.891,199.884 ,199.876,199.865,199.857,199.849, 199.841,199.833,199.825,199.808,199.8, 199.791,199.782,199.773,199.764,199.755 ,199.745,199.736,199.726,199.716, 199.706,199.695,199.685,199.674,199.663 ,199.652,199.64,199.629,199.617,199.605 ,199.593,199.58,199.568,199.555,199.542 ,199.528,199.514,199.501,199.476, 199.458,199.432,199.406,199.386,199.379 ,199.345)
ORBIT_NUMBER = 7477
ORBITAL_ECCENTRICITY = 0.57
ORBITAL_INCLINATION = 86.83
ORBITAL_SEMIMAJOR_AXIS = 8710.11
PERIAPSIS_ALTITUDE = 362.59
PERIAPSIS_ARGUMENT_ANGLE = 126.76
PERIAPSIS_TIME = 2009-11-01T00:27:40.000Z
SPACECRAFT_ORIENTATION = (0.0,-1.0,0.0)
^MEX_ORIENTATION_DESC = "MEX_ORIENTATION_DESC.TXT"
SPACECRAFT_POINTING_MODE = ACROSSTRACK
^MEX_POINTING_DESC = "MEX_POINTING_DESC.TXT"
RIGHT_ASCENSION = -1e+32
DECLINATION = -1e+32
OFFSET_ANGLE = -0.15
SPACECRAFT_SOLAR_DISTANCE = 2.3401e+08
TARGET_NAME = MARS
/* CAMERA DATA ELEMENTS */
DETECTOR_TEMPERATURE = 18.1666
FOCAL_PLANE_TEMPERATURE = 8.1755
INST_CMPRS_NAME = "DISCRETE COSINE TRANSFORMATION (DCT)"
INST_CMPRS_RATIO = 32.2723
INST_CMPRS_QUALITY = 0
INST_CMPRS_QUANTZ_TBL_ID = 0
INSTRUMENT_TEMPERATURE = 11.234
LENS_TEMPERATURE = 8.5833
MACROPIXEL_SIZE = 8
MISSING_FRAMES = 0
PIXEL_SUBSAMPLING_FLAG = N
SIGNAL_CHAIN_ID = 2
/* RADIOMETRIC DATA ELEMENTS */
BANDWIDTH = 88.0
CENTER_FILTER_WAVELENGTH = 538.0
RADIANCE_OFFSET = 1.68616
RADIANCE_SCALING_FACTOR = 0.00350068
REFLECTANCE_SCALING_FACTOR = 0.000165049
MEX:REFLECTANCE_OFFSET = 0.0794988
/* IMAGE OBJECT DEFINITIONS */
OBJECT = IMAGE
  INTERCHANGE_FORMAT = BINARY
  LINES = 9005
  LINE_SAMPLES = 1072
  SAMPLE_TYPE = UNSIGNED_INTEGER
  SAMPLE_BITS = 8
  BANDS = 1
  BAND_STORAGE_TYPE = BAND_SEQUENTIAL
  MAXIMUM = 255
  MEAN = 138.313
  MINIMUM = 1
  STANDARD_DEVIATION = 36.0578
END_OBJECT = IMAGE
/* MAP OBJECT DEFINITIONS */
OBJECT = IMAGE_MAP_PROJECTION
  ^DATA_SET_MAP_PROJECTION_CATALOG= "DSMAP.CAT"
  A_AXIS_RADIUS = 3396.0
  B_AXIS_RADIUS = 3396.0
  C_AXIS_RADIUS = 3396.0
  CENTER_LATITUDE = 0.0
  CENTER_LONGITUDE = 199.0
  COORDINATE_SYSTEM_NAME = PLANETOGRAPHIC
  COORDINATE_SYSTEM_TYPE = "BODY-FIXED ROTATING"
  EASTERNMOST_LONGITUDE = 199.909
  FIRST_STANDARD_PARALLEL = "N/A"
  LINE_FIRST_PIXEL = 1
  LINE_LAST_PIXEL = 9005
  LINE_PROJECTION_OFFSET = 28862.4375
  MAP_PROJECTION_ROTATION = 0.0
  MAP_PROJECTION_TYPE = SINUSOIDAL
  MAP_RESOLUTION = 592.713803866667
  MAP_SCALE = 0.1
  MAXIMUM_LATITUDE = 48.7067
  MINIMUM_LATITUDE = 33.4923
  POSITIVE_LONGITUDE_DIRECTION = EAST
  REFERENCE_LATITUDE = "N/A"
  REFERENCE_LONGITUDE = "N/A"
  SAMPLE_FIRST_PIXEL = 1
  SAMPLE_LAST_PIXEL = 1072
  SAMPLE_PROJECTION_OFFSET = 617.6875
  SECOND_STANDARD_PARALLEL = "N/A"
  WESTERNMOST_LONGITUDE = 197.447
END_OBJECT = IMAGE_MAP_PROJECTION
END
