PDS_VERSION_ID = PDS3
/* FILE DATA ELEMENTS */
RECORD_TYPE = UNDEFINED
/* POINTERS TO DATA OBJECTS */
^IMAGE = ("H7467_0000_IR4.TIF")
/* IDENTIFICATION DATA ELEMENTS */
DATA_SET_ID = "MEX-M-HRSC-4-REFDR-MAPPROJECT-EXT3-V4.0"
DATA_SET_NAME = "MARS EXPRESS HRSC MAP PROJECTED REFDR EXTENSION3 V4.0"
DETECTOR_ID = MEX_HRSC_IR
EVENT_TYPE = "MARS-REGIONAL-MAPPING-Vo-Fl-Pf"
INSTRUMENT_HOST_ID = MEX
INSTRUMENT_HOST_NAME = "MARS EXPRESS"
INSTRUMENT_ID = HRSC
INSTRUMENT_NAME = "HIGH RESOLUTION STEREO CAMERA"
MISSION_NAME = "MARS EXPRESS"
MISSION_PHASE_NAME = ME_Phase_18
PROCESSING_LEVEL_ID = 4
PRODUCT_CREATION_TIME = 2023-02-02T15:10:19.000Z
PRODUCT_ID = "H7467_0000_IR4.TIF"
RELEASE_ID = 0003
REVISION_ID = 0000
/* QUALITY DATA ELEMENTS */
DATA_QUALITY_ID = 1
DATA_QUALITY_DESC = "Data calculated based on original SPICE kernels"
/* TIME DATA ELEMENTS */
SPACECRAFT_CLOCK_START_COUNT = "1/0204867160.08263"
SPACECRAFT_CLOCK_STOP_COUNT = "1/0204867516.37383"
START_TIME = 2009-10-29T03:32:48.489Z
STOP_TIME = 2009-10-29T03:37:00.235Z
/* ORBITAL DATA ELEMENTS */
ASCENDING_NODE_LONGITUDE = 74.91
MAXIMUM_RESOLUTION = 0.128
FOOTPRINT_POINT_LATITUDE = (39.5166,39.5243,39.5269,39.5266, 39.5265,39.463,39.1587,38.8546,38.5503, 38.2465,37.9429,37.6388,37.3351,37.0308 ,36.7268,36.4231,35.9673,35.2085, 34.6019,34.1473,33.5413,33.0757,32.6099 ,32.2995,31.9891,31.6715,31.3533, 31.0355,30.5589,30.2335,29.9082,29.4207 ,29.092,28.7593,28.4268,28.0945,27.756, 27.4166,26.9076,26.5613,26.2145,25.8683 ,25.5162,25.1625,24.8093,24.2693, 23.9091,23.5442,23.3607,23.2465,23.2383 ,23.2261,23.2056,23.205,23.2071,23.759, 24.1199,24.4811,24.8406,25.1946,25.549, 25.9002,26.2475,26.595,26.9403,27.2802, 27.6203,28.1282,28.4611,28.7942,29.2921 ,29.6177,29.9434,30.2694,30.5938, 30.9123,31.2311,31.5498,32.0258,32.3369 ,32.648,32.9593,33.2706,33.7311,34.338, 35.0968,35.4006,35.7047,36.161,36.4653, 36.7697,37.0743,37.5312,37.9879,38.2926 ,38.5973,38.9023,39.207,39.3594, 39.5166)
FOOTPRINT_POINT_LONGITUDE = (129.063,128.408,127.903,127.404, 127.388,127.377,127.383,127.39,127.396, 127.402,127.407,127.412,127.417,127.421 ,127.426,127.429,127.435,127.442, 127.447,127.45,127.453,127.454,127.455, 127.456,127.456,127.455,127.455,127.454 ,127.453,127.451,127.45,127.447,127.445 ,127.442,127.439,127.436,127.433, 127.429,127.423,127.419,127.414,127.409 ,127.404,127.399,127.393,127.384, 127.377,127.37,127.367,127.364,127.925, 128.494,129.23,129.248,129.26,129.258, 129.256,129.254,129.252,129.25,129.248, 129.245,129.243,129.241,129.239,129.237 ,129.235,129.231,129.229,129.226, 129.223,129.221,129.218,129.216,129.213 ,129.211,129.208,129.205,129.201, 129.198,129.195,129.192,129.189,129.185 ,129.179,129.172,129.169,129.165,129.16 ,129.157,129.153,129.149,129.143, 129.138,129.134,129.129,129.125,129.121 ,129.119,129.063)
ORBIT_NUMBER = 7467
ORBITAL_ECCENTRICITY = 0.57
ORBITAL_INCLINATION = 86.82
ORBITAL_SEMIMAJOR_AXIS = 8719.51
PERIAPSIS_ALTITUDE = 361.77
PERIAPSIS_ARGUMENT_ANGLE = 128.51
PERIAPSIS_TIME = 2009-10-29T03:30:11.000Z
SPACECRAFT_ORIENTATION = (0.0,-1.0,0.0)
^MEX_ORIENTATION_DESC = "MEX_ORIENTATION_DESC.TXT"
SPACECRAFT_POINTING_MODE = ACROSSTRACK
^MEX_POINTING_DESC = "MEX_POINTING_DESC.TXT"
RIGHT_ASCENSION = -1e+32
DECLINATION = -1e+32
OFFSET_ANGLE = 0.5
SPACECRAFT_SOLAR_DISTANCE = 2.33486e+08
TARGET_NAME = MARS
/* CAMERA DATA ELEMENTS */
DETECTOR_TEMPERATURE = 17.351
FOCAL_PLANE_TEMPERATURE = 8.3794
INST_CMPRS_NAME = "DISCRETE COSINE TRANSFORMATION (DCT)"
INST_CMPRS_RATIO = 15.6052
INST_CMPRS_QUALITY = 0
INST_CMPRS_QUANTZ_TBL_ID = 0
INSTRUMENT_TEMPERATURE = 11.234
LENS_TEMPERATURE = 8.7872
MACROPIXEL_SIZE = 8
MISSING_FRAMES = 0
PIXEL_SUBSAMPLING_FLAG = N
SIGNAL_CHAIN_ID = 2
/* RADIOMETRIC DATA ELEMENTS */
BANDWIDTH = 81.0
CENTER_FILTER_WAVELENGTH = 955.5
RADIANCE_OFFSET = 1.26422
RADIANCE_SCALING_FACTOR = 0.0060201
REFLECTANCE_SCALING_FACTOR = 0.000708037
MEX:REFLECTANCE_OFFSET = 0.148688
/* IMAGE OBJECT DEFINITIONS */
OBJECT = IMAGE
  INTERCHANGE_FORMAT = BINARY
  LINES = 9628
  LINE_SAMPLES = 1098
  SAMPLE_TYPE = UNSIGNED_INTEGER
  SAMPLE_BITS = 8
  BANDS = 1
  BAND_STORAGE_TYPE = BAND_SEQUENTIAL
  MAXIMUM = 255
  MEAN = 115.979
  MINIMUM = 1
  STANDARD_DEVIATION = 39.8885
END_OBJECT = IMAGE
/* MAP OBJECT DEFINITIONS */
OBJECT = IMAGE_MAP_PROJECTION
  ^DATA_SET_MAP_PROJECTION_CATALOG= "DSMAP.CAT"
  A_AXIS_RADIUS = 3396.0
  B_AXIS_RADIUS = 3396.0
  C_AXIS_RADIUS = 3396.0
  CENTER_LATITUDE = 0.0
  CENTER_LONGITUDE = 128.0
  COORDINATE_SYSTEM_NAME = PLANETOGRAPHIC
  COORDINATE_SYSTEM_TYPE = "BODY-FIXED ROTATING"
  EASTERNMOST_LONGITUDE = 129.26
  FIRST_STANDARD_PARALLEL = "N/A"
  LINE_FIRST_PIXEL = 1
  LINE_LAST_PIXEL = 9628
  LINE_PROJECTION_OFFSET = 23405.9375
  MAP_PROJECTION_ROTATION = 0.0
  MAP_PROJECTION_TYPE = SINUSOIDAL
  MAP_RESOLUTION = 592.713803866667
  MAP_SCALE = 0.1
  MAXIMUM_LATITUDE = 39.5269
  MINIMUM_LATITUDE = 23.205
  POSITIVE_LONGITUDE_DIRECTION = EAST
  REFERENCE_LATITUDE = "N/A"
  REFERENCE_LONGITUDE = "N/A"
  SAMPLE_FIRST_PIXEL = 1
  SAMPLE_LAST_PIXEL = 1098
  SAMPLE_PROJECTION_OFFSET = 387.8125
  SECOND_STANDARD_PARALLEL = "N/A"
  WESTERNMOST_LONGITUDE = 127.364
END_OBJECT = IMAGE_MAP_PROJECTION
END
