PDS_VERSION_ID = PDS3
/* FILE DATA ELEMENTS */
RECORD_TYPE = UNDEFINED
/* POINTERS TO DATA OBJECTS */
^IMAGE = ("H7465_0000_S14.TIF")
/* IDENTIFICATION DATA ELEMENTS */
DATA_SET_ID = "MEX-M-HRSC-4-REFDR-MAPPROJECT-EXT3-V4.0"
DATA_SET_NAME = "MARS EXPRESS HRSC MAP PROJECTED REFDR EXTENSION3 V4.0"
DETECTOR_ID = MEX_HRSC_S1
EVENT_TYPE = "MARS-REGIONAL-MAPPING-Vo-Lc-Pf"
INSTRUMENT_HOST_ID = MEX
INSTRUMENT_HOST_NAME = "MARS EXPRESS"
INSTRUMENT_ID = HRSC
INSTRUMENT_NAME = "HIGH RESOLUTION STEREO CAMERA"
MISSION_NAME = "MARS EXPRESS"
MISSION_PHASE_NAME = ME_Phase_18
PROCESSING_LEVEL_ID = 4
PRODUCT_CREATION_TIME = 2023-02-02T15:10:19.000Z
PRODUCT_ID = "H7465_0000_S14.TIF"
RELEASE_ID = 0003
REVISION_ID = 0000
/* QUALITY DATA ELEMENTS */
DATA_QUALITY_ID = 1
DATA_QUALITY_DESC = "Data calculated based on original SPICE kernels"
/* TIME DATA ELEMENTS */
SPACECRAFT_CLOCK_START_COUNT = "1/0204817420.08242"
SPACECRAFT_CLOCK_STOP_COUNT = "1/0204817771.06933"
START_TIME = 2009-10-28T13:43:42.600Z
STOP_TIME = 2009-10-28T13:48:01.400Z
/* ORBITAL DATA ELEMENTS */
ASCENDING_NODE_LONGITUDE = 74.95
MAXIMUM_RESOLUTION = 0.0312
FOOTPRINT_POINT_LATITUDE = (45.034,45.0235,45.0034,44.9847,44.984, 44.8936,44.6056,44.3176,43.8859,43.4537 ,43.1656,42.8772,42.445,42.1563,41.8683 ,41.5468,41.2016,40.8569,40.3395, 39.8224,39.4774,39.1322,38.614,38.2686, 37.9234,37.4054,37.0601,36.7146,36.1925 ,35.8474,35.5019,35.1567,34.812,34.2943 ,33.9491,33.4251,32.9152,32.5703,32.041 ,31.6881,31.3349,30.9817,30.6196, 30.2572,29.7144,29.1608,28.7902,28.2348 ,28.0447,28.0391,28.0491,28.055,28.0558 ,28.0558,28.0563,28.4326,28.9891, 29.3601,29.7284,30.0908,30.4534,30.9977 ,31.3513,31.7056,32.0601,32.4145, 32.7631,33.1081,33.4533,33.9718,34.3177 ,34.8363,35.1822,35.528,35.8742,36.2201 ,36.7431,37.2619,37.7809,38.1271, 38.4735,38.992,39.3382,39.8572,40.2029, 40.5487,41.0675,41.413,41.7579,42.0555, 42.6312,42.9204,43.2093,43.6424,43.9314 ,44.22,44.5091,44.7972,44.9419,45.034)
FOOTPRINT_POINT_LONGITUDE = (329.871,329.381,328.67,328.144,328.127 ,328.087,328.104,328.121,328.145, 328.169,328.184,328.198,328.22,328.233, 328.247,328.261,328.276,328.29,328.31, 328.33,328.342,328.354,328.37,328.38, 328.391,328.405,328.414,328.422,328.434 ,328.441,328.448,328.454,328.461, 328.469,328.474,328.479,328.487,328.491 ,328.495,328.498,328.501,328.503, 328.504,328.506,328.507,328.507,328.507 ,328.507,328.506,328.506,329.058, 329.712,330.263,330.28,330.286,330.282, 330.274,330.269,330.264,330.259,330.254 ,330.246,330.24,330.234,330.229,330.223 ,330.217,330.211,330.205,330.196, 330.189,330.179,330.173,330.166,330.159 ,330.151,330.14,330.129,330.117,330.109 ,330.101,330.088,330.08,330.066,330.057 ,330.048,330.033,330.023,330.014, 330.004,329.987,329.978,329.969,329.955 ,329.945,329.935,329.925,329.915,329.91 ,329.871)
ORBIT_NUMBER = 7465
ORBITAL_ECCENTRICITY = 0.57
ORBITAL_INCLINATION = 86.84
ORBITAL_SEMIMAJOR_AXIS = 8713.31
PERIAPSIS_ALTITUDE = 361.53
PERIAPSIS_ARGUMENT_ANGLE = 128.85
PERIAPSIS_TIME = 2009-10-28T13:42:40.000Z
SPACECRAFT_ORIENTATION = (0.0,-1.0,0.0)
^MEX_ORIENTATION_DESC = "MEX_ORIENTATION_DESC.TXT"
SPACECRAFT_POINTING_MODE = ACROSSTRACK
^MEX_POINTING_DESC = "MEX_POINTING_DESC.TXT"
RIGHT_ASCENSION = -1e+32
DECLINATION = -1e+32
OFFSET_ANGLE = -0.05
SPACECRAFT_SOLAR_DISTANCE = 2.3338e+08
TARGET_NAME = MARS
/* CAMERA DATA ELEMENTS */
DETECTOR_TEMPERATURE = 17.351
FOCAL_PLANE_TEMPERATURE = 7.9716
INST_CMPRS_NAME = "DISCRETE COSINE TRANSFORMATION (DCT)"
INST_CMPRS_RATIO = 12.4687
INST_CMPRS_QUALITY = 0
INST_CMPRS_QUANTZ_TBL_ID = 0
INSTRUMENT_TEMPERATURE = 11.234
LENS_TEMPERATURE = 8.3794
MACROPIXEL_SIZE = 2
MISSING_FRAMES = 1
PIXEL_SUBSAMPLING_FLAG = N
SIGNAL_CHAIN_ID = 1
/* RADIOMETRIC DATA ELEMENTS */
BANDWIDTH = 180.0
CENTER_FILTER_WAVELENGTH = 677.0
RADIANCE_OFFSET = 3.96854
RADIANCE_SCALING_FACTOR = 0.0138093
REFLECTANCE_SCALING_FACTOR = 0.000392413
MEX:REFLECTANCE_OFFSET = 0.112772
/* IMAGE OBJECT DEFINITIONS */
OBJECT = IMAGE
  INTERCHANGE_FORMAT = BINARY
  LINES = 40056
  LINE_SAMPLES = 4329
  SAMPLE_TYPE = UNSIGNED_INTEGER
  SAMPLE_BITS = 8
  BANDS = 1
  BAND_STORAGE_TYPE = BAND_SEQUENTIAL
  MAXIMUM = 255
  MEAN = 96.8622
  MINIMUM = 1
  STANDARD_DEVIATION = 29.952
END_OBJECT = IMAGE
/* MAP OBJECT DEFINITIONS */
OBJECT = IMAGE_MAP_PROJECTION
  ^DATA_SET_MAP_PROJECTION_CATALOG= "DSMAP.CAT"
  A_AXIS_RADIUS = 3396.0
  B_AXIS_RADIUS = 3396.0
  C_AXIS_RADIUS = 3396.0
  CENTER_LATITUDE = 0.0
  CENTER_LONGITUDE = 329.0
  COORDINATE_SYSTEM_NAME = PLANETOGRAPHIC
  COORDINATE_SYSTEM_TYPE = "BODY-FIXED ROTATING"
  EASTERNMOST_LONGITUDE = 330.286
  FIRST_STANDARD_PARALLEL = "N/A"
  LINE_FIRST_PIXEL = 1
  LINE_LAST_PIXEL = 40056
  LINE_PROJECTION_OFFSET = 106608.25
  MAP_PROJECTION_ROTATION = 0.0
  MAP_PROJECTION_TYPE = SINUSOIDAL
  MAP_RESOLUTION = 2370.85521546667
  MAP_SCALE = 0.025
  MAXIMUM_LATITUDE = 45.034
  MINIMUM_LATITUDE = 28.0391
  POSITIVE_LONGITUDE_DIRECTION = EAST
  REFERENCE_LATITUDE = "N/A"
  REFERENCE_LONGITUDE = "N/A"
  SAMPLE_FIRST_PIXEL = 1
  SAMPLE_LAST_PIXEL = 4329
  SAMPLE_PROJECTION_OFFSET = 1558.25
  SECOND_STANDARD_PARALLEL = "N/A"
  WESTERNMOST_LONGITUDE = 328.087
END_OBJECT = IMAGE_MAP_PROJECTION
END
