PDS_VERSION_ID = PDS3
/* FILE DATA ELEMENTS */
RECORD_TYPE = UNDEFINED
/* POINTERS TO DATA OBJECTS */
^IMAGE = ("H7464_0001_P14.TIF")
/* IDENTIFICATION DATA ELEMENTS */
DATA_SET_ID = "MEX-M-HRSC-4-REFDR-MAPPROJECT-EXT3-V4.0"
DATA_SET_NAME = "MARS EXPRESS HRSC MAP PROJECTED REFDR EXTENSION3 V4.0"
DETECTOR_ID = MEX_HRSC_P1
EVENT_TYPE = "MARS-REGIONAL-MAPPING-Vo-Te-Eo"
INSTRUMENT_HOST_ID = MEX
INSTRUMENT_HOST_NAME = "MARS EXPRESS"
INSTRUMENT_ID = HRSC
INSTRUMENT_NAME = "HIGH RESOLUTION STEREO CAMERA"
MISSION_NAME = "MARS EXPRESS"
MISSION_PHASE_NAME = ME_Phase_18
PROCESSING_LEVEL_ID = 4
PRODUCT_CREATION_TIME = 2023-02-02T15:10:19.000Z
PRODUCT_ID = "H7464_0001_P14.TIF"
RELEASE_ID = 0003
REVISION_ID = 0000
/* QUALITY DATA ELEMENTS */
DATA_QUALITY_ID = 1
DATA_QUALITY_DESC = "Data calculated based on original SPICE kernels"
/* TIME DATA ELEMENTS */
SPACECRAFT_CLOCK_START_COUNT = "1/0204793002.09066"
SPACECRAFT_CLOCK_STOP_COUNT = "1/0204793422.09846"
START_TIME = 2009-10-28T06:57:02.052Z
STOP_TIME = 2009-10-28T07:00:53.111Z
/* ORBITAL DATA ELEMENTS */
ASCENDING_NODE_LONGITUDE = 74.96
MAXIMUM_RESOLUTION = 0.045
FOOTPRINT_POINT_LATITUDE = (18.5336,18.5362,18.5375,18.5372, 18.5359,18.5324,18.5322,18.5278,17.8155 ,17.2132,16.7254,16.2342,15.7381, 15.4879,15.2286,14.7278,14.4721,14.085, 13.8259,13.5646,13.3021,13.0386,12.7727 ,12.507,12.2371,11.9676,11.5591,11.2858 ,11.0095,10.5931,10.3127,9.88832, 9.46017,9.17428,8.88415,8.59357,8.29982 ,7.8569,7.5597,7.25799,6.80498,6.50232, 6.19684,5.88924,5.42426,5.11288,4.95514 ,4.91056,4.90334,4.89781,4.892,4.88662, 4.87486,4.86864,4.86802,4.86872,5.34193 ,5.65529,5.96612,6.27416,6.58129, 6.88576,7.18826,7.48949,7.78761,8.08472 ,8.37874,8.81717,9.10791,9.39572, 9.68193,9.966,10.2488,10.5293,10.809, 11.0863,11.3631,11.637,11.9105,12.1809, 12.5857,12.8525,13.1194,13.3826,13.7769 ,14.0366,14.4252,14.6812,14.9375, 15.1907,15.4428,15.6952,15.9441,16.4414 ,16.9321,17.4174,17.7806,18.3756, 18.4948,18.5336)
FOOTPRINT_POINT_LONGITUDE = (71.0597,70.6708,70.1641,69.8519, 69.5392,69.0681,69.0484,69.0399,69.0216 ,69.0054,68.9917,68.9774,68.9627, 68.9555,68.9432,68.9308,68.9221,68.9089 ,68.8999,68.8908,68.8815,68.8719, 68.8623,68.8524,68.8421,68.8316,68.8157 ,68.8047,68.7937,68.7764,68.7643, 68.7455,68.726,68.7136,68.7001,68.6863, 68.6724,68.651,68.6363,68.6205,68.5976, 68.5826,68.5676,68.5519,68.5279,68.5119 ,68.5036,68.5015,69.0969,69.5882, 69.9752,70.3104,70.8768,71.1345,71.1602 ,71.1695,71.1659,71.1634,71.1612, 71.1589,71.1564,71.1541,71.1518,71.1496 ,71.1472,71.1449,71.1429,71.1397, 71.1376,71.1353,71.1334,71.1314,71.1294 ,71.1274,71.1253,71.1232,71.1211,71.119 ,71.1169,71.1148,71.1116,71.1095, 71.1075,71.1054,71.1024,71.1003,71.0972 ,71.0952,71.0931,71.0911,71.0891, 71.0871,71.0849,71.0805,71.0762,71.072, 71.0686,71.063,71.0618,71.0597)
ORBIT_NUMBER = 7464
ORBITAL_ECCENTRICITY = 0.571
ORBITAL_INCLINATION = 86.84
ORBITAL_SEMIMAJOR_AXIS = 8720.82
PERIAPSIS_ALTITUDE = 360.71
PERIAPSIS_ARGUMENT_ANGLE = 129.03
PERIAPSIS_TIME = 2009-10-28T06:48:57.000Z
SPACECRAFT_ORIENTATION = (0.0,-1.0,0.0)
^MEX_ORIENTATION_DESC = "MEX_ORIENTATION_DESC.TXT"
SPACECRAFT_POINTING_MODE = ACROSSTRACK
^MEX_POINTING_DESC = "MEX_POINTING_DESC.TXT"
RIGHT_ASCENSION = -1e+32
DECLINATION = -1e+32
OFFSET_ANGLE = -0.2
SPACECRAFT_SOLAR_DISTANCE = 2.33327e+08
TARGET_NAME = MARS
/* CAMERA DATA ELEMENTS */
DETECTOR_TEMPERATURE = 18.3705
FOCAL_PLANE_TEMPERATURE = 8.1755
INST_CMPRS_NAME = "DISCRETE COSINE TRANSFORMATION (DCT)"
INST_CMPRS_RATIO = 15.0744
INST_CMPRS_QUALITY = 0
INST_CMPRS_QUANTZ_TBL_ID = 0
INSTRUMENT_TEMPERATURE = 12.2535
LENS_TEMPERATURE = 8.7872
MACROPIXEL_SIZE = 2
MISSING_FRAMES = 0
PIXEL_SUBSAMPLING_FLAG = N
SIGNAL_CHAIN_ID = 3
/* RADIOMETRIC DATA ELEMENTS */
BANDWIDTH = 174.0
CENTER_FILTER_WAVELENGTH = 675.0
RADIANCE_OFFSET = 3.44666
RADIANCE_SCALING_FACTOR = 0.0146844
REFLECTANCE_SCALING_FACTOR = 0.000430006
MEX:REFLECTANCE_OFFSET = 0.100929
/* IMAGE OBJECT DEFINITIONS */
OBJECT = IMAGE
  INTERCHANGE_FORMAT = BINARY
  LINES = 16213
  LINE_SAMPLES = 3391
  SAMPLE_TYPE = UNSIGNED_INTEGER
  SAMPLE_BITS = 8
  BANDS = 1
  BAND_STORAGE_TYPE = BAND_SEQUENTIAL
  MAXIMUM = 255
  MEAN = 84.2632
  MINIMUM = 1
  STANDARD_DEVIATION = 38.3777
END_OBJECT = IMAGE
/* MAP OBJECT DEFINITIONS */
OBJECT = IMAGE_MAP_PROJECTION
  ^DATA_SET_MAP_PROJECTION_CATALOG= "DSMAP.CAT"
  A_AXIS_RADIUS = 3396.0
  B_AXIS_RADIUS = 3396.0
  C_AXIS_RADIUS = 3396.0
  CENTER_LATITUDE = 0.0
  CENTER_LONGITUDE = 70.0
  COORDINATE_SYSTEM_NAME = PLANETOGRAPHIC
  COORDINATE_SYSTEM_TYPE = "BODY-FIXED ROTATING"
  EASTERNMOST_LONGITUDE = 71.1695
  FIRST_STANDARD_PARALLEL = "N/A"
  LINE_FIRST_PIXEL = 1
  LINE_LAST_PIXEL = 16213
  LINE_PROJECTION_OFFSET = 21971.25
  MAP_PROJECTION_ROTATION = 0.0
  MAP_PROJECTION_TYPE = SINUSOIDAL
  MAP_RESOLUTION = 1185.42760773333
  MAP_SCALE = 0.05
  MAXIMUM_LATITUDE = 18.5375
  MINIMUM_LATITUDE = 4.86802
  POSITIVE_LONGITUDE_DIRECTION = EAST
  REFERENCE_LATITUDE = "N/A"
  REFERENCE_LONGITUDE = "N/A"
  SAMPLE_FIRST_PIXEL = 1
  SAMPLE_LAST_PIXEL = 3391
  SAMPLE_PROJECTION_OFFSET = 1894.75
  SECOND_STANDARD_PARALLEL = "N/A"
  WESTERNMOST_LONGITUDE = 68.50149999999999
END_OBJECT = IMAGE_MAP_PROJECTION
END
