PDS_VERSION_ID = PDS3
/* FILE DATA ELEMENTS */
RECORD_TYPE = UNDEFINED
/* POINTERS TO DATA OBJECTS */
^IMAGE = ("H7464_0001_GR4.TIF")
/* IDENTIFICATION DATA ELEMENTS */
DATA_SET_ID = "MEX-M-HRSC-4-REFDR-MAPPROJECT-EXT3-V4.0"
DATA_SET_NAME = "MARS EXPRESS HRSC MAP PROJECTED REFDR EXTENSION3 V4.0"
DETECTOR_ID = MEX_HRSC_GREEN
EVENT_TYPE = "MARS-REGIONAL-MAPPING-Vo-Te-Eo"
INSTRUMENT_HOST_ID = MEX
INSTRUMENT_HOST_NAME = "MARS EXPRESS"
INSTRUMENT_ID = HRSC
INSTRUMENT_NAME = "HIGH RESOLUTION STEREO CAMERA"
MISSION_NAME = "MARS EXPRESS"
MISSION_PHASE_NAME = ME_Phase_18
PROCESSING_LEVEL_ID = 4
PRODUCT_CREATION_TIME = 2023-02-02T15:10:19.000Z
PRODUCT_ID = "H7464_0001_GR4.TIF"
RELEASE_ID = 0003
REVISION_ID = 0000
/* QUALITY DATA ELEMENTS */
DATA_QUALITY_ID = 1
DATA_QUALITY_DESC = "Data calculated based on original SPICE kernels"
/* TIME DATA ELEMENTS */
SPACECRAFT_CLOCK_START_COUNT = "1/0204793002.09066"
SPACECRAFT_CLOCK_STOP_COUNT = "1/0204793422.09846"
START_TIME = 2009-10-28T06:57:28.823Z
STOP_TIME = 2009-10-28T07:01:34.252Z
/* ORBITAL DATA ELEMENTS */
ASCENDING_NODE_LONGITUDE = 74.96
MAXIMUM_RESOLUTION = 0.1819
FOOTPRINT_POINT_LATITUDE = (18.5047,18.5107,18.5136,18.5154, 18.5167,18.5174,18.5174,18.5138,18.0405 ,17.4403,16.9548,16.5884,16.0955, 15.3431,14.8368,14.5816,14.3255,14.0662 ,13.807,13.5457,13.2833,12.8864,12.6212 ,12.3525,12.0841,11.8124,11.4032, 11.1289,10.8519,10.5744,10.2937,9.8708, 9.44408,9.15784,8.86891,8.43293,7.99271 ,7.69758,7.39919,7.09912,6.79844, 6.49481,6.18956,5.88293,5.57394,5.10699 ,4.94962,4.89961,4.88963,4.8822,4.87666 ,4.86617,4.86026,4.84819,4.8382,4.83753 ,4.84066,5.15598,5.46936,5.77973, 6.08835,6.39565,6.7007,7.00314,7.30465, 7.60362,7.90075,8.19627,8.48977,8.78089 ,9.07127,9.35881,9.78714,10.0711, 10.3527,10.7723,11.0509,11.3264,11.6013 ,11.8737,12.1452,12.4147,12.6831, 12.9495,13.2151,13.4783,13.7411,14.0011 ,14.3901,14.647,14.9037,15.1573,15.5371 ,16.1623,16.7795,17.3887,17.8702,18.347 ,18.4657,18.5047)
FOOTPRINT_POINT_LONGITUDE = (71.0919,70.5316,70.1636,69.8537, 69.5431,69.0558,69.0363,69.0244,69.0116 ,68.9946,68.9805,68.9695,68.9542, 68.9269,68.9103,68.9041,68.8949,68.8855 ,68.876,68.8665,68.8567,68.8415,68.8312 ,68.8205,68.8096,68.7985,68.7811,68.77, 68.7581,68.7459,68.7331,68.7134,68.6928 ,68.6799,68.6656,68.6441,68.6218, 68.6066,68.5909,68.5743,68.5584,68.5425 ,68.5266,68.5101,68.4933,68.4681, 68.4593,68.4566,68.9502,69.3164,69.5773 ,70.0462,70.3068,70.8011,71.1915, 71.2175,71.2349,71.2314,71.228,71.2247, 71.2214,71.2181,71.2148,71.2115,71.2082 ,71.2057,71.202,71.1991,71.1961,71.1932 ,71.1903,71.1873,71.1833,71.1805, 71.1778,71.1737,71.1709,71.1681,71.1654 ,71.1627,71.1599,71.1572,71.1545, 71.1518,71.1491,71.1465,71.1439,71.1413 ,71.1373,71.1348,71.1322,71.1296, 71.1259,71.1192,71.1125,71.1062,71.1008 ,71.0955,71.0942,71.0919)
ORBIT_NUMBER = 7464
ORBITAL_ECCENTRICITY = 0.571
ORBITAL_INCLINATION = 86.84
ORBITAL_SEMIMAJOR_AXIS = 8720.82
PERIAPSIS_ALTITUDE = 360.71
PERIAPSIS_ARGUMENT_ANGLE = 129.03
PERIAPSIS_TIME = 2009-10-28T06:48:57.000Z
SPACECRAFT_ORIENTATION = (0.0,-1.0,0.0)
^MEX_ORIENTATION_DESC = "MEX_ORIENTATION_DESC.TXT"
SPACECRAFT_POINTING_MODE = ACROSSTRACK
^MEX_POINTING_DESC = "MEX_POINTING_DESC.TXT"
RIGHT_ASCENSION = -1e+32
DECLINATION = -1e+32
OFFSET_ANGLE = -0.2
SPACECRAFT_SOLAR_DISTANCE = 2.33327e+08
TARGET_NAME = MARS
/* CAMERA DATA ELEMENTS */
DETECTOR_TEMPERATURE = 19.1861
FOCAL_PLANE_TEMPERATURE = 8.1755
INST_CMPRS_NAME = "DISCRETE COSINE TRANSFORMATION (DCT)"
INST_CMPRS_RATIO = 16.4342
INST_CMPRS_QUALITY = 0
INST_CMPRS_QUANTZ_TBL_ID = 0
INSTRUMENT_TEMPERATURE = 12.2535
LENS_TEMPERATURE = 8.7872
MACROPIXEL_SIZE = 8
MISSING_FRAMES = 0
PIXEL_SUBSAMPLING_FLAG = N
SIGNAL_CHAIN_ID = 2
/* RADIOMETRIC DATA ELEMENTS */
BANDWIDTH = 88.0
CENTER_FILTER_WAVELENGTH = 538.0
RADIANCE_OFFSET = 1.45272
RADIANCE_SCALING_FACTOR = 0.00371801
REFLECTANCE_SCALING_FACTOR = 0.000174275
MEX:REFLECTANCE_OFFSET = 0.0680936
/* IMAGE OBJECT DEFINITIONS */
OBJECT = IMAGE
  INTERCHANGE_FORMAT = BINARY
  LINES = 4054
  LINE_SAMPLES = 848
  SAMPLE_TYPE = UNSIGNED_INTEGER
  SAMPLE_BITS = 8
  BANDS = 1
  BAND_STORAGE_TYPE = BAND_SEQUENTIAL
  MAXIMUM = 255
  MEAN = 117.748
  MINIMUM = 1
  STANDARD_DEVIATION = 37.6869
END_OBJECT = IMAGE
/* MAP OBJECT DEFINITIONS */
OBJECT = IMAGE_MAP_PROJECTION
  ^DATA_SET_MAP_PROJECTION_CATALOG= "DSMAP.CAT"
  A_AXIS_RADIUS = 3396.0
  B_AXIS_RADIUS = 3396.0
  C_AXIS_RADIUS = 3396.0
  CENTER_LATITUDE = 0.0
  CENTER_LONGITUDE = 70.0
  COORDINATE_SYSTEM_NAME = PLANETOGRAPHIC
  COORDINATE_SYSTEM_TYPE = "BODY-FIXED ROTATING"
  EASTERNMOST_LONGITUDE = 71.2349
  FIRST_STANDARD_PARALLEL = "N/A"
  LINE_FIRST_PIXEL = 1
  LINE_LAST_PIXEL = 4054
  LINE_PROJECTION_OFFSET = 5492.4375
  MAP_PROJECTION_ROTATION = 0.0
  MAP_PROJECTION_TYPE = SINUSOIDAL
  MAP_RESOLUTION = 296.356901933333
  MAP_SCALE = 0.2
  MAXIMUM_LATITUDE = 18.5174
  MINIMUM_LATITUDE = 4.83753
  POSITIVE_LONGITUDE_DIRECTION = EAST
  REFERENCE_LATITUDE = "N/A"
  REFERENCE_LONGITUDE = "N/A"
  SAMPLE_FIRST_PIXEL = 1
  SAMPLE_LAST_PIXEL = 848
  SAMPLE_PROJECTION_OFFSET = 473.3125
  SECOND_STANDARD_PARALLEL = "N/A"
  WESTERNMOST_LONGITUDE = 68.45659999999999
END_OBJECT = IMAGE_MAP_PROJECTION
END
