PDS_VERSION_ID = PDS3
/* FILE DATA ELEMENTS */
RECORD_TYPE = UNDEFINED
/* POINTERS TO DATA OBJECTS */
^IMAGE = ("H7462_0001_IR4.TIF")
/* IDENTIFICATION DATA ELEMENTS */
DATA_SET_ID = "MEX-M-HRSC-4-REFDR-MAPPROJECT-EXT3-V4.0"
DATA_SET_NAME = "MARS EXPRESS HRSC MAP PROJECTED REFDR EXTENSION3 V4.0"
DETECTOR_ID = MEX_HRSC_IR
EVENT_TYPE = "MARS-CLOUD-VARIABLE-At"
INSTRUMENT_HOST_ID = MEX
INSTRUMENT_HOST_NAME = "MARS EXPRESS"
INSTRUMENT_ID = HRSC
INSTRUMENT_NAME = "HIGH RESOLUTION STEREO CAMERA"
MISSION_NAME = "MARS EXPRESS"
MISSION_PHASE_NAME = ME_Phase_18
PROCESSING_LEVEL_ID = 4
PRODUCT_CREATION_TIME = 2023-02-02T15:10:19.000Z
PRODUCT_ID = "H7462_0001_IR4.TIF"
RELEASE_ID = 0003
REVISION_ID = 0000
/* QUALITY DATA ELEMENTS */
DATA_QUALITY_ID = 1
DATA_QUALITY_DESC = "Data calculated based on original SPICE kernels"
/* TIME DATA ELEMENTS */
SPACECRAFT_CLOCK_START_COUNT = "1/0204743658.09046"
SPACECRAFT_CLOCK_STOP_COUNT = "1/0204744588.17703"
START_TIME = 2009-10-27T17:14:20.663Z
STOP_TIME = 2009-10-27T17:21:32.105Z
/* ORBITAL DATA ELEMENTS */
ASCENDING_NODE_LONGITUDE = 75.01
MAXIMUM_RESOLUTION = 0.1371
FOOTPRINT_POINT_LATITUDE = (0.596556,0.61395,0.626008,0.640736, 0.65774,0.664869,0.665275,0.686404, -0.0376688,-0.518565,-0.997675,-1.47481 ,-1.94995,-2.42206,-2.89269,-3.36283, -4.06404,-4.54371,-5.23707,-5.92703, -6.40948,-7.09324,-7.75493,-8.19971, -8.88966,-9.5516,-10.2191,-10.664, -11.1059,-11.5465,-11.986,-12.6423, -13.2947,-13.7277,-14.1585,-14.588, -15.0159,-15.4424,-15.8673,-16.2906, -17.1316,-17.9667,-18.7954,-19.6171, -20.4327,-21.2425,-21.4437,-21.5263, -21.5558,-21.5935,-21.6169,-21.6482, -21.6804,-21.7139,-21.7355,-21.7374, -21.737,-20.9237,-20.1039,-19.2783, -18.4457,-17.6067,-16.7615,-15.91, -15.482,-15.0523,-14.6206,-14.1874, -13.7526,-13.3169,-12.8791,-12.4398, -11.9987,-11.5562,-11.1122,-10.6664, -10.2188,-9.7697,-9.3189,-8.86645, -8.41214,-7.95538,-7.50855,-6.83366, -6.36336,-5.88351,-5.42174,-4.75969, -4.27193,-3.54939,-3.07792,-2.60529, -2.12993,-1.65329,-1.1745,-0.693825, -0.211219,0.27269,0.515189,0.596556)
FOOTPRINT_POINT_LONGITUDE = (273.076,272.512,272.083,271.494, 270.663,270.233,270.206,270.208,270.163 ,270.132,270.101,270.07,270.038,270.007 ,269.975,269.942,269.892,269.853, 269.803,269.751,269.706,269.653,269.607 ,269.573,269.511,269.458,269.401, 269.361,269.321,269.281,269.24,269.178, 269.115,269.073,269.03,268.987,268.943, 268.899,268.854,268.809,268.718,268.625 ,268.531,268.435,268.337,268.237, 268.212,268.201,268.926,269.847,270.428 ,271.202,271.978,272.803,273.339, 273.388,273.404,273.381,273.36,273.339, 273.319,273.3,273.282,273.265,273.257, 273.249,273.241,273.233,273.226,273.219 ,273.211,273.205,273.198,273.191, 273.185,273.179,273.173,273.167,273.161 ,273.155,273.15,273.144,273.142,273.14, 273.132,273.121,273.117,273.124,273.113 ,273.101,273.097,273.094,273.09,273.086 ,273.083,273.079,273.075,273.072,273.07 ,273.076)
ORBIT_NUMBER = 7462
ORBITAL_ECCENTRICITY = 0.571
ORBITAL_INCLINATION = 86.82
ORBITAL_SEMIMAJOR_AXIS = 8721.14
PERIAPSIS_ALTITUDE = 360.93
PERIAPSIS_ARGUMENT_ANGLE = 129.38
PERIAPSIS_TIME = 2009-10-27T17:01:30.000Z
SPACECRAFT_ORIENTATION = (0.0,-1.0,0.0)
^MEX_ORIENTATION_DESC = "MEX_ORIENTATION_DESC.TXT"
SPACECRAFT_POINTING_MODE = NADIR
^MEX_POINTING_DESC = "MEX_POINTING_DESC.TXT"
RIGHT_ASCENSION = -1e+32
DECLINATION = -1e+32
OFFSET_ANGLE = -1e+32
SPACECRAFT_SOLAR_DISTANCE = 2.33222e+08
TARGET_NAME = MARS
/* CAMERA DATA ELEMENTS */
DETECTOR_TEMPERATURE = 18.7783
FOCAL_PLANE_TEMPERATURE = 8.5833
INST_CMPRS_NAME = "DISCRETE COSINE TRANSFORMATION (DCT)"
INST_CMPRS_RATIO = 18.4989
INST_CMPRS_QUALITY = 0
INST_CMPRS_QUANTZ_TBL_ID = 0
INSTRUMENT_TEMPERATURE = 12.6613
LENS_TEMPERATURE = 8.7872
MACROPIXEL_SIZE = 4
MISSING_FRAMES = 0
PIXEL_SUBSAMPLING_FLAG = N
SIGNAL_CHAIN_ID = 2
/* RADIOMETRIC DATA ELEMENTS */
BANDWIDTH = 81.0
CENTER_FILTER_WAVELENGTH = 955.5
RADIANCE_OFFSET = 0.80966
RADIANCE_SCALING_FACTOR = 0.0104662
REFLECTANCE_SCALING_FACTOR = 0.00122818
MEX:REFLECTANCE_OFFSET = 0.0950111
/* IMAGE OBJECT DEFINITIONS */
OBJECT = IMAGE
  INTERCHANGE_FORMAT = BINARY
  LINES = 13298
  LINE_SAMPLES = 3491
  SAMPLE_TYPE = UNSIGNED_INTEGER
  SAMPLE_BITS = 8
  BANDS = 1
  BAND_STORAGE_TYPE = BAND_SEQUENTIAL
  MAXIMUM = 255
  MEAN = 126.417
  MINIMUM = 1
  STANDARD_DEVIATION = 38.5377
END_OBJECT = IMAGE
/* MAP OBJECT DEFINITIONS */
OBJECT = IMAGE_MAP_PROJECTION
  ^DATA_SET_MAP_PROJECTION_CATALOG= "DSMAP.CAT"
  A_AXIS_RADIUS = 3396.0
  B_AXIS_RADIUS = 3396.0
  C_AXIS_RADIUS = 3396.0
  CENTER_LATITUDE = 0.0
  CENTER_LONGITUDE = 271.0
  COORDINATE_SYSTEM_NAME = PLANETOGRAPHIC
  COORDINATE_SYSTEM_TYPE = "BODY-FIXED ROTATING"
  EASTERNMOST_LONGITUDE = 273.404
  FIRST_STANDARD_PARALLEL = "N/A"
  LINE_FIRST_PIXEL = 1
  LINE_LAST_PIXEL = 13298
  LINE_PROJECTION_OFFSET = 401.0
  MAP_PROJECTION_ROTATION = 0.0
  MAP_PROJECTION_TYPE = SINUSOIDAL
  MAP_RESOLUTION = 592.713803866667
  MAP_SCALE = 0.1
  MAXIMUM_LATITUDE = 0.686404
  MINIMUM_LATITUDE = -21.7374
  POSITIVE_LONGITUDE_DIRECTION = EAST
  REFERENCE_LATITUDE = "N/A"
  REFERENCE_LONGITUDE = "N/A"
  SAMPLE_FIRST_PIXEL = 1
  SAMPLE_LAST_PIXEL = 3491
  SAMPLE_PROJECTION_OFFSET = 1854.0
  SECOND_STANDARD_PARALLEL = "N/A"
  WESTERNMOST_LONGITUDE = 268.201
END_OBJECT = IMAGE_MAP_PROJECTION
END
