PDS_VERSION_ID = PDS3
/* FILE DATA ELEMENTS */
RECORD_TYPE = UNDEFINED
/* POINTERS TO DATA OBJECTS */
^IMAGE = ("H7458_0000_RE4.TIF")
/* IDENTIFICATION DATA ELEMENTS */
DATA_SET_ID = "MEX-M-HRSC-4-REFDR-MAPPROJECT-EXT3-V4.0"
DATA_SET_NAME = "MARS EXPRESS HRSC MAP PROJECTED REFDR EXTENSION3 V4.0"
DETECTOR_ID = MEX_HRSC_RED
EVENT_TYPE = "MARS-REGIONAL-MAPPING-Fl-Pf-Eo"
INSTRUMENT_HOST_ID = MEX
INSTRUMENT_HOST_NAME = "MARS EXPRESS"
INSTRUMENT_ID = HRSC
INSTRUMENT_NAME = "HIGH RESOLUTION STEREO CAMERA"
MISSION_NAME = "MARS EXPRESS"
MISSION_PHASE_NAME = ME_Phase_18
PROCESSING_LEVEL_ID = 4
PRODUCT_CREATION_TIME = 2023-02-02T15:10:19.000Z
PRODUCT_ID = "H7458_0000_RE4.TIF"
RELEASE_ID = 0003
REVISION_ID = 0000
/* QUALITY DATA ELEMENTS */
DATA_QUALITY_ID = 1
DATA_QUALITY_DESC = "Data calculated based on original SPICE kernels"
/* TIME DATA ELEMENTS */
SPACECRAFT_CLOCK_START_COUNT = "1/0204643737.07297"
SPACECRAFT_CLOCK_STOP_COUNT = "1/0204644079.52020"
START_TIME = 2009-10-26T13:30:05.324Z
STOP_TIME = 2009-10-26T13:34:30.060Z
/* ORBITAL DATA ELEMENTS */
ASCENDING_NODE_LONGITUDE = 75.09
MAXIMUM_RESOLUTION = 0.1347
FOOTPRINT_POINT_LATITUDE = (37.741,37.718,37.699,37.6789,37.6783, 37.7363,37.3169,36.7591,36.2032,35.6371 ,35.2113,34.6457,34.2126,33.9239, 33.6359,33.3486,33.0561,32.7624,32.4691 ,32.1764,31.8796,31.5809,31.2829, 30.9856,30.5312,30.2281,29.9258,29.6184 ,29.3105,29.0035,28.6929,28.38,28.0683, 27.753,27.4355,27.119,26.7979,26.3159, 25.8273,25.5012,25.006,24.6756,24.3404, 24.0052,23.4967,22.9853,22.6409,22.4692 ,22.2996,22.3051,22.3137,22.3226, 22.3276,22.3342,22.3345,22.3371,22.8564 ,23.2016,23.5416,24.0512,24.3871, 24.7229,25.0541,25.5504,25.8771,26.3663 ,26.6883,27.1714,27.4889,27.807,28.1229 ,28.4353,28.7488,29.06,29.3676,29.6761, 29.9839,30.2865,30.5898,31.0448,31.3427 ,31.6411,31.9403,32.2375,32.5307, 32.8245,33.1189,33.412,33.7003,33.9889, 34.278,34.7117,35.2783,35.5624,35.847, 36.2717,36.8284,37.5269,37.6671,37.741)
FOOTPRINT_POINT_LONGITUDE = (317.189,316.503,315.979,315.464, 315.448,315.444,315.447,315.451,315.453 ,315.455,315.456,315.456,315.456, 315.455,315.454,315.453,315.452,315.45, 315.449,315.447,315.445,315.442,315.44, 315.437,315.432,315.429,315.425,315.421 ,315.417,315.412,315.408,315.403, 315.398,315.392,315.387,315.381,315.375 ,315.365,315.355,315.347,315.336, 315.328,315.32,315.311,315.298,315.284, 315.274,315.269,315.264,315.572,316.061 ,316.615,316.935,317.338,317.359, 317.372,317.368,317.365,317.362,317.358 ,317.356,317.353,317.351,317.347, 317.344,317.341,317.338,317.335,317.332 ,317.33,317.328,317.325,317.323,317.321 ,317.318,317.316,317.314,317.311, 317.309,317.305,317.303,317.301,317.298 ,317.296,317.294,317.292,317.289, 317.287,317.285,317.283,317.28,317.277, 317.272,317.27,317.268,317.264,317.259, 317.253,317.252,317.189)
ORBIT_NUMBER = 7458
ORBITAL_ECCENTRICITY = 0.57
ORBITAL_INCLINATION = 86.83
ORBITAL_SEMIMAJOR_AXIS = 8715.61
PERIAPSIS_ALTITUDE = 360.88
PERIAPSIS_ARGUMENT_ANGLE = 130.1
PERIAPSIS_TIME = 2009-10-26T13:26:26.000Z
SPACECRAFT_ORIENTATION = (0.0,-1.0,0.0)
^MEX_ORIENTATION_DESC = "MEX_ORIENTATION_DESC.TXT"
SPACECRAFT_POINTING_MODE = ACROSSTRACK
^MEX_POINTING_DESC = "MEX_POINTING_DESC.TXT"
RIGHT_ASCENSION = -1e+32
DECLINATION = -1e+32
OFFSET_ANGLE = 0.8
SPACECRAFT_SOLAR_DISTANCE = 2.3301e+08
TARGET_NAME = MARS
/* CAMERA DATA ELEMENTS */
DETECTOR_TEMPERATURE = 18.7783
FOCAL_PLANE_TEMPERATURE = 8.5833
INST_CMPRS_NAME = "DISCRETE COSINE TRANSFORMATION (DCT)"
INST_CMPRS_RATIO = 26.226
INST_CMPRS_QUALITY = 0
INST_CMPRS_QUANTZ_TBL_ID = 0
INSTRUMENT_TEMPERATURE = 11.0301
LENS_TEMPERATURE = 8.7872
MACROPIXEL_SIZE = 8
MISSING_FRAMES = 0
PIXEL_SUBSAMPLING_FLAG = N
SIGNAL_CHAIN_ID = 2
/* RADIOMETRIC DATA ELEMENTS */
BANDWIDTH = 48.0
CENTER_FILTER_WAVELENGTH = 748.0
RADIANCE_OFFSET = 1.02758
RADIANCE_SCALING_FACTOR = 0.00517021
REFLECTANCE_SCALING_FACTOR = 0.000640595
MEX:REFLECTANCE_OFFSET = 0.127318
/* IMAGE OBJECT DEFINITIONS */
OBJECT = IMAGE
  INTERCHANGE_FORMAT = BINARY
  LINES = 9169
  LINE_SAMPLES = 1088
  SAMPLE_TYPE = UNSIGNED_INTEGER
  SAMPLE_BITS = 8
  BANDS = 1
  BAND_STORAGE_TYPE = BAND_SEQUENTIAL
  MAXIMUM = 255
  MEAN = 113.063
  MINIMUM = 1
  STANDARD_DEVIATION = 49.2491
END_OBJECT = IMAGE
/* MAP OBJECT DEFINITIONS */
OBJECT = IMAGE_MAP_PROJECTION
  ^DATA_SET_MAP_PROJECTION_CATALOG= "DSMAP.CAT"
  A_AXIS_RADIUS = 3396.0
  B_AXIS_RADIUS = 3396.0
  C_AXIS_RADIUS = 3396.0
  CENTER_LATITUDE = 0.0
  CENTER_LONGITUDE = 316.0
  COORDINATE_SYSTEM_NAME = PLANETOGRAPHIC
  COORDINATE_SYSTEM_TYPE = "BODY-FIXED ROTATING"
  EASTERNMOST_LONGITUDE = 317.372
  FIRST_STANDARD_PARALLEL = "N/A"
  LINE_FIRST_PIXEL = 1
  LINE_LAST_PIXEL = 9169
  LINE_PROJECTION_OFFSET = 22381.4375
  MAP_PROJECTION_ROTATION = 0.0
  MAP_PROJECTION_TYPE = SINUSOIDAL
  MAP_RESOLUTION = 592.713803866667
  MAP_SCALE = 0.1
  MAXIMUM_LATITUDE = 37.741
  MINIMUM_LATITUDE = 22.2996
  POSITIVE_LONGITUDE_DIRECTION = EAST
  REFERENCE_LATITUDE = "N/A"
  REFERENCE_LONGITUDE = "N/A"
  SAMPLE_FIRST_PIXEL = 1
  SAMPLE_LAST_PIXEL = 1088
  SAMPLE_PROJECTION_OFFSET = 378.5625
  SECOND_STANDARD_PARALLEL = "N/A"
  WESTERNMOST_LONGITUDE = 315.264
END_OBJECT = IMAGE_MAP_PROJECTION
END
