PDS_VERSION_ID = PDS3
/* FILE DATA ELEMENTS */
RECORD_TYPE = UNDEFINED
/* POINTERS TO DATA OBJECTS */
^IMAGE = ("H7454_0001_GR4.TIF")
/* IDENTIFICATION DATA ELEMENTS */
DATA_SET_ID = "MEX-M-HRSC-4-REFDR-MAPPROJECT-EXT3-V4.0"
DATA_SET_NAME = "MARS EXPRESS HRSC MAP PROJECTED REFDR EXTENSION3 V4.0"
DETECTOR_ID = MEX_HRSC_GREEN
EVENT_TYPE = "MARS-REGIONAL-MAPPING-Im-Fl-La"
INSTRUMENT_HOST_ID = MEX
INSTRUMENT_HOST_NAME = "MARS EXPRESS"
INSTRUMENT_ID = HRSC
INSTRUMENT_NAME = "HIGH RESOLUTION STEREO CAMERA"
MISSION_NAME = "MARS EXPRESS"
MISSION_PHASE_NAME = ME_Phase_18
PROCESSING_LEVEL_ID = 4
PRODUCT_CREATION_TIME = 2023-02-02T15:10:19.000Z
PRODUCT_ID = "H7454_0001_GR4.TIF"
RELEASE_ID = 0003
REVISION_ID = 0000
/* QUALITY DATA ELEMENTS */
DATA_QUALITY_ID = 1
DATA_QUALITY_DESC = "Data calculated based on original SPICE kernels"
/* TIME DATA ELEMENTS */
SPACECRAFT_CLOCK_START_COUNT = "1/0204544677.07296"
SPACECRAFT_CLOCK_STOP_COUNT = "1/0204545035.02859"
START_TIME = 2009-10-25T09:58:38.327Z
STOP_TIME = 2009-10-25T10:02:14.153Z
/* ORBITAL DATA ELEMENTS */
ASCENDING_NODE_LONGITUDE = 75.17
MAXIMUM_RESOLUTION = 0.1642
FOOTPRINT_POINT_LATITUDE = (21.4021,21.4066,21.4089,21.4099, 21.4104,21.41,21.41,21.4026,20.6945, 19.9752,19.3667,18.876,18.6288,18.2558, 18.0047,17.7539,17.5003,17.2456,16.991, 16.6036,16.3455,16.0879,15.8307,15.5739 ,15.3177,15.0619,14.8064,14.5515, 14.2969,14.043,13.7894,13.5363,13.2837, 13.0317,12.78,12.5288,12.2781,12.0278, 11.7781,11.5289,11.2792,10.9078,10.6601 ,10.4129,10.1664,9.67451,9.18466, 9.06252,8.94559,8.94008,8.93475,8.92826 ,8.92154,8.91631,8.91077,8.9031,8.90259 ,8.9048,9.51724,10.0111,10.3822,10.63, 10.8785,11.1274,11.3766,11.6266,11.877, 12.1278,12.3792,12.631,12.8833,13.1361, 13.5155,13.7698,14.0239,14.2786,14.5338 ,14.7894,15.0455,15.302,15.6866,16.0745 ,16.3329,16.7212,16.98,17.2352,17.4905, 17.7446,17.9962,18.2482,18.6218,18.8698 ,19.1182,19.6062,20.0905,20.452,20.8105 ,21.1646,21.2834,21.4021)
FOOTPRINT_POINT_LONGITUDE = (359.769,359.256,358.867,358.584, 358.195,357.912,357.894,357.875,357.861 ,357.846,357.831,357.82,357.814,357.804 ,357.797,357.791,357.784,357.777, 357.769,357.759,357.751,357.743,357.735 ,357.727,357.719,357.711,357.702, 357.694,357.685,357.676,357.667,357.658 ,357.649,357.639,357.63,357.621,357.611 ,357.601,357.591,357.582,357.57,357.556 ,357.546,357.535,357.525,357.503, 357.481,357.475,357.47,357.855,358.151, 358.584,358.949,359.223,359.496,359.86, 359.883,359.898,359.895,359.888,359.885 ,359.883,359.88,359.878,359.876,359.873 ,359.871,359.868,359.866,359.863, 359.861,359.858,359.856,359.853,359.851 ,359.848,359.846,359.844,359.841, 359.839,359.838,359.832,359.829,359.826 ,359.824,359.821,359.819,359.817, 359.814,359.811,359.808,359.805,359.803 ,359.798,359.795,359.789,359.786, 359.783,359.781,359.769)
ORBIT_NUMBER = 7454
ORBITAL_ECCENTRICITY = 0.57
ORBITAL_INCLINATION = 86.82
ORBITAL_SEMIMAJOR_AXIS = 8718.61
PERIAPSIS_ALTITUDE = 360.54
PERIAPSIS_ARGUMENT_ANGLE = 130.76
PERIAPSIS_TIME = 2009-10-25T09:51:25.000Z
SPACECRAFT_ORIENTATION = (0.0,-1.0,0.0)
^MEX_ORIENTATION_DESC = "MEX_ORIENTATION_DESC.TXT"
SPACECRAFT_POINTING_MODE = NADIR
^MEX_POINTING_DESC = "MEX_POINTING_DESC.TXT"
RIGHT_ASCENSION = -1e+32
DECLINATION = -1e+32
OFFSET_ANGLE = -1e+32
SPACECRAFT_SOLAR_DISTANCE = 2.32797e+08
TARGET_NAME = MARS
/* CAMERA DATA ELEMENTS */
DETECTOR_TEMPERATURE = 19.39
FOCAL_PLANE_TEMPERATURE = 8.3794
INST_CMPRS_NAME = "DISCRETE COSINE TRANSFORMATION (DCT)"
INST_CMPRS_RATIO = 20.4241
INST_CMPRS_QUALITY = 0
INST_CMPRS_QUANTZ_TBL_ID = 0
INSTRUMENT_TEMPERATURE = 12.8652
LENS_TEMPERATURE = 8.9911
MACROPIXEL_SIZE = 8
MISSING_FRAMES = 0
PIXEL_SUBSAMPLING_FLAG = N
SIGNAL_CHAIN_ID = 2
/* RADIOMETRIC DATA ELEMENTS */
BANDWIDTH = 88.0
CENTER_FILTER_WAVELENGTH = 538.0
RADIANCE_OFFSET = 1.91327
RADIANCE_SCALING_FACTOR = 0.00515833
REFLECTANCE_SCALING_FACTOR = 0.000240689
MEX:REFLECTANCE_OFFSET = 0.0892736
/* IMAGE OBJECT DEFINITIONS */
OBJECT = IMAGE
  INTERCHANGE_FORMAT = BINARY
  LINES = 3706
  LINE_SAMPLES = 733
  SAMPLE_TYPE = UNSIGNED_INTEGER
  SAMPLE_BITS = 8
  BANDS = 1
  BAND_STORAGE_TYPE = BAND_SEQUENTIAL
  MAXIMUM = 255
  MEAN = 124.672
  MINIMUM = 1
  STANDARD_DEVIATION = 24.2765
END_OBJECT = IMAGE
/* MAP OBJECT DEFINITIONS */
OBJECT = IMAGE_MAP_PROJECTION
  ^DATA_SET_MAP_PROJECTION_CATALOG= "DSMAP.CAT"
  A_AXIS_RADIUS = 3396.0
  B_AXIS_RADIUS = 3396.0
  C_AXIS_RADIUS = 3396.0
  CENTER_LATITUDE = 0.0
  CENTER_LONGITUDE = 359.0
  COORDINATE_SYSTEM_NAME = PLANETOGRAPHIC
  COORDINATE_SYSTEM_TYPE = "BODY-FIXED ROTATING"
  EASTERNMOST_LONGITUDE = 359.898
  FIRST_STANDARD_PARALLEL = "N/A"
  LINE_FIRST_PIXEL = 1
  LINE_LAST_PIXEL = 3706
  LINE_PROJECTION_OFFSET = 6342.8125
  MAP_PROJECTION_ROTATION = 0.0
  MAP_PROJECTION_TYPE = SINUSOIDAL
  MAP_RESOLUTION = 296.356901933333
  MAP_SCALE = 0.2
  MAXIMUM_LATITUDE = 21.4104
  MINIMUM_LATITUDE = 8.90259
  POSITIVE_LONGITUDE_DIRECTION = EAST
  REFERENCE_LATITUDE = "N/A"
  REFERENCE_LONGITUDE = "N/A"
  SAMPLE_FIRST_PIXEL = 1
  SAMPLE_LAST_PIXEL = 733
  SAMPLE_PROJECTION_OFFSET = 462.5625
  SECOND_STANDARD_PARALLEL = "N/A"
  WESTERNMOST_LONGITUDE = 357.47
END_OBJECT = IMAGE_MAP_PROJECTION
END
